From mboxrd@z Thu Jan  1 00:00:00 1970
Return-Path: <test-report-bounces@dpdk.org>
Received: from mails.dpdk.org (mails.dpdk.org [217.70.189.124])
	by inbox.dpdk.org (Postfix) with ESMTP id E993F43BD7
	for <public@inbox.dpdk.org>; Tue,  5 Mar 2024 04:21:32 +0100 (CET)
Received: from mails.dpdk.org (localhost [127.0.0.1])
	by mails.dpdk.org (Postfix) with ESMTP id E512E40270;
	Tue,  5 Mar 2024 04:21:32 +0100 (CET)
Received: from mail-ua1-f98.google.com (mail-ua1-f98.google.com
 [209.85.222.98]) by mails.dpdk.org (Postfix) with ESMTP id 6FC774026B
 for <test-report@dpdk.org>; Tue,  5 Mar 2024 04:21:32 +0100 (CET)
Received: by mail-ua1-f98.google.com with SMTP id
 a1e0cc1a2514c-7db26980225so1003475241.0
 for <test-report@dpdk.org>; Mon, 04 Mar 2024 19:21:32 -0800 (PST)
DKIM-Signature: v=1; a=rsa-sha256; c=relaxed/relaxed;
 d=iol.unh.edu; s=unh-iol; t=1709608892; x=1710213692; darn=dpdk.org;
 h=references:in-reply-to:cc:to:from:subject:message-id:date:from:to
 :cc:subject:date:message-id:reply-to;
 bh=YLlpkzqPzCnoS951OehC2dmEvLNxFEj7A0zeVNeE5DM=;
 b=GnsozWp4reckHdA1Oe5VB2LF3OAU/XFBHGsXAgYMwXKrWcBJSWU0BKSQsCXE5WpbAE
 odLqrrfpTs2VTfgBmu0lsH3VxOrbDY7GPOk4oe5DG2wT4dfrhx4QcDcUAuN3tQuVi8st
 i9BZmWY8kHniEw94eL71uJtkbv7aUGis2eg5I=
X-Google-DKIM-Signature: v=1; a=rsa-sha256; c=relaxed/relaxed;
 d=1e100.net; s=20230601; t=1709608892; x=1710213692;
 h=references:in-reply-to:cc:to:from:subject:message-id:date
 :x-gm-message-state:from:to:cc:subject:date:message-id:reply-to;
 bh=YLlpkzqPzCnoS951OehC2dmEvLNxFEj7A0zeVNeE5DM=;
 b=wJ2fcYilL5AB5BZyBixTK67UfbeTEDqjPr2FLNW5YGolMsjEqPRZ/R4cS8Pb+ZPQkH
 Gd/alFGLtWNRnxu50u/OKocT66sgjE+qIA/89MqEjDkyRjDShhpeYiXmpEXVcHB5GzLA
 1vaY+sgUbP0d7+GoQzljKvafbWclEL49VMagC3LqJGM1qOkd/rXxAeMFwd3BPVl1S4ir
 61boqJGltk9uJNM/NTBRCXXOZyO8hsFUnJ1vmToY5NwFVs7opQWJWcEQHvlR7Ck6LbnP
 XuxFjD+8NJJEnkGdZJc+7InVFFitbJlg5bohvjNSBWzbGD5GF1s6HpViD/VSRkn9alpu
 wHTQ==
X-Gm-Message-State: AOJu0Yx6JQDxJTKxWr6WK7MrpwwY9hWI5SJ0tx4BcafiSou6pkKIATeX
 NfAjwszyG6UcO2GF9sZl+c0ugQodVbzJPxjU0YEkNug8/8LK2omKQmibHiWLt7s+WT2TGfNkeQP
 58DrrUAAagA1o/0G+2TvZ0Ln9zscFTb7Q88hTaeS5F25Wbh0Sn9SJEvd5
X-Google-Smtp-Source: AGHT+IHg1U97eUAjvIW3NmN0OwPbTZgt3xM+mxmfADEwmdKXIPzlzzZ6FhmQeIlNjb7bN5fS+Tc2vnultsIQ
X-Received: by 2002:a05:6102:ca:b0:472:7b4e:a288 with SMTP id
 u10-20020a05610200ca00b004727b4ea288mr698702vsp.29.1709608891961; 
 Mon, 04 Mar 2024 19:21:31 -0800 (PST)
Received: from postal.iol.unh.edu (postal.iol.unh.edu.
 [2606:4100:3880:1234::84]) by smtp-relay.gmail.com with ESMTPS id
 ey7-20020a0562140b6700b0069008ac1116sm570198qvb.59.2024.03.04.19.21.31
 (version=TLS1_2 cipher=ECDHE-ECDSA-AES128-GCM-SHA256 bits=128/128);
 Mon, 04 Mar 2024 19:21:31 -0800 (PST)
X-Relaying-Domain: iol.unh.edu
Date: Mon, 04 Mar 2024 19:21:31 -0800 (PST)
Message-ID: <65e68fbb.050a0220.f047.5a30SMTPIN_ADDED_MISSING@mx.google.com>
Received: from [172.21.0.7] (unknown [172.18.0.240])
 by postal.iol.unh.edu (Postfix) with ESMTP id A27436043484;
 Mon,  4 Mar 2024 22:21:31 -0500 (EST)
Subject: |SUCCESS| pw137955-137959 [PATCH] [5/5] net/nfp: use big-endian meta
From: dpdklab@iol.unh.edu
To: Test Report <test-report@dpdk.org>
Cc: dpdk-test-reports@iol.unh.edu
In-Reply-To: <20240305022923.891544-6-chaoyong.he@corigine.com>
References: <20240305022923.891544-6-chaoyong.he@corigine.com>
Content-Type: text/plain
X-BeenThere: test-report@dpdk.org
X-Mailman-Version: 2.1.29
Precedence: list
List-Id: automatic DPDK test reports <test-report.dpdk.org>
List-Unsubscribe: <https://mails.dpdk.org/options/test-report>,
 <mailto:test-report-request@dpdk.org?subject=unsubscribe>
List-Archive: <http://mails.dpdk.org/archives/test-report/>
List-Post: <mailto:test-report@dpdk.org>
List-Help: <mailto:test-report-request@dpdk.org?subject=help>
List-Subscribe: <https://mails.dpdk.org/listinfo/test-report>,
 <mailto:test-report-request@dpdk.org?subject=subscribe>
Errors-To: test-report-bounces@dpdk.org

Test-Label: iol-compile-amd64-testing
Test-Status: SUCCESS
http://dpdk.org/patch/137959

_Testing PASS_

Submitter: Chaoyong He <chaoyong.he@corigine.com>
Date: Tuesday, March 05 2024 02:29:23 
DPDK git baseline: Repo:dpdk
  Branch: master
  CommitID:29c516fa4f5bac381825667b5bdb1ced4548c6bc

137955-137959 --> testing pass

Test environment and result as below:

+---------------------+--------------------+----------------------+
|     Environment     | dpdk_meson_compile | dpdk_mingw64_compile |
+=====================+====================+======================+
| Windows Server 2022 | PASS               | SKIPPED              |
+---------------------+--------------------+----------------------+
| FreeBSD 13.2        | PASS               | SKIPPED              |
+---------------------+--------------------+----------------------+
| Debian 12 (arm)     | PASS               | SKIPPED              |
+---------------------+--------------------+----------------------+
| Debian Bullseye     | PASS               | SKIPPED              |
+---------------------+--------------------+----------------------+
| Windows Server 2019 | PASS               | PASS                 |
+---------------------+--------------------+----------------------+
| CentOS Stream 9     | PASS               | SKIPPED              |
+---------------------+--------------------+----------------------+
| Fedora 37           | PASS               | SKIPPED              |
+---------------------+--------------------+----------------------+
| CentOS Stream 8     | PASS               | SKIPPED              |
+---------------------+--------------------+----------------------+


Windows Server 2022
	Kernel: OS Build 20348.2031
	Compiler: MSVC VS-Preview

FreeBSD 13.2
	Kernel: 13.2
	Compiler: clang 11.3.0

Debian 12 (arm)
	Kernel: Container Host Kernel
	Compiler: gcc 11

Debian Bullseye
	Kernel: 5.4.0-122-generic
	Compiler: gcc 10.2.1-6

Windows Server 2019
	Kernel: 10.0
	Compiler: clang 14.0 and gcc 8.1.0 (MinGW)

CentOS Stream 9
	Kernel: 4.18.0-240.10.1.el8_3.x86_64
	Compiler: gcc 11.3.1 20220421

Fedora 37
	Kernel: Depends on container host system
	Compiler: gcc 12.3.1

CentOS Stream 8
	Kernel: 4.18.0-240.10.1.el8_3.x86_64
	Compiler: gcc 8.4.1 20200928

To view detailed results, visit:
https://lab.dpdk.org/results/dashboard/patchsets/29407/

UNH-IOL DPDK Community Lab

To manage your email subscriptions, visit: 
https://lab.dpdk.org/results/dashboard/preferences/subscriptions/