From mboxrd@z Thu Jan  1 00:00:00 1970
Return-Path: <test-report-bounces@dpdk.org>
Received: from mails.dpdk.org (mails.dpdk.org [217.70.189.124])
	by inbox.dpdk.org (Postfix) with ESMTP id 5CE5943C4F
	for <public@inbox.dpdk.org>; Tue,  5 Mar 2024 09:17:29 +0100 (CET)
Received: from mails.dpdk.org (localhost [127.0.0.1])
	by mails.dpdk.org (Postfix) with ESMTP id 56DD14026B;
	Tue,  5 Mar 2024 09:17:29 +0100 (CET)
Received: from mail-qk1-f227.google.com (mail-qk1-f227.google.com
 [209.85.222.227])
 by mails.dpdk.org (Postfix) with ESMTP id 3D0924014F
 for <test-report@dpdk.org>; Tue,  5 Mar 2024 09:17:28 +0100 (CET)
Received: by mail-qk1-f227.google.com with SMTP id
 af79cd13be357-78822e21a9dso84703085a.2
 for <test-report@dpdk.org>; Tue, 05 Mar 2024 00:17:28 -0800 (PST)
DKIM-Signature: v=1; a=rsa-sha256; c=relaxed/relaxed;
 d=iol.unh.edu; s=unh-iol; t=1709626647; x=1710231447; darn=dpdk.org;
 h=references:in-reply-to:cc:to:from:subject:message-id:date:from:to
 :cc:subject:date:message-id:reply-to;
 bh=YYZr71fnefnQ1t4S8Tr+xMmD5z0kftBcJqhlDfE/TAM=;
 b=LnmXVetM2DtzJxSuhE8FVA8Gkv5iqcIzhiajF5XAbPxkagJVrNUWCFaR6mlOUyQeSo
 G6bk2zc84KOCcuUxCnKUt0/urUnXIEYhptBGD3BwKeff7+t852qR4Y5xwv6Y6r4WpSzM
 ll+BnpkSZdmGEg+NvZcuSriyC2SgmqFztbJUY=
X-Google-DKIM-Signature: v=1; a=rsa-sha256; c=relaxed/relaxed;
 d=1e100.net; s=20230601; t=1709626647; x=1710231447;
 h=references:in-reply-to:cc:to:from:subject:message-id:date
 :x-gm-message-state:from:to:cc:subject:date:message-id:reply-to;
 bh=YYZr71fnefnQ1t4S8Tr+xMmD5z0kftBcJqhlDfE/TAM=;
 b=gGGVBCPsxb1nLZA8OidGcq9AgMCYo+WoycihgdOEfdMuuLbPieoQiPA2/hQz0SQpuY
 QJB9oMNeu44GhC8B6MreFM+EQR2AEBv26FEVhLoDSffd9ylczhC9xjhf+MVF/09dCXqK
 mW4Djqkyjyk9bvKgb50UHNQb0VzQTe4iRQIE4rHWWS5LxQr4fB43XXDUDwXoqn622ksc
 uOVEWl3fmmaL8L5BngC/f24sNjuY0fgBgIz+naS4fl0gGLtgjkcOVQNM4exD/V27vU8N
 jMZOur+CTO3AaiJNIpjs/7stvpa1zN5zi9lj0+s6++J8IrUzCfpCKbTj+mCgZX5PDb6I
 xyIA==
X-Gm-Message-State: AOJu0Yzzqkj2b19QbbeHxq2GsdVQnqi9Vrcz7cglyMkCxOCnSyeaYK1K
 5lFjLHLPUAYSjNOk3m8syoQhHDBEf2UP3w6t8OdgzLI7+1ulpeUg2cGhkL68s6b8VtyYQtyDZ2P
 eQDQ0xNNr/0Pu7J/fOVItvjFiISuyleN485egGZ/JB5ML26bhN/Xmc93+
X-Google-Smtp-Source: AGHT+IHBvpMFnm5vnJJSv8SiPz64WTi3Eh/6UK2VDA+Re9FeKDs8XRjCxDp6oztKz0K3qKDSzrOMMfIehCvP
X-Received: by 2002:a05:622a:1803:b0:42e:ec4c:420 with SMTP id
 t3-20020a05622a180300b0042eec4c0420mr1252313qtc.15.1709626647693; 
 Tue, 05 Mar 2024 00:17:27 -0800 (PST)
Received: from postal.iol.unh.edu (postal.iol.unh.edu.
 [2606:4100:3880:1234::84]) by smtp-relay.gmail.com with ESMTPS id
 bx3-20020a05622a090300b0042f02514d4csm45784qtb.6.2024.03.05.00.17.27
 (version=TLS1_2 cipher=ECDHE-ECDSA-AES128-GCM-SHA256 bits=128/128);
 Tue, 05 Mar 2024 00:17:27 -0800 (PST)
X-Relaying-Domain: iol.unh.edu
Date: Tue, 05 Mar 2024 00:17:27 -0800 (PST)
Message-ID: <65e6d517.050a0220.815d5.2d78SMTPIN_ADDED_MISSING@mx.google.com>
Received: from [172.21.0.6] (unknown [172.18.0.240])
 by postal.iol.unh.edu (Postfix) with ESMTP id 5C0E96043300;
 Tue,  5 Mar 2024 03:17:27 -0500 (EST)
Subject: |SUCCESS| pw137960 [PATCH] [v2] hash: make GFNI stubs inline (again)
From: dpdklab@iol.unh.edu
To: Test Report <test-report@dpdk.org>
Cc: dpdk-test-reports@iol.unh.edu
In-Reply-To: <20240305030819.276707-1-stephen@networkplumber.org>
References: <20240305030819.276707-1-stephen@networkplumber.org>
Content-Type: text/plain
X-BeenThere: test-report@dpdk.org
X-Mailman-Version: 2.1.29
Precedence: list
List-Id: automatic DPDK test reports <test-report.dpdk.org>
List-Unsubscribe: <https://mails.dpdk.org/options/test-report>,
 <mailto:test-report-request@dpdk.org?subject=unsubscribe>
List-Archive: <http://mails.dpdk.org/archives/test-report/>
List-Post: <mailto:test-report@dpdk.org>
List-Help: <mailto:test-report-request@dpdk.org?subject=help>
List-Subscribe: <https://mails.dpdk.org/listinfo/test-report>,
 <mailto:test-report-request@dpdk.org?subject=subscribe>
Errors-To: test-report-bounces@dpdk.org

Test-Label: iol-compile-arm64-testing
Test-Status: SUCCESS
http://dpdk.org/patch/137960

_Testing PASS_

Submitter: Stephen Hemminger <stephen@networkplumber.org>
Date: Tuesday, March 05 2024 03:07:24 
DPDK git baseline: Repo:dpdk
  Branch: master
  CommitID:be793709e7b044cd4f806d6103bf3c046311a3c7

137960 --> testing pass

Test environment and result as below:

+----------------------+--------------------+
|     Environment      | dpdk_meson_compile |
+======================+====================+
| Ubuntu 20.04 ARM SVE | PASS               |
+----------------------+--------------------+
| Fedora 38 (ARM)      | PASS               |
+----------------------+--------------------+
| Debian 12 (arm)      | PASS               |
+----------------------+--------------------+


Ubuntu 20.04 ARM SVE
	Kernel: 5.4.0-80-generic
	Compiler: gcc 10.3.0 (Ubuntu 10.3.0-1ubuntu1~20.04)

Fedora 38 (ARM)
	Kernel: Depends on container host
	Compiler: gcc 13.1.1

Debian 12 (arm)
	Kernel: Container Host Kernel
	Compiler: gcc 11

To view detailed results, visit:
https://lab.dpdk.org/results/dashboard/patchsets/29408/

UNH-IOL DPDK Community Lab

To manage your email subscriptions, visit: 
https://lab.dpdk.org/results/dashboard/preferences/subscriptions/