From mboxrd@z Thu Jan  1 00:00:00 1970
Return-Path: <test-report-bounces@dpdk.org>
Received: from mails.dpdk.org (mails.dpdk.org [217.70.189.124])
	by inbox.dpdk.org (Postfix) with ESMTP id 8B30143C4F
	for <public@inbox.dpdk.org>; Tue,  5 Mar 2024 09:22:47 +0100 (CET)
Received: from mails.dpdk.org (localhost [127.0.0.1])
	by mails.dpdk.org (Postfix) with ESMTP id 82F1E4026B;
	Tue,  5 Mar 2024 09:22:47 +0100 (CET)
Received: from mail-yw1-f225.google.com (mail-yw1-f225.google.com
 [209.85.128.225])
 by mails.dpdk.org (Postfix) with ESMTP id 73D0C4014F
 for <test-report@dpdk.org>; Tue,  5 Mar 2024 09:22:45 +0100 (CET)
Received: by mail-yw1-f225.google.com with SMTP id
 00721157ae682-608ceccb5f4so33948877b3.3
 for <test-report@dpdk.org>; Tue, 05 Mar 2024 00:22:45 -0800 (PST)
DKIM-Signature: v=1; a=rsa-sha256; c=relaxed/relaxed;
 d=iol.unh.edu; s=unh-iol; t=1709626965; x=1710231765; darn=dpdk.org;
 h=references:in-reply-to:cc:to:from:subject:message-id:date:from:to
 :cc:subject:date:message-id:reply-to;
 bh=PaLEFlZoWOnhE4nJNALBv74cZqFSFWxcEDTaoF8jxeI=;
 b=KhAfW5WcV4H3p+qEEwKWVXyGzwtfLze3AmGaMwhLJ8jlFwBGbHTlqLz9HZU8KGDFUn
 3K+VPPLfH9rINq2jvbJzuAoZTByv8oHYya7KYpmV2KYXX267ZKjRM3Tmeg2fScXYgeU8
 D+Ld0eoq2u9lk3bvLknphtzaFkddKu3QwiZ/U=
X-Google-DKIM-Signature: v=1; a=rsa-sha256; c=relaxed/relaxed;
 d=1e100.net; s=20230601; t=1709626965; x=1710231765;
 h=references:in-reply-to:cc:to:from:subject:message-id:date
 :x-gm-message-state:from:to:cc:subject:date:message-id:reply-to;
 bh=PaLEFlZoWOnhE4nJNALBv74cZqFSFWxcEDTaoF8jxeI=;
 b=C1ZNwBOYxr/a8jfK3tGwzEpr438NxTVYznUzhoXMjX3B0zwxh+Aeudmj4PZ4syMKhL
 n/fPCUQcC54Y/hiTKjpbYpbwjhqdKIrWWJi0MRQH0cNtG2CKPs+SXRsSpkN2MP1A90gH
 p1nilQnYyfZ0HEKzGFCVKlxNIHTz3B59tFwf2xSiGAD9NJx2IQauQKYLNMza+BbynYaU
 SrLVw1RqKtqBTej8jo4JnIuAbGS6IstvpIhtI1yZ2uf3SzOIzJbUAwp+SOwXUHAt9c1E
 TaL/wCL6ChDUSDSfWEmDfQJK9WWCadqEjYpWZR3F6JzzjzfyMNSb3nKHNXm0vuTRCZbJ
 yaWA==
X-Gm-Message-State: AOJu0YzZhXrRpmIVrezqBZBABA9XcPabxxOiLls+/zNMxoRDHom3KE4L
 uCC3t4tkUL/ipaWViH2thOJSUIggjCquL1h9YfSv2c2aJBDtaLepI91Qbi1pbby8cT1Ix/JOzBu
 2EKMzE0nyaPYIybkcTucyGT1hdWCisMbw2LPUfFmH
X-Google-Smtp-Source: AGHT+IFtZNM6ruZl8Nsfc8V3gGMN1RXKlHxHkO3EE35mzXvB57YF993Q/BIqEKXdI3T0BkoHl7FjRrUg5/8W
X-Received: by 2002:a0d:c043:0:b0:608:20df:8b15 with SMTP id
 b64-20020a0dc043000000b0060820df8b15mr11666154ywd.3.1709626964890; 
 Tue, 05 Mar 2024 00:22:44 -0800 (PST)
Received: from postal.iol.unh.edu (postal.iol.unh.edu. [132.177.123.84])
 by smtp-relay.gmail.com with ESMTPS id
 k62-20020a816f41000000b0060876f362d2sm645928ywc.65.2024.03.05.00.22.44
 (version=TLS1_2 cipher=ECDHE-ECDSA-AES128-GCM-SHA256 bits=128/128);
 Tue, 05 Mar 2024 00:22:44 -0800 (PST)
X-Relaying-Domain: iol.unh.edu
Date: Tue, 05 Mar 2024 00:22:44 -0800 (PST)
Message-ID: <65e6d654.810a0220.719d8.9da2SMTPIN_ADDED_MISSING@mx.google.com>
Received: from [172.21.0.6] (unknown [172.18.0.240])
 by postal.iol.unh.edu (Postfix) with ESMTP id 79FAA6043300;
 Tue,  5 Mar 2024 03:22:44 -0500 (EST)
Subject: |SUCCESS| pw137960 [PATCH] [v2] hash: make GFNI stubs inline (again)
From: dpdklab@iol.unh.edu
To: Test Report <test-report@dpdk.org>
Cc: dpdk-test-reports@iol.unh.edu
In-Reply-To: <20240305030819.276707-1-stephen@networkplumber.org>
References: <20240305030819.276707-1-stephen@networkplumber.org>
Content-Type: text/plain
X-BeenThere: test-report@dpdk.org
X-Mailman-Version: 2.1.29
Precedence: list
List-Id: automatic DPDK test reports <test-report.dpdk.org>
List-Unsubscribe: <https://mails.dpdk.org/options/test-report>,
 <mailto:test-report-request@dpdk.org?subject=unsubscribe>
List-Archive: <http://mails.dpdk.org/archives/test-report/>
List-Post: <mailto:test-report@dpdk.org>
List-Help: <mailto:test-report-request@dpdk.org?subject=help>
List-Subscribe: <https://mails.dpdk.org/listinfo/test-report>,
 <mailto:test-report-request@dpdk.org?subject=subscribe>
Errors-To: test-report-bounces@dpdk.org

Test-Label: iol-abi-testing
Test-Status: SUCCESS
http://dpdk.org/patch/137960

_Testing PASS_

Submitter: Stephen Hemminger <stephen@networkplumber.org>
Date: Tuesday, March 05 2024 03:07:24 
DPDK git baseline: Repo:dpdk
  Branch: master
  CommitID:be793709e7b044cd4f806d6103bf3c046311a3c7

137960 --> testing pass

Test environment and result as below:

+------------------+----------+
|   Environment    | abi_test |
+==================+==========+
| openSUSE Leap 15 | PASS     |
+------------------+----------+
| Debian Bullseye  | PASS     |
+------------------+----------+
| Ubuntu 22.04     | PASS     |
+------------------+----------+
| CentOS Stream 8  | PASS     |
+------------------+----------+
| RHEL8            | PASS     |
+------------------+----------+
| CentOS Stream 9  | PASS     |
+------------------+----------+
| Fedora 38        | PASS     |
+------------------+----------+


openSUSE Leap 15
	Kernel: 4.18.0-240.10.1.el8_3.x86_64
	Compiler: gcc 7.5.0

Debian Bullseye
	Kernel: 5.4.0-122-generic
	Compiler: gcc 10.2.1-6

Ubuntu 22.04
	Kernel: 4.18.0-240.10.1.el8_3.x86_64
	Compiler: gcc 11.3.0

CentOS Stream 8
	Kernel: 4.18.0-240.10.1.el8_3.x86_64
	Compiler: gcc 8.4.1 20200928

RHEL8
	Kernel: 4.18.0-240.10.1.el8_3.x86_64
	Compiler: gcc 8.3.1 20191121 (Red Hat 8.3.1-5)

CentOS Stream 9
	Kernel: 4.18.0-240.10.1.el8_3.x86_64
	Compiler: gcc 11.3.1 20220421

Fedora 38
	Kernel: Depends on container host
	Compiler: gcc 13.1.1

To view detailed results, visit:
https://lab.dpdk.org/results/dashboard/patchsets/29408/

UNH-IOL DPDK Community Lab

To manage your email subscriptions, visit: 
https://lab.dpdk.org/results/dashboard/preferences/subscriptions/