From mboxrd@z Thu Jan  1 00:00:00 1970
Return-Path: <test-report-bounces@dpdk.org>
Received: from mails.dpdk.org (mails.dpdk.org [217.70.189.124])
	by inbox.dpdk.org (Postfix) with ESMTP id 0752543C4A
	for <public@inbox.dpdk.org>; Tue,  5 Mar 2024 09:28:57 +0100 (CET)
Received: from mails.dpdk.org (localhost [127.0.0.1])
	by mails.dpdk.org (Postfix) with ESMTP id 0276D4026B;
	Tue,  5 Mar 2024 09:28:57 +0100 (CET)
Received: from mail-io1-f100.google.com (mail-io1-f100.google.com
 [209.85.166.100])
 by mails.dpdk.org (Postfix) with ESMTP id B46B94014F
 for <test-report@dpdk.org>; Tue,  5 Mar 2024 09:28:55 +0100 (CET)
Received: by mail-io1-f100.google.com with SMTP id
 ca18e2360f4ac-7c86a12a2a1so10304039f.1
 for <test-report@dpdk.org>; Tue, 05 Mar 2024 00:28:55 -0800 (PST)
DKIM-Signature: v=1; a=rsa-sha256; c=relaxed/relaxed;
 d=iol.unh.edu; s=unh-iol; t=1709627335; x=1710232135; darn=dpdk.org;
 h=references:in-reply-to:cc:to:from:subject:message-id:date:from:to
 :cc:subject:date:message-id:reply-to;
 bh=MRrBO40OHHABVGWHyWZEFeuHJVpzh4SztArcIIPXySs=;
 b=ETvJcNgTdCVEPtOKrQXoe5qqrN7kmnSNupYhNkrNI+HY9mfJ14atklwUwnnPjmKTY+
 CdfTXbUaHWmneNHjWRjxG0ZtmjC7COzzecQ4CM5y8CxgSqvjQ6MZTNWwNNha6OEJWMlc
 ItkCPwW1vgEYMKNCdLkUanYDGjoFpulQ0Rb6M=
X-Google-DKIM-Signature: v=1; a=rsa-sha256; c=relaxed/relaxed;
 d=1e100.net; s=20230601; t=1709627335; x=1710232135;
 h=references:in-reply-to:cc:to:from:subject:message-id:date
 :x-gm-message-state:from:to:cc:subject:date:message-id:reply-to;
 bh=MRrBO40OHHABVGWHyWZEFeuHJVpzh4SztArcIIPXySs=;
 b=o3nS3XxBWWKgT4KRSGfKUnzAjKyQgfAP05J3PmjGQOADKywQA253PCYlkQ/bRvONcb
 6rX2IuNPX2vIvCzRSpsgXmUfkao/Mep/bb0VTCxo8mkWtpdguAOLee7Z38hWYpEVwhDb
 Hi7vbZbo89uAqAX9IuSlZPs+xz8GQD6aDnnVEG9gqoNHVMe/zf5+GeDXLUTxWbZBTNfO
 Q/OkFmssc6JGvLw+Sn0VD+N1gxAoBB+z8jnY8j1Abr9/3WDEwn+YgZ1rBwSgdm9KO5dc
 WSCGt3R1/H3fu9sQWRmre0dDqQc3vygLOdpE/uduDZcniIXoo5o5FJGS3qLNynye7XXa
 /57Q==
X-Gm-Message-State: AOJu0YwZXzoV33s6x6ClUMs782sRHl3M7asE3SX5iTEnHI6lqzctnKYz
 oppoOJIB/vwQpnAeVcm2JqBM26MotVhthbyxOqnI328rkYeT93RZmA/eCO2gselu4zdXh1z/2wi
 yc4N+Dkdlic/75tUctpt+DrQZZdOHH4EZwQATU9pyjsT4PuQ1B19QS+p+
X-Google-Smtp-Source: AGHT+IFj9dNa7SnaNuoVyc+kuhIGsrsCbnn+pdEu6LyG990s1l/ZZZjQjbHJdYxPinouvseyBffKKiMQ4AIx
X-Received: by 2002:a5d:9c11:0:b0:7c8:4bf7:1a9b with SMTP id
 17-20020a5d9c11000000b007c84bf71a9bmr6633754ioe.20.1709627335083; 
 Tue, 05 Mar 2024 00:28:55 -0800 (PST)
Received: from postal.iol.unh.edu (postal.iol.unh.edu.
 [2606:4100:3880:1234::84]) by smtp-relay.gmail.com with ESMTPS id
 f17-20020a05660215d100b007c741a0c47asm67433iow.24.2024.03.05.00.28.55
 (version=TLS1_2 cipher=ECDHE-ECDSA-AES128-GCM-SHA256 bits=128/128);
 Tue, 05 Mar 2024 00:28:55 -0800 (PST)
X-Relaying-Domain: iol.unh.edu
Date: Tue, 05 Mar 2024 00:28:55 -0800 (PST)
Message-ID: <65e6d7c7.050a0220.1b09a.3b55SMTPIN_ADDED_MISSING@mx.google.com>
Received: from [172.17.0.6] (unknown [172.18.0.217])
 by postal.iol.unh.edu (Postfix) with ESMTP id 991A66043300;
 Tue,  5 Mar 2024 03:28:54 -0500 (EST)
Subject: |SUCCESS| pw137960 [PATCH] [v2] hash: make GFNI stubs inline (again)
From: dpdklab@iol.unh.edu
To: Test Report <test-report@dpdk.org>
Cc: dpdk-test-reports@iol.unh.edu
In-Reply-To: <20240305030819.276707-1-stephen@networkplumber.org>
References: <20240305030819.276707-1-stephen@networkplumber.org>
Content-Type: text/plain
X-BeenThere: test-report@dpdk.org
X-Mailman-Version: 2.1.29
Precedence: list
List-Id: automatic DPDK test reports <test-report.dpdk.org>
List-Unsubscribe: <https://mails.dpdk.org/options/test-report>,
 <mailto:test-report-request@dpdk.org?subject=unsubscribe>
List-Archive: <http://mails.dpdk.org/archives/test-report/>
List-Post: <mailto:test-report@dpdk.org>
List-Help: <mailto:test-report-request@dpdk.org?subject=help>
List-Subscribe: <https://mails.dpdk.org/listinfo/test-report>,
 <mailto:test-report-request@dpdk.org?subject=subscribe>
Errors-To: test-report-bounces@dpdk.org

Test-Label: iol-unit-amd64-testing
Test-Status: SUCCESS
http://dpdk.org/patch/137960

_Testing PASS_

Submitter: Stephen Hemminger <stephen@networkplumber.org>
Date: Tuesday, March 05 2024 03:07:24 
DPDK git baseline: Repo:dpdk
  Branch: master
  CommitID:be793709e7b044cd4f806d6103bf3c046311a3c7

137960 --> testing pass

Test environment and result as below:

+---------------------+----------------+
|     Environment     | dpdk_unit_test |
+=====================+================+
| Windows Server 2019 | PASS           |
+---------------------+----------------+
| Debian Bullseye     | PASS           |
+---------------------+----------------+
| CentOS Stream 9     | PASS           |
+---------------------+----------------+
| Debian 12 (arm)     | PASS           |
+---------------------+----------------+


Windows Server 2019
	Kernel: 10.0
	Compiler: clang 14.0 and gcc 8.1.0 (MinGW)

Debian Bullseye
	Kernel: 5.4.0-122-generic
	Compiler: gcc 10.2.1-6

CentOS Stream 9
	Kernel: 4.18.0-240.10.1.el8_3.x86_64
	Compiler: gcc 11.3.1 20220421

Debian 12 (arm)
	Kernel: Container Host Kernel
	Compiler: gcc 11

To view detailed results, visit:
https://lab.dpdk.org/results/dashboard/patchsets/29408/

UNH-IOL DPDK Community Lab

To manage your email subscriptions, visit: 
https://lab.dpdk.org/results/dashboard/preferences/subscriptions/