From mboxrd@z Thu Jan  1 00:00:00 1970
Return-Path: <test-report-bounces@dpdk.org>
Received: from mails.dpdk.org (mails.dpdk.org [217.70.189.124])
	by inbox.dpdk.org (Postfix) with ESMTP id 71D7043C4A
	for <public@inbox.dpdk.org>; Tue,  5 Mar 2024 09:31:27 +0100 (CET)
Received: from mails.dpdk.org (localhost [127.0.0.1])
	by mails.dpdk.org (Postfix) with ESMTP id 6DD784026B;
	Tue,  5 Mar 2024 09:31:27 +0100 (CET)
Received: from mail-yw1-f225.google.com (mail-yw1-f225.google.com
 [209.85.128.225])
 by mails.dpdk.org (Postfix) with ESMTP id 9A08D4014F
 for <test-report@dpdk.org>; Tue,  5 Mar 2024 09:31:25 +0100 (CET)
Received: by mail-yw1-f225.google.com with SMTP id
 00721157ae682-608ceccb5f4so33995597b3.3
 for <test-report@dpdk.org>; Tue, 05 Mar 2024 00:31:25 -0800 (PST)
DKIM-Signature: v=1; a=rsa-sha256; c=relaxed/relaxed;
 d=iol.unh.edu; s=unh-iol; t=1709627485; x=1710232285; darn=dpdk.org;
 h=references:in-reply-to:cc:to:from:subject:message-id:date:from:to
 :cc:subject:date:message-id:reply-to;
 bh=7hERgTWxF8ayyly4OjTFKOyxCuPL2kBfBpDj3Wo5k1Y=;
 b=bAS+ypu0tq8+c8G04X9ycKfqlsJNzYwwu62zVzUzlfIAyIPEKLt5NrDs5cs6Qwxtda
 oiPUbQDy4yv/VFJSGlWs7kBEtc1XPKCvSsINypoAZbKIOPYnYmq5onrPiaqa/dMGrSTN
 5bpmgRfq5iAp9i/TQ15qn23mubzhwPXOZ6uPc=
X-Google-DKIM-Signature: v=1; a=rsa-sha256; c=relaxed/relaxed;
 d=1e100.net; s=20230601; t=1709627485; x=1710232285;
 h=references:in-reply-to:cc:to:from:subject:message-id:date
 :x-gm-message-state:from:to:cc:subject:date:message-id:reply-to;
 bh=7hERgTWxF8ayyly4OjTFKOyxCuPL2kBfBpDj3Wo5k1Y=;
 b=CQAExYZ2wMjE+PmyIfMIcoQGAh9+6w+XDC/FBwlKBVGqTq5CH/nPhfzNXJQjGoGh9T
 +KnABW6KpNYhPB5t2EnQ6s1yNybNJYG9AGWWfwM3M/g0hYr0Dm2N9LCR98b9t3OCjjLZ
 Zlys2VjmVAaDD6AaITSng1d3i36U0P9giyt6CjEpzAiTaTGaJKxQkV+SWbdh13OXfYWg
 5KZOBEeWbIlR7JKnP45qg+zBTDJOMSz5fXwf/KA9a4cVXZVkbUpBmZ0Y6qErvaOiglGy
 aGrJ5b9geemSzNwAaEsr1pMwZBjLBW4fgCXEZnZr+7puermhEjIgZvWAfT7uOmobzJVA
 9m7g==
X-Gm-Message-State: AOJu0Yz0nO0CAd7hcX/kUvdQPn5BwfKlZ0zbZgfVfiMiJxrztgIDXDdx
 jYGyanqdlUKorKl8qfvi2+h9eF0prwflQKWaiGDjchYKGpwS39O+kNn74tlhqFLk/87MtYIGoGb
 Ye5i40KYfGBw9D21kcPb2lXtkglZQZtcHT6geIpHjlVWeWPbADUeFmqmw
X-Google-Smtp-Source: AGHT+IGsonfaHDRNTJ68KiT6PZMufcpLoPdoC0OebvaGXnAVueZTO2sumMnsTSueKpO6syfaXymf/DyAIE+Z
X-Received: by 2002:a0d:f483:0:b0:608:13ee:8f3f with SMTP id
 d125-20020a0df483000000b0060813ee8f3fmr11543632ywf.27.1709627484484; 
 Tue, 05 Mar 2024 00:31:24 -0800 (PST)
Received: from postal.iol.unh.edu (postal.iol.unh.edu.
 [2606:4100:3880:1234::84]) by smtp-relay.gmail.com with ESMTPS id
 u128-20020a816086000000b006093c2c7542sm648037ywb.39.2024.03.05.00.31.24
 (version=TLS1_2 cipher=ECDHE-ECDSA-AES128-GCM-SHA256 bits=128/128);
 Tue, 05 Mar 2024 00:31:24 -0800 (PST)
X-Relaying-Domain: iol.unh.edu
Date: Tue, 05 Mar 2024 00:31:24 -0800 (PST)
Message-ID: <65e6d85c.810a0220.c670d.a187SMTPIN_ADDED_MISSING@mx.google.com>
Received: from [172.17.0.6] (unknown [172.18.0.217])
 by postal.iol.unh.edu (Postfix) with ESMTP id 281336043300;
 Tue,  5 Mar 2024 03:31:24 -0500 (EST)
Subject: |SUCCESS| pw137960 [PATCH] [v2] hash: make GFNI stubs inline (again)
From: dpdklab@iol.unh.edu
To: Test Report <test-report@dpdk.org>
Cc: dpdk-test-reports@iol.unh.edu
In-Reply-To: <20240305030819.276707-1-stephen@networkplumber.org>
References: <20240305030819.276707-1-stephen@networkplumber.org>
Content-Type: text/plain
X-BeenThere: test-report@dpdk.org
X-Mailman-Version: 2.1.29
Precedence: list
List-Id: automatic DPDK test reports <test-report.dpdk.org>
List-Unsubscribe: <https://mails.dpdk.org/options/test-report>,
 <mailto:test-report-request@dpdk.org?subject=unsubscribe>
List-Archive: <http://mails.dpdk.org/archives/test-report/>
List-Post: <mailto:test-report@dpdk.org>
List-Help: <mailto:test-report-request@dpdk.org?subject=help>
List-Subscribe: <https://mails.dpdk.org/listinfo/test-report>,
 <mailto:test-report-request@dpdk.org?subject=subscribe>
Errors-To: test-report-bounces@dpdk.org

Test-Label: iol-compile-arm64-testing
Test-Status: SUCCESS
http://dpdk.org/patch/137960

_Testing PASS_

Submitter: Stephen Hemminger <stephen@networkplumber.org>
Date: Tuesday, March 05 2024 03:07:24 
DPDK git baseline: Repo:dpdk
  Branch: master
  CommitID:be793709e7b044cd4f806d6103bf3c046311a3c7

137960 --> testing pass

Test environment and result as below:

+----------------------------------------+--------------------+
|              Environment               | dpdk_meson_compile |
+========================================+====================+
| Ubuntu 20.04 ARM SVE                   | PASS               |
+----------------------------------------+--------------------+
| Fedora 38 (ARM)                        | PASS               |
+----------------------------------------+--------------------+
| Debian 12 (arm)                        | PASS               |
+----------------------------------------+--------------------+
| Ubuntu 20.04 ARM GCC Cross Compile     | PASS               |
+----------------------------------------+--------------------+
| CentOS Stream 9 (ARM)                  | PASS               |
+----------------------------------------+--------------------+
| Debian 11 (Buster) (ARM)               | PASS               |
+----------------------------------------+--------------------+
| Ubuntu 20.04 aarch32 GCC Cross Compile | PASS               |
+----------------------------------------+--------------------+


Ubuntu 20.04 ARM SVE
	Kernel: 5.4.0-80-generic
	Compiler: gcc 10.3.0 (Ubuntu 10.3.0-1ubuntu1~20.04)

Fedora 38 (ARM)
	Kernel: Depends on container host
	Compiler: gcc 13.1.1

Debian 12 (arm)
	Kernel: Container Host Kernel
	Compiler: gcc 11

Ubuntu 20.04 ARM GCC Cross Compile
	Kernel: 5.4.0-72-generic
	Compiler: aarch64-linux-gnu-gcc (Ubuntu 9.3.0-17ubuntu1~20.04) 9.3.0

CentOS Stream 9 (ARM)
	Kernel: Container Host Kernel
	Compiler: gcc 11.3.1

Debian 11 (Buster) (ARM)
	Kernel: Container Host Kernel
	Compiler: gcc 10.2.1

Ubuntu 20.04 aarch32 GCC Cross Compile
	Kernel: 5.4.0-72-generic
	Compiler: gcc 9.3.0

To view detailed results, visit:
https://lab.dpdk.org/results/dashboard/patchsets/29408/

UNH-IOL DPDK Community Lab

To manage your email subscriptions, visit: 
https://lab.dpdk.org/results/dashboard/preferences/subscriptions/