From mboxrd@z Thu Jan  1 00:00:00 1970
Return-Path: <test-report-bounces@dpdk.org>
Received: from mails.dpdk.org (mails.dpdk.org [217.70.189.124])
	by inbox.dpdk.org (Postfix) with ESMTP id 1EF2743C4A
	for <public@inbox.dpdk.org>; Tue,  5 Mar 2024 09:40:17 +0100 (CET)
Received: from mails.dpdk.org (localhost [127.0.0.1])
	by mails.dpdk.org (Postfix) with ESMTP id EE8F84026B;
	Tue,  5 Mar 2024 09:40:16 +0100 (CET)
Received: from mail-qt1-f226.google.com (mail-qt1-f226.google.com
 [209.85.160.226])
 by mails.dpdk.org (Postfix) with ESMTP id 329B24014F
 for <test-report@dpdk.org>; Tue,  5 Mar 2024 09:40:16 +0100 (CET)
Received: by mail-qt1-f226.google.com with SMTP id
 d75a77b69052e-42e8eb286aaso39027721cf.0
 for <test-report@dpdk.org>; Tue, 05 Mar 2024 00:40:16 -0800 (PST)
DKIM-Signature: v=1; a=rsa-sha256; c=relaxed/relaxed;
 d=iol.unh.edu; s=unh-iol; t=1709628015; x=1710232815; darn=dpdk.org;
 h=references:in-reply-to:cc:to:from:subject:message-id:date:from:to
 :cc:subject:date:message-id:reply-to;
 bh=wmKhv3mvAWCf8orJPXMNXUz5Icysy4LL3nLR1fubRrw=;
 b=J0TmujmDl7Y0i/Xov1+N/IBLEZ3Y9NJbwkfO//A4j26qAz+OOviEnNTM6Ixc7dZWnR
 ch5naIHcUK19gwBf0CJxppm2NUcRlVQn7GMgNuKH5t1gIVGe/TNVEN2mrV0RrtAqas81
 IPskxQxJ5EAPy3lJOb+SYu9nZmup2PWlo5xXA=
X-Google-DKIM-Signature: v=1; a=rsa-sha256; c=relaxed/relaxed;
 d=1e100.net; s=20230601; t=1709628015; x=1710232815;
 h=references:in-reply-to:cc:to:from:subject:message-id:date
 :x-gm-message-state:from:to:cc:subject:date:message-id:reply-to;
 bh=wmKhv3mvAWCf8orJPXMNXUz5Icysy4LL3nLR1fubRrw=;
 b=OlzpTaqxfEWdKZH6Sf5OdxmoPUpzVQw9H3UETpnKKf5JfgNhHj0N98iSRVn/KjY2w/
 p6gb9DeBNPkxrxwCCt49G/33McqyQyJQwot0hY0sKmRN3QnlI8oo4LMq2SP5qNXs9y6F
 vlcOkeLsaPWzO+X92sn9+fZKdDfxQnKqJGRhamQUvHUWaPJNR//zWkuScFCPIRRLQKeq
 0xQF4yjryGvgI1msDzF6RMsWuadqKv01jirn72ft3aaBA1CImAXETJYe+3TYPKV914dB
 5MaPcvZtsMP7SZHXL0spEnJVz9r5UoR1OQs/BPw+Q0YOp8k/fdak1EJx824faBbJxQKf
 N1jQ==
X-Gm-Message-State: AOJu0YyKES4Sv9h0j6uCFAjXbkdY3LyfEKkvBpRzwBjlkjunqqsOIylo
 9A5XaIk5ePfeSLpaKEpw5hlmMJfeJuSFFTSswYkdbg6p0B4mLtV64ppl0D02euQumNq3K4vXNDY
 i5xfqtODtusei56GOz9Duc3VhqmSEzio1KIxUJFd+qHGCNA6YTPuxwwpt
X-Google-Smtp-Source: AGHT+IGuyuI9RZGkSRIdeo0dUgJjs2+oiIQQy487WUcq5Ywc2Ao76gVgK9RLg3SOcErIxGFDzwtet9kcXSgI
X-Received: by 2002:ac8:5f89:0:b0:42e:f27a:fcfb with SMTP id
 j9-20020ac85f89000000b0042ef27afcfbmr1614003qta.14.1709628015517; 
 Tue, 05 Mar 2024 00:40:15 -0800 (PST)
Received: from postal.iol.unh.edu (postal.iol.unh.edu.
 [2606:4100:3880:1234::84]) by smtp-relay.gmail.com with ESMTPS id
 t14-20020a0562140c6e00b0068efbfcfecasm596921qvj.20.2024.03.05.00.40.15
 (version=TLS1_2 cipher=ECDHE-ECDSA-AES128-GCM-SHA256 bits=128/128);
 Tue, 05 Mar 2024 00:40:15 -0800 (PST)
X-Relaying-Domain: iol.unh.edu
Date: Tue, 05 Mar 2024 00:40:15 -0800 (PST)
Message-ID: <65e6da6f.050a0220.2336e.6394SMTPIN_ADDED_MISSING@mx.google.com>
Received: from [172.17.0.8] (unknown [172.18.0.217])
 by postal.iol.unh.edu (Postfix) with ESMTP id 2B66B6043300;
 Tue,  5 Mar 2024 03:40:15 -0500 (EST)
Subject: |SUCCESS| pw137960 [PATCH] [v2] hash: make GFNI stubs inline (again)
From: dpdklab@iol.unh.edu
To: Test Report <test-report@dpdk.org>
Cc: dpdk-test-reports@iol.unh.edu
In-Reply-To: <20240305030819.276707-1-stephen@networkplumber.org>
References: <20240305030819.276707-1-stephen@networkplumber.org>
Content-Type: text/plain
X-BeenThere: test-report@dpdk.org
X-Mailman-Version: 2.1.29
Precedence: list
List-Id: automatic DPDK test reports <test-report.dpdk.org>
List-Unsubscribe: <https://mails.dpdk.org/options/test-report>,
 <mailto:test-report-request@dpdk.org?subject=unsubscribe>
List-Archive: <http://mails.dpdk.org/archives/test-report/>
List-Post: <mailto:test-report@dpdk.org>
List-Help: <mailto:test-report-request@dpdk.org?subject=help>
List-Subscribe: <https://mails.dpdk.org/listinfo/test-report>,
 <mailto:test-report-request@dpdk.org?subject=subscribe>
Errors-To: test-report-bounces@dpdk.org

Test-Label: iol-unit-amd64-testing
Test-Status: SUCCESS
http://dpdk.org/patch/137960

_Testing PASS_

Submitter: Stephen Hemminger <stephen@networkplumber.org>
Date: Tuesday, March 05 2024 03:07:24 
DPDK git baseline: Repo:dpdk
  Branch: master
  CommitID:be793709e7b044cd4f806d6103bf3c046311a3c7

137960 --> testing pass

Test environment and result as below:

+---------------------+----------------+
|     Environment     | dpdk_unit_test |
+=====================+================+
| Windows Server 2019 | PASS           |
+---------------------+----------------+
| Debian Bullseye     | PASS           |
+---------------------+----------------+
| CentOS Stream 9     | PASS           |
+---------------------+----------------+
| Debian 12 (arm)     | PASS           |
+---------------------+----------------+
| CentOS Stream 8     | PASS           |
+---------------------+----------------+
| openSUSE Leap 15    | PASS           |
+---------------------+----------------+
| Fedora 37           | PASS           |
+---------------------+----------------+
| Fedora 38           | PASS           |
+---------------------+----------------+
| Ubuntu 22.04        | PASS           |
+---------------------+----------------+


Windows Server 2019
	Kernel: 10.0
	Compiler: clang 14.0 and gcc 8.1.0 (MinGW)

Debian Bullseye
	Kernel: 5.4.0-122-generic
	Compiler: gcc 10.2.1-6

CentOS Stream 9
	Kernel: 4.18.0-240.10.1.el8_3.x86_64
	Compiler: gcc 11.3.1 20220421

Debian 12 (arm)
	Kernel: Container Host Kernel
	Compiler: gcc 11

CentOS Stream 8
	Kernel: 4.18.0-240.10.1.el8_3.x86_64
	Compiler: gcc 8.4.1 20200928

openSUSE Leap 15
	Kernel: 4.18.0-240.10.1.el8_3.x86_64
	Compiler: gcc 7.5.0

Fedora 37
	Kernel: Depends on container host system
	Compiler: gcc 12.3.1

Fedora 38
	Kernel: Depends on container host
	Compiler: clang 16.0.3

Ubuntu 22.04
	Kernel: 4.18.0-240.10.1.el8_3.x86_64
	Compiler: gcc 11.3.0

To view detailed results, visit:
https://lab.dpdk.org/results/dashboard/patchsets/29408/

UNH-IOL DPDK Community Lab

To manage your email subscriptions, visit: 
https://lab.dpdk.org/results/dashboard/preferences/subscriptions/