From mboxrd@z Thu Jan  1 00:00:00 1970
Return-Path: <test-report-bounces@dpdk.org>
Received: from mails.dpdk.org (mails.dpdk.org [217.70.189.124])
	by inbox.dpdk.org (Postfix) with ESMTP id 5B86743B7D
	for <public@inbox.dpdk.org>; Tue,  5 Mar 2024 10:56:48 +0100 (CET)
Received: from mails.dpdk.org (localhost [127.0.0.1])
	by mails.dpdk.org (Postfix) with ESMTP id 5788240A89;
	Tue,  5 Mar 2024 10:56:48 +0100 (CET)
Received: from mail-io1-f98.google.com (mail-io1-f98.google.com
 [209.85.166.98]) by mails.dpdk.org (Postfix) with ESMTP id 55C8C4014F
 for <test-report@dpdk.org>; Tue,  5 Mar 2024 10:56:46 +0100 (CET)
Received: by mail-io1-f98.google.com with SMTP id
 ca18e2360f4ac-7bf7e37dc60so348770039f.3
 for <test-report@dpdk.org>; Tue, 05 Mar 2024 01:56:46 -0800 (PST)
DKIM-Signature: v=1; a=rsa-sha256; c=relaxed/relaxed;
 d=iol.unh.edu; s=unh-iol; t=1709632605; x=1710237405; darn=dpdk.org;
 h=references:in-reply-to:cc:to:from:subject:message-id:date:from:to
 :cc:subject:date:message-id:reply-to;
 bh=IVcQgkuPbau26PkyagN3N2YnLY/lUMVJe/i2op/KLpE=;
 b=UEjhXPiXVEfj+6WjK+NFPx8oWpUjvdlMAgdQmZ1vyXcedJnuyK+0f9lAh3301hp8KW
 brYg3AqdlHRRlwkKbPAOrX+C+eiFOEQ8q6iGijYCT2Fx9B9fNGWLg3nSskYgvgvArGku
 cUlgYqU15C0HsVQ7eeV7zS+ovzsM8rz7X8344=
X-Google-DKIM-Signature: v=1; a=rsa-sha256; c=relaxed/relaxed;
 d=1e100.net; s=20230601; t=1709632605; x=1710237405;
 h=references:in-reply-to:cc:to:from:subject:message-id:date
 :x-gm-message-state:from:to:cc:subject:date:message-id:reply-to;
 bh=IVcQgkuPbau26PkyagN3N2YnLY/lUMVJe/i2op/KLpE=;
 b=Q/2xaYy585ZFIa9qOtXDr87zNl8F5+reg8eEZw+juf5D67NniF3OtGy8V3HMjTpxgA
 EphAlz0raQrwXH3KZxvQLqJZDIBRLwo6K1Le34cpH89Xbl8UOMUXCBmBoUrGDdnnFVyi
 dMjEqrdTnmqhbkYAllm0dNuySglyyTpF7cE55ppyzrWRAVdXON5hBRd3JXLsLpEPee6D
 aV6p40Us/hEb+BD1NUc3+CupPYJ3sdpTXdYy3/M5WSPKaroousP7wmr/WpDA1LCcubPH
 gTHNJBNsAgCCsNjNAZxaBtu2GmM5VR7aZxRjDHlmOP77i/jKab0ByS+IebVseLp6ztrc
 RwDQ==
X-Gm-Message-State: AOJu0Ywbla7yGp4WSt6rLeZTTb0dU1xVbAhyU0rYLRFhy5xPf0VQ6RDp
 BMKBJiHxpIX/piE8bZDhIqaVRxnlnU/JuGVzvWvnP9vSOUOieLL2Oi87Vdwf62Fh3G3EnwrrWch
 iMfJR3Rk5ymnWij6+KLBaAO/oyTsX43pE7tD2AkVZEm/JQn9vpTL0RIDD
X-Google-Smtp-Source: AGHT+IGFPVX0pR0OBnH/nJEssPY93twO38sMU1MSt9CoI5ofApWR8ZXZ/cTIQL039J7QH618JjPOfwe/XmOi
X-Received: by 2002:a05:6e02:1d8d:b0:365:1685:c65d with SMTP id
 h13-20020a056e021d8d00b003651685c65dmr16273875ila.10.1709632605583; 
 Tue, 05 Mar 2024 01:56:45 -0800 (PST)
Received: from postal.iol.unh.edu (postal.iol.unh.edu.
 [2606:4100:3880:1234::84]) by smtp-relay.gmail.com with ESMTPS id
 e7-20020a92d747000000b00365fe194a08sm27671ilq.21.2024.03.05.01.56.45
 (version=TLS1_2 cipher=ECDHE-ECDSA-AES128-GCM-SHA256 bits=128/128);
 Tue, 05 Mar 2024 01:56:45 -0800 (PST)
X-Relaying-Domain: iol.unh.edu
Date: Tue, 05 Mar 2024 01:56:45 -0800 (PST)
Message-ID: <65e6ec5d.920a0220.8e66e.1c76SMTPIN_ADDED_MISSING@mx.google.com>
Received: from [172.21.0.6] (unknown [172.18.0.240])
 by postal.iol.unh.edu (Postfix) with ESMTP id 213C86052712;
 Tue,  5 Mar 2024 04:56:45 -0500 (EST)
Subject: |SUCCESS| pw137983 [PATCH] [RFC] net/gve: add IPv4 checksum offloadi
From: dpdklab@iol.unh.edu
To: Test Report <test-report@dpdk.org>
Cc: dpdk-test-reports@iol.unh.edu
In-Reply-To: <20240305084026.2329691-1-rushilg@google.com>
References: <20240305084026.2329691-1-rushilg@google.com>
Content-Type: text/plain
X-BeenThere: test-report@dpdk.org
X-Mailman-Version: 2.1.29
Precedence: list
List-Id: automatic DPDK test reports <test-report.dpdk.org>
List-Unsubscribe: <https://mails.dpdk.org/options/test-report>,
 <mailto:test-report-request@dpdk.org?subject=unsubscribe>
List-Archive: <http://mails.dpdk.org/archives/test-report/>
List-Post: <mailto:test-report@dpdk.org>
List-Help: <mailto:test-report-request@dpdk.org?subject=help>
List-Subscribe: <https://mails.dpdk.org/listinfo/test-report>,
 <mailto:test-report-request@dpdk.org?subject=subscribe>
Errors-To: test-report-bounces@dpdk.org

Test-Label: iol-compile-arm64-testing
Test-Status: SUCCESS
http://dpdk.org/patch/137983

_Testing PASS_

Submitter: Rushil Gupta <rushilg@google.com>
Date: Tuesday, March 05 2024 08:40:26 
DPDK git baseline: Repo:dpdk
  Branch: master
  CommitID:29c516fa4f5bac381825667b5bdb1ced4548c6bc

137983 --> testing pass

Test environment and result as below:

+----------------------------------------+--------------------+
|              Environment               | dpdk_meson_compile |
+========================================+====================+
| Ubuntu 20.04 ARM SVE                   | PASS               |
+----------------------------------------+--------------------+
| Fedora 37 (ARM)                        | PASS               |
+----------------------------------------+--------------------+
| Ubuntu 20.04 aarch32 GCC Cross Compile | PASS               |
+----------------------------------------+--------------------+
| Ubuntu 20.04 (ARM)                     | PASS               |
+----------------------------------------+--------------------+
| Fedora 38 (ARM)                        | PASS               |
+----------------------------------------+--------------------+
| CentOS Stream 9 (ARM)                  | PASS               |
+----------------------------------------+--------------------+
| Debian 11 (Buster) (ARM)               | PASS               |
+----------------------------------------+--------------------+
| Debian 12 (arm)                        | PASS               |
+----------------------------------------+--------------------+
| Ubuntu 20.04 ARM Clang Cross Compile   | PASS               |
+----------------------------------------+--------------------+


Ubuntu 20.04 ARM SVE
	Kernel: 5.4.0-80-generic
	Compiler: gcc 10.3.0 (Ubuntu 10.3.0-1ubuntu1~20.04)

Fedora 37 (ARM)
	Kernel: Depends on container host
	Compiler: gcc 12.3.1

Ubuntu 20.04 aarch32 GCC Cross Compile
	Kernel: 5.4.0-72-generic
	Compiler: gcc 9.3.0

Ubuntu 20.04 (ARM)
	Kernel: Container Host Kernel
	Compiler: gcc 9.4.0

Fedora 38 (ARM)
	Kernel: Depends on container host
	Compiler: gcc 13.1.1

CentOS Stream 9 (ARM)
	Kernel: Container Host Kernel
	Compiler: gcc 11.3.1

Debian 11 (Buster) (ARM)
	Kernel: Container Host Kernel
	Compiler: gcc 10.2.1

Debian 12 (arm)
	Kernel: Container Host Kernel
	Compiler: gcc 11

Ubuntu 20.04 ARM Clang Cross Compile
	Kernel: 5.4.0-72-generic
	Compiler: clang version 10.0.0-4ubuntu1

To view detailed results, visit:
https://lab.dpdk.org/results/dashboard/patchsets/29411/

UNH-IOL DPDK Community Lab

To manage your email subscriptions, visit: 
https://lab.dpdk.org/results/dashboard/preferences/subscriptions/