From mboxrd@z Thu Jan  1 00:00:00 1970
Return-Path: <test-report-bounces@dpdk.org>
Received: from mails.dpdk.org (mails.dpdk.org [217.70.189.124])
	by inbox.dpdk.org (Postfix) with ESMTP id DBEDB43B7D
	for <public@inbox.dpdk.org>; Tue,  5 Mar 2024 10:57:52 +0100 (CET)
Received: from mails.dpdk.org (localhost [127.0.0.1])
	by mails.dpdk.org (Postfix) with ESMTP id D79C442D66;
	Tue,  5 Mar 2024 10:57:52 +0100 (CET)
Received: from mail-pg1-f225.google.com (mail-pg1-f225.google.com
 [209.85.215.225])
 by mails.dpdk.org (Postfix) with ESMTP id 0FFCA4026B
 for <test-report@dpdk.org>; Tue,  5 Mar 2024 10:57:52 +0100 (CET)
Received: by mail-pg1-f225.google.com with SMTP id
 41be03b00d2f7-5ce942efda5so4466633a12.2
 for <test-report@dpdk.org>; Tue, 05 Mar 2024 01:57:51 -0800 (PST)
DKIM-Signature: v=1; a=rsa-sha256; c=relaxed/relaxed;
 d=iol.unh.edu; s=unh-iol; t=1709632671; x=1710237471; darn=dpdk.org;
 h=references:in-reply-to:cc:to:from:subject:message-id:date:from:to
 :cc:subject:date:message-id:reply-to;
 bh=sHo5jqkyxRwA3QkQMQ1O0tp0prQaksqEo2qctGJQ4DY=;
 b=KtYMHUSCLsEmcFAXuuc8Xs6cJ4FwepMl5NwI9ZKuz/nk+choA9Fq5f//P1tJ3BCPGe
 ujHY6P1PC8R5LgHZMF1IGe6MkPb0w8m5sidoxJIg2LBXg2fOl7XN9xV3wfhfBvqM+KL9
 HiUcWqn9K8cMus1bpcgHTBEbJRvERv01FDGKg=
X-Google-DKIM-Signature: v=1; a=rsa-sha256; c=relaxed/relaxed;
 d=1e100.net; s=20230601; t=1709632671; x=1710237471;
 h=references:in-reply-to:cc:to:from:subject:message-id:date
 :x-gm-message-state:from:to:cc:subject:date:message-id:reply-to;
 bh=sHo5jqkyxRwA3QkQMQ1O0tp0prQaksqEo2qctGJQ4DY=;
 b=uI2jNTDgMf+WuLWx1or7U6OC/y/V/bbtu6TitstwR99166LNOLDG3OHR/YkIN6/DTy
 +S9VPh/WwRHcKHpyoIycmBOCumRdNz4gKur0QWfiC0RgChg19gmTJMKi/oDutoYVshTz
 wBqI5bfjZV26z1VofoM66ArFrpyDRKrq4Vk9u9ngh5HR/R11aY7Ovfj8C1u95DUAyg3u
 tpiystTtKYjZzBWk6NsVzF+u8UvHOwOW63x+DbC3sazrGR8yYfxJLq9i6y/x6VBLkg2O
 0vMGstPLoWHneJhIs029pyFIJKq6b4DLQExNQUlnbHgcdKsao/94bLcO422XTTo816p+
 okKw==
X-Gm-Message-State: AOJu0Yyvnb0ey183pTblGJWcUAF6El+5CotVLdNzlzyxpxltSof3w4ms
 5knC7uxZ86binPjhiSZ5rzS8vkcZbJM8Ve1kb1i6nCqtPVDNprA6c7LU/34YWLW2md8l6t2G1n4
 xb9a+qM6VHuEEWHTp+EhDYA1Xh/rnip3wMD+nK4e6
X-Google-Smtp-Source: AGHT+IHZ9cIDhX2p3OKv7APaP7EKtfhgrzQGPArwAxlMfO2oX0UQ0Pw652RHMbrH7YBytziWJoITDhAGvF5l
X-Received: by 2002:a05:6a20:7f99:b0:1a1:49be:c81d with SMTP id
 d25-20020a056a207f9900b001a149bec81dmr1305104pzj.33.1709632671268; 
 Tue, 05 Mar 2024 01:57:51 -0800 (PST)
Received: from postal.iol.unh.edu (postal.iol.unh.edu. [132.177.123.84])
 by smtp-relay.gmail.com with ESMTPS id
 v6-20020a626106000000b006e3d8678ffesm786934pfb.6.2024.03.05.01.57.51
 (version=TLS1_2 cipher=ECDHE-ECDSA-AES128-GCM-SHA256 bits=128/128);
 Tue, 05 Mar 2024 01:57:51 -0800 (PST)
X-Relaying-Domain: iol.unh.edu
Date: Tue, 05 Mar 2024 01:57:51 -0800 (PST)
Message-ID: <65e6ec9f.620a0220.d5c49.0c0aSMTPIN_ADDED_MISSING@mx.google.com>
Received: from [172.17.0.8] (unknown [172.18.0.217])
 by postal.iol.unh.edu (Postfix) with ESMTP id 82BD36052712;
 Tue,  5 Mar 2024 04:57:50 -0500 (EST)
Subject: |SUCCESS| pw137983 [PATCH] [RFC] net/gve: add IPv4 checksum offloadi
From: dpdklab@iol.unh.edu
To: Test Report <test-report@dpdk.org>
Cc: dpdk-test-reports@iol.unh.edu
In-Reply-To: <20240305084026.2329691-1-rushilg@google.com>
References: <20240305084026.2329691-1-rushilg@google.com>
Content-Type: text/plain
X-BeenThere: test-report@dpdk.org
X-Mailman-Version: 2.1.29
Precedence: list
List-Id: automatic DPDK test reports <test-report.dpdk.org>
List-Unsubscribe: <https://mails.dpdk.org/options/test-report>,
 <mailto:test-report-request@dpdk.org?subject=unsubscribe>
List-Archive: <http://mails.dpdk.org/archives/test-report/>
List-Post: <mailto:test-report@dpdk.org>
List-Help: <mailto:test-report-request@dpdk.org?subject=help>
List-Subscribe: <https://mails.dpdk.org/listinfo/test-report>,
 <mailto:test-report-request@dpdk.org?subject=subscribe>
Errors-To: test-report-bounces@dpdk.org

Test-Label: iol-compile-amd64-testing
Test-Status: SUCCESS
http://dpdk.org/patch/137983

_Testing PASS_

Submitter: Rushil Gupta <rushilg@google.com>
Date: Tuesday, March 05 2024 08:40:26 
DPDK git baseline: Repo:dpdk
  Branch: master
  CommitID:29c516fa4f5bac381825667b5bdb1ced4548c6bc

137983 --> testing pass

Test environment and result as below:

+---------------------+--------------------+----------------------+
|     Environment     | dpdk_meson_compile | dpdk_mingw64_compile |
+=====================+====================+======================+
| Debian Bullseye     | PASS               | SKIPPED              |
+---------------------+--------------------+----------------------+
| CentOS Stream 8     | PASS               | SKIPPED              |
+---------------------+--------------------+----------------------+
| CentOS Stream 9     | PASS               | SKIPPED              |
+---------------------+--------------------+----------------------+
| Debian 12 (arm)     | PASS               | SKIPPED              |
+---------------------+--------------------+----------------------+
| Fedora 37           | PASS               | SKIPPED              |
+---------------------+--------------------+----------------------+
| Fedora 38           | PASS               | SKIPPED              |
+---------------------+--------------------+----------------------+
| RHEL8               | PASS               | SKIPPED              |
+---------------------+--------------------+----------------------+
| openSUSE Leap 15    | PASS               | SKIPPED              |
+---------------------+--------------------+----------------------+
| Ubuntu 22.04        | PASS               | SKIPPED              |
+---------------------+--------------------+----------------------+
| Windows Server 2019 | PASS               | PASS                 |
+---------------------+--------------------+----------------------+
| Ubuntu 20.04        | PASS               | SKIPPED              |
+---------------------+--------------------+----------------------+
| Windows Server 2022 | PASS               | SKIPPED              |
+---------------------+--------------------+----------------------+
| FreeBSD 13.2        | PASS               | SKIPPED              |
+---------------------+--------------------+----------------------+
| Alpine              | PASS               | SKIPPED              |
+---------------------+--------------------+----------------------+


Debian Bullseye
	Kernel: 5.4.0-122-generic
	Compiler: gcc 10.2.1-6

CentOS Stream 8
	Kernel: 4.18.0-240.10.1.el8_3.x86_64
	Compiler: gcc 8.4.1 20200928

CentOS Stream 9
	Kernel: 4.18.0-240.10.1.el8_3.x86_64
	Compiler: gcc 11.3.1 20220421

Debian 12 (arm)
	Kernel: Container Host Kernel
	Compiler: gcc 11

Fedora 37
	Kernel: Depends on container host system
	Compiler: gcc 12.3.1

Fedora 38
	Kernel: Depends on container host
	Compiler: gcc 13.1.1

RHEL8
	Kernel: 4.18.0-240.10.1.el8_3.x86_64
	Compiler: gcc 8.3.1 20191121 (Red Hat 8.3.1-5)

openSUSE Leap 15
	Kernel: 4.18.0-240.10.1.el8_3.x86_64
	Compiler: gcc 7.5.0

Ubuntu 22.04
	Kernel: 4.18.0-240.10.1.el8_3.x86_64
	Compiler: gcc 11.3.0

Windows Server 2019
	Kernel: 10.0
	Compiler: clang 14.0 and gcc 8.1.0 (MinGW)

Ubuntu 20.04
	Kernel: 5.4.0-153-generic
	Compiler: gcc 9.4.0-1ubuntu1~20.04.1

Windows Server 2022
	Kernel: OS Build 20348.2031
	Compiler: MSVC VS-Preview

FreeBSD 13.2
	Kernel: 13.2
	Compiler: clang 11.3.0

Alpine
	Kernel: 5.4.0-73-generic
	Compiler: gcc (Alpine 10.3.1_git20210424) 10.3.1 20210424

To view detailed results, visit:
https://lab.dpdk.org/results/dashboard/patchsets/29411/

UNH-IOL DPDK Community Lab

To manage your email subscriptions, visit: 
https://lab.dpdk.org/results/dashboard/preferences/subscriptions/