From mboxrd@z Thu Jan  1 00:00:00 1970
Return-Path: <test-report-bounces@dpdk.org>
Received: from mails.dpdk.org (mails.dpdk.org [217.70.189.124])
	by inbox.dpdk.org (Postfix) with ESMTP id EB20C43B7D
	for <public@inbox.dpdk.org>; Tue,  5 Mar 2024 11:02:18 +0100 (CET)
Received: from mails.dpdk.org (localhost [127.0.0.1])
	by mails.dpdk.org (Postfix) with ESMTP id E70774026B;
	Tue,  5 Mar 2024 11:02:18 +0100 (CET)
Received: from mail-qv1-f99.google.com (mail-qv1-f99.google.com
 [209.85.219.99]) by mails.dpdk.org (Postfix) with ESMTP id 4FDC94014F
 for <test-report@dpdk.org>; Tue,  5 Mar 2024 11:02:17 +0100 (CET)
Received: by mail-qv1-f99.google.com with SMTP id
 6a1803df08f44-68f74fb38a8so24192066d6.3
 for <test-report@dpdk.org>; Tue, 05 Mar 2024 02:02:17 -0800 (PST)
DKIM-Signature: v=1; a=rsa-sha256; c=relaxed/relaxed;
 d=iol.unh.edu; s=unh-iol; t=1709632936; x=1710237736; darn=dpdk.org;
 h=references:in-reply-to:cc:to:from:subject:message-id:date:from:to
 :cc:subject:date:message-id:reply-to;
 bh=x04u+1BpYZcQpOuDzJg/5+oMM3JTS91vhH0C+jVLg/Y=;
 b=cpB0bnrgAXudz3L3vN0wKCAOpI+DxnwzKJpbiXieEtnLccbCOetqdiEd0KR7XavK5o
 vFtoVlx5GOmycE09PmWM0iB/L4PVEbRMh//TSolXVFyiGuzVlbS18f9lh/+tZtUz24DZ
 tK1ZG/2x8qNrmH1p5A02vXtqTA5fqQdR1R9Y8=
X-Google-DKIM-Signature: v=1; a=rsa-sha256; c=relaxed/relaxed;
 d=1e100.net; s=20230601; t=1709632936; x=1710237736;
 h=references:in-reply-to:cc:to:from:subject:message-id:date
 :x-gm-message-state:from:to:cc:subject:date:message-id:reply-to;
 bh=x04u+1BpYZcQpOuDzJg/5+oMM3JTS91vhH0C+jVLg/Y=;
 b=vbAhCZ0mv7xDWEpQUx9Yl7B114MLyua3C+SlEoYmTWrlf1UxTZGb0rY7vzExfvf2rp
 fEia787bAhhXEOCvAmka1tuK0fRncWJ8D+KmceiIQlyGuVN+8eORemCcwsFpef5Zy1Vn
 WBBCeZp4M9n4GHHGf07mr9gpCeojIb97Z9trci3aXNGgV9k1VYTOZ3ueE0Kd8kY02XUm
 V9JJdwtn4T9eTKXj8BqzuGgTE+e5yph9VRRhnptXF1kxCiKMrVIcOS7ANhE/YcWLckHx
 R45IFsoMmN8eajdABfIHtTxLdT0AeVA9ENkMNFQ3meVq3Jusv9BglC/yyAGabc1nuuK3
 /yMg==
X-Gm-Message-State: AOJu0YyrbPS9VrkPo1ItW6jG6pbIrlWcoImckF8y7ydMOKt5qP+Buccz
 5Hdkvbrj5zNskMDpDVN2S1spDWacyPyxJBGjR397/pZSio0d2jrVHE71UWDz9ZqYjrkcxIJfvv+
 T1yhbgXyPMgVrtDatFFCxFzJ6eOdH6IiqaMxKxq1KqSeXG3eWuF4j1mVh
X-Google-Smtp-Source: AGHT+IHQL2I/ea6EuotFvhIRWuanUAk9HVU0YfISRpYDYpptUyWeQ28N8kwivfFg46toQEMm9NaNkBz95WRC
X-Received: by 2002:a05:6214:18ec:b0:68f:e7c5:a1f2 with SMTP id
 ep12-20020a05621418ec00b0068fe7c5a1f2mr1339556qvb.63.1709632936852; 
 Tue, 05 Mar 2024 02:02:16 -0800 (PST)
Received: from postal.iol.unh.edu (postal.iol.unh.edu.
 [2606:4100:3880:1234::84]) by smtp-relay.gmail.com with ESMTPS id
 jk4-20020ad45d44000000b006901af174c7sm578363qvb.12.2024.03.05.02.02.16
 (version=TLS1_2 cipher=ECDHE-ECDSA-AES128-GCM-SHA256 bits=128/128);
 Tue, 05 Mar 2024 02:02:16 -0800 (PST)
X-Relaying-Domain: iol.unh.edu
Date: Tue, 05 Mar 2024 02:02:16 -0800 (PST)
Message-ID: <65e6eda8.d40a0220.6d2ec.542bSMTPIN_ADDED_MISSING@mx.google.com>
Received: from [172.17.0.7] (unknown [172.18.0.217])
 by postal.iol.unh.edu (Postfix) with ESMTP id 8C33A6052712;
 Tue,  5 Mar 2024 05:02:16 -0500 (EST)
Subject: |SUCCESS| pw137983 [PATCH] [RFC] net/gve: add IPv4 checksum offloadi
From: dpdklab@iol.unh.edu
To: Test Report <test-report@dpdk.org>
Cc: dpdk-test-reports@iol.unh.edu
In-Reply-To: <20240305084026.2329691-1-rushilg@google.com>
References: <20240305084026.2329691-1-rushilg@google.com>
Content-Type: text/plain
X-BeenThere: test-report@dpdk.org
X-Mailman-Version: 2.1.29
Precedence: list
List-Id: automatic DPDK test reports <test-report.dpdk.org>
List-Unsubscribe: <https://mails.dpdk.org/options/test-report>,
 <mailto:test-report-request@dpdk.org?subject=unsubscribe>
List-Archive: <http://mails.dpdk.org/archives/test-report/>
List-Post: <mailto:test-report@dpdk.org>
List-Help: <mailto:test-report-request@dpdk.org?subject=help>
List-Subscribe: <https://mails.dpdk.org/listinfo/test-report>,
 <mailto:test-report-request@dpdk.org?subject=subscribe>
Errors-To: test-report-bounces@dpdk.org

Test-Label: iol-abi-testing
Test-Status: SUCCESS
http://dpdk.org/patch/137983

_Testing PASS_

Submitter: Rushil Gupta <rushilg@google.com>
Date: Tuesday, March 05 2024 08:40:26 
DPDK git baseline: Repo:dpdk
  Branch: master
  CommitID:29c516fa4f5bac381825667b5bdb1ced4548c6bc

137983 --> testing pass

Test environment and result as below:

+------------------+----------+
|   Environment    | abi_test |
+==================+==========+
| CentOS Stream 9  | PASS     |
+------------------+----------+
| Fedora 38        | PASS     |
+------------------+----------+
| Debian Bullseye  | PASS     |
+------------------+----------+
| CentOS Stream 8  | PASS     |
+------------------+----------+
| openSUSE Leap 15 | PASS     |
+------------------+----------+
| RHEL8            | PASS     |
+------------------+----------+
| Ubuntu 22.04     | PASS     |
+------------------+----------+
| Fedora 37        | PASS     |
+------------------+----------+
| Debian 12 (arm)  | PASS     |
+------------------+----------+


CentOS Stream 9
	Kernel: 4.18.0-240.10.1.el8_3.x86_64
	Compiler: gcc 11.3.1 20220421

Fedora 38
	Kernel: Depends on container host
	Compiler: gcc 13.1.1

Debian Bullseye
	Kernel: 5.4.0-122-generic
	Compiler: gcc 10.2.1-6

CentOS Stream 8
	Kernel: 4.18.0-240.10.1.el8_3.x86_64
	Compiler: gcc 8.4.1 20200928

openSUSE Leap 15
	Kernel: 4.18.0-240.10.1.el8_3.x86_64
	Compiler: gcc 7.5.0

RHEL8
	Kernel: 4.18.0-240.10.1.el8_3.x86_64
	Compiler: gcc 8.3.1 20191121 (Red Hat 8.3.1-5)

Ubuntu 22.04
	Kernel: 4.18.0-240.10.1.el8_3.x86_64
	Compiler: gcc 11.3.0

Fedora 37
	Kernel: Depends on container host system
	Compiler: gcc 12.3.1

Debian 12 (arm)
	Kernel: Container Host Kernel
	Compiler: gcc 11

To view detailed results, visit:
https://lab.dpdk.org/results/dashboard/patchsets/29411/

UNH-IOL DPDK Community Lab

To manage your email subscriptions, visit: 
https://lab.dpdk.org/results/dashboard/preferences/subscriptions/