From mboxrd@z Thu Jan  1 00:00:00 1970
Return-Path: <test-report-bounces@dpdk.org>
Received: from mails.dpdk.org (mails.dpdk.org [217.70.189.124])
	by inbox.dpdk.org (Postfix) with ESMTP id 419A243B79
	for <public@inbox.dpdk.org>; Tue,  5 Mar 2024 11:06:38 +0100 (CET)
Received: from mails.dpdk.org (localhost [127.0.0.1])
	by mails.dpdk.org (Postfix) with ESMTP id 3B1E74026B;
	Tue,  5 Mar 2024 11:06:38 +0100 (CET)
Received: from mail-il1-f227.google.com (mail-il1-f227.google.com
 [209.85.166.227])
 by mails.dpdk.org (Postfix) with ESMTP id 9727E4014F
 for <test-report@dpdk.org>; Tue,  5 Mar 2024 11:06:32 +0100 (CET)
Received: by mail-il1-f227.google.com with SMTP id
 e9e14a558f8ab-365f91e490cso3464765ab.2
 for <test-report@dpdk.org>; Tue, 05 Mar 2024 02:06:32 -0800 (PST)
DKIM-Signature: v=1; a=rsa-sha256; c=relaxed/relaxed;
 d=iol.unh.edu; s=unh-iol; t=1709633192; x=1710237992; darn=dpdk.org;
 h=references:in-reply-to:cc:to:from:subject:message-id:date:from:to
 :cc:subject:date:message-id:reply-to;
 bh=lJntyoLdS6nL0XzrCrwZjx0ZkAqVXDBgObNByhpYKrg=;
 b=IGuLD6i4kuISMHqt5xqFX2jwmranCIN+KBWlNybGUNLngyisnRjaWZgZIFi0coOpzT
 VGEjU/Yw0qJEh/o6TMYeLrb6YpN1xcI4SS9PBIPLkNNdylnbEOTRIJZCR0cU+1MEuTEH
 LaiUKfQurgDHPCFFGpMUFy6hbxH6l4Jvfyquo=
X-Google-DKIM-Signature: v=1; a=rsa-sha256; c=relaxed/relaxed;
 d=1e100.net; s=20230601; t=1709633192; x=1710237992;
 h=references:in-reply-to:cc:to:from:subject:message-id:date
 :x-gm-message-state:from:to:cc:subject:date:message-id:reply-to;
 bh=lJntyoLdS6nL0XzrCrwZjx0ZkAqVXDBgObNByhpYKrg=;
 b=BXYiGS54JJeY738IUKcqk6yJ0/SbWNg+1trHxxZVb5DWG/ZEgAfgjEXmWURgsexZuj
 RBciCMJUjWhkKdpGpfNh3CiYYYfzprg1qo+phIKrg4/hie2OdlUk/r13Bu7ByIxpFfkp
 9cIIPrbjOmEJq16OWjnUxhTllwmNwJH12eq1cXIm3JfpYGiMDLQRImdhQlbKNLn1udn+
 8TmsXtcT4UumxEOoHXlDuJFjWq16MQ2M5nBG++uS4CWZTvQqQnLPKojOL3lbL1ssW3UW
 lUdck7HsMpUEo51JXX7QBSIRK49GMel620XIqs+ZVurzW17RB0UkzSqTN28A8Z/y+phY
 ZefA==
X-Gm-Message-State: AOJu0YxvI9u85jY3ZaSUvxxr/BmEuf04lMohXwwWH5f9Gydnn8IyqR/f
 mSZLYOtyS85R3czc5e3SKcYYDePgP34znmqewUHJJnBmcGOBdg24Ippt+BZrMm1DjDZXLdEV4Gx
 ag/VUK95bpHqPWy2A91501flm6JvpH0KX4lNmotFNdXnMRA21lHWjcbrF
X-Google-Smtp-Source: AGHT+IEquf33Igt15/59iEuL9mIfzfm64Ho1+C49Xn2xo65cRBfwvuPXM5NcsXX679XJ18DGEY4uQbxPl0na
X-Received: by 2002:a05:6e02:b26:b0:365:c6d9:2d63 with SMTP id
 e6-20020a056e020b2600b00365c6d92d63mr15479750ilu.0.1709633192079; 
 Tue, 05 Mar 2024 02:06:32 -0800 (PST)
Received: from postal.iol.unh.edu (postal.iol.unh.edu.
 [2606:4100:3880:1234::84]) by smtp-relay.gmail.com with ESMTPS id
 i10-20020a056e02152a00b00363d09a1729sm548303ilu.30.2024.03.05.02.06.31
 (version=TLS1_2 cipher=ECDHE-ECDSA-AES128-GCM-SHA256 bits=128/128);
 Tue, 05 Mar 2024 02:06:32 -0800 (PST)
X-Relaying-Domain: iol.unh.edu
Date: Tue, 05 Mar 2024 02:06:32 -0800 (PST)
Message-ID: <65e6eea8.050a0220.866a8.2d4cSMTPIN_ADDED_MISSING@mx.google.com>
Received: from [172.17.0.7] (unknown [172.18.0.217])
 by postal.iol.unh.edu (Postfix) with ESMTP id 972CC6052712;
 Tue,  5 Mar 2024 05:06:31 -0500 (EST)
Subject: |SUCCESS| pw137983 [PATCH] [RFC] net/gve: add IPv4 checksum offloadi
From: dpdklab@iol.unh.edu
To: Test Report <test-report@dpdk.org>
Cc: dpdk-test-reports@iol.unh.edu
In-Reply-To: <20240305084026.2329691-1-rushilg@google.com>
References: <20240305084026.2329691-1-rushilg@google.com>
Content-Type: text/plain
X-BeenThere: test-report@dpdk.org
X-Mailman-Version: 2.1.29
Precedence: list
List-Id: automatic DPDK test reports <test-report.dpdk.org>
List-Unsubscribe: <https://mails.dpdk.org/options/test-report>,
 <mailto:test-report-request@dpdk.org?subject=unsubscribe>
List-Archive: <http://mails.dpdk.org/archives/test-report/>
List-Post: <mailto:test-report@dpdk.org>
List-Help: <mailto:test-report-request@dpdk.org?subject=help>
List-Subscribe: <https://mails.dpdk.org/listinfo/test-report>,
 <mailto:test-report-request@dpdk.org?subject=subscribe>
Errors-To: test-report-bounces@dpdk.org

Test-Label: iol-unit-arm64-testing
Test-Status: SUCCESS
http://dpdk.org/patch/137983

_Testing PASS_

Submitter: Rushil Gupta <rushilg@google.com>
Date: Tuesday, March 05 2024 08:40:26 
DPDK git baseline: Repo:dpdk
  Branch: master
  CommitID:29c516fa4f5bac381825667b5bdb1ced4548c6bc

137983 --> testing pass

Test environment and result as below:

+--------------------------+----------------+---------------------------+------------------------------+--------------+
|       Environment        | dpdk_unit_test | cryptodev_sw_zuc_autotest | cryptodev_sw_snow3g_autotest | lpm_autotest |
+==========================+================+===========================+==============================+==============+
| Debian 11 (Buster) (ARM) | PASS           | SKIPPED                   | SKIPPED                      | SKIPPED      |
+--------------------------+----------------+---------------------------+------------------------------+--------------+
| Debian 12 (arm)          | PASS           | PASS                      | PASS                         | SKIPPED      |
+--------------------------+----------------+---------------------------+------------------------------+--------------+
| CentOS Stream 9 (ARM)    | PASS           | SKIPPED                   | SKIPPED                      | SKIPPED      |
+--------------------------+----------------+---------------------------+------------------------------+--------------+
| Fedora 38 (ARM)          | PASS           | SKIPPED                   | SKIPPED                      | SKIPPED      |
+--------------------------+----------------+---------------------------+------------------------------+--------------+
| Fedora 37 (ARM)          | PASS           | SKIPPED                   | SKIPPED                      | SKIPPED      |
+--------------------------+----------------+---------------------------+------------------------------+--------------+
| Ubuntu 20.04 (ARM)       | PASS           | SKIPPED                   | SKIPPED                      | SKIPPED      |
+--------------------------+----------------+---------------------------+------------------------------+--------------+
| Ubuntu 20.04 ARM SVE     | SKIPPED        | SKIPPED                   | SKIPPED                      | PASS         |
+--------------------------+----------------+---------------------------+------------------------------+--------------+


Debian 11 (Buster) (ARM)
	Kernel: Container Host Kernel
	Compiler: gcc 10.2.1

Debian 12 (arm)
	Kernel: Container Host Kernel
	Compiler: gcc 11

CentOS Stream 9 (ARM)
	Kernel: Container Host Kernel
	Compiler: gcc 11.3.1

Fedora 38 (ARM)
	Kernel: Depends on container host
	Compiler: gcc 13.1.1

Fedora 37 (ARM)
	Kernel: Depends on container host
	Compiler: gcc 12.3.1

Ubuntu 20.04 (ARM)
	Kernel: Container Host Kernel
	Compiler: gcc 9.4.0

Ubuntu 20.04 ARM SVE
	Kernel: 5.4.0-80-generic
	Compiler: gcc 10.3.0 (Ubuntu 10.3.0-1ubuntu1~20.04)

To view detailed results, visit:
https://lab.dpdk.org/results/dashboard/patchsets/29411/

UNH-IOL DPDK Community Lab

To manage your email subscriptions, visit: 
https://lab.dpdk.org/results/dashboard/preferences/subscriptions/