From mboxrd@z Thu Jan  1 00:00:00 1970
Return-Path: <test-report-bounces@dpdk.org>
Received: from mails.dpdk.org (mails.dpdk.org [217.70.189.124])
	by inbox.dpdk.org (Postfix) with ESMTP id EAACD43B7D
	for <public@inbox.dpdk.org>; Tue,  5 Mar 2024 11:07:49 +0100 (CET)
Received: from mails.dpdk.org (localhost [127.0.0.1])
	by mails.dpdk.org (Postfix) with ESMTP id E69104026B;
	Tue,  5 Mar 2024 11:07:49 +0100 (CET)
Received: from mail-vk1-f226.google.com (mail-vk1-f226.google.com
 [209.85.221.226])
 by mails.dpdk.org (Postfix) with ESMTP id 92D8C4014F
 for <test-report@dpdk.org>; Tue,  5 Mar 2024 11:07:48 +0100 (CET)
Received: by mail-vk1-f226.google.com with SMTP id
 71dfb90a1353d-4d33d049cbaso1429426e0c.0
 for <test-report@dpdk.org>; Tue, 05 Mar 2024 02:07:48 -0800 (PST)
DKIM-Signature: v=1; a=rsa-sha256; c=relaxed/relaxed;
 d=iol.unh.edu; s=unh-iol; t=1709633268; x=1710238068; darn=dpdk.org;
 h=references:in-reply-to:cc:to:from:subject:message-id:date:from:to
 :cc:subject:date:message-id:reply-to;
 bh=IVcQgkuPbau26PkyagN3N2YnLY/lUMVJe/i2op/KLpE=;
 b=R/ojPpNH8PFZbUIQd6ndFlNGQEkLbaoGJ7XVBD0nQaXhJe9CBCi0dLCnYIseo0o0gA
 vSkBY4HrWLnpHX/Fc2LW1kt5VFs3CNz+ZGJysVr5NvQwRlKWUXKIeZoLw9kuWJvos/wO
 KvFrvbmpVVBq0tFVRGU04jAmZxj2SjJnKqZuU=
X-Google-DKIM-Signature: v=1; a=rsa-sha256; c=relaxed/relaxed;
 d=1e100.net; s=20230601; t=1709633268; x=1710238068;
 h=references:in-reply-to:cc:to:from:subject:message-id:date
 :x-gm-message-state:from:to:cc:subject:date:message-id:reply-to;
 bh=IVcQgkuPbau26PkyagN3N2YnLY/lUMVJe/i2op/KLpE=;
 b=q3ZvcnJoQz9VKA1qL3lqkN1bNsjSF0FbMIdOGTeQ+SMdtWaAt4vQGgDDxA+J7nSKN6
 OLYrIJL15KAO1xrdY0y+zrfMz3lJp3fQDaDowL6CyC+LT1FgNazPV+V7TR+NkvAvl8LI
 hXY955yw4gW1vMPT+yB621RRe/7UWdaQD+V8JHRN7w/FN5/BBbxm6hWsG8vlQStkC8/c
 eDhSNH1b0KEbpTVKNnYhANme+Wy5QG591yqfG2alX8k+1oC/inBpwE6UkrC5MiFJe5mr
 amd5QA5aTRpA8MfDb5j7grF+3KXt5YSrmn12RYre5KWrT1lIo05B6+z6HnsMu74odi4c
 en7Q==
X-Gm-Message-State: AOJu0YzKMe6LIOjhwiVLbO9TUOMSC3D7PXv5uYEDsQF4HxnPkAVZDs6j
 UtCH6yMCfvbHFbLIh1XT88lojMD2VFSct+2UY3i+SuTeKhGQWoSDjVY9HUd4zhtZ5vvEr9Ao+uk
 dAJ6O5JGVo8ssGBxhTUaVpSRrpI0qjC9WSC1Wxt8to3nGiVpuFyWaj9jT
X-Google-Smtp-Source: AGHT+IEpkCQCRPl5IdlPYn1tjVSm1eJ0mE6797/M83DPnoyaadHea9JzJaS1GwlTGJCZECduJu99B2+L2vzz
X-Received: by 2002:a05:6122:4d1a:b0:4c9:3829:a8b0 with SMTP id
 fi26-20020a0561224d1a00b004c93829a8b0mr1125995vkb.10.1709633267918; 
 Tue, 05 Mar 2024 02:07:47 -0800 (PST)
Received: from postal.iol.unh.edu (postal.iol.unh.edu.
 [2606:4100:3880:1234::84]) by smtp-relay.gmail.com with ESMTPS id
 cd11-20020a05622a418b00b0042eeeccf978sm333938qtb.13.2024.03.05.02.07.47
 (version=TLS1_2 cipher=ECDHE-ECDSA-AES128-GCM-SHA256 bits=128/128);
 Tue, 05 Mar 2024 02:07:47 -0800 (PST)
X-Relaying-Domain: iol.unh.edu
Date: Tue, 05 Mar 2024 02:07:47 -0800 (PST)
Message-ID: <65e6eef3.050a0220.e31e4.2ff9SMTPIN_ADDED_MISSING@mx.google.com>
Received: from [172.17.0.7] (unknown [172.18.0.217])
 by postal.iol.unh.edu (Postfix) with ESMTP id 9DDE86052712;
 Tue,  5 Mar 2024 05:07:47 -0500 (EST)
Subject: |SUCCESS| pw137983 [PATCH] [RFC] net/gve: add IPv4 checksum offloadi
From: dpdklab@iol.unh.edu
To: Test Report <test-report@dpdk.org>
Cc: dpdk-test-reports@iol.unh.edu
In-Reply-To: <20240305084026.2329691-1-rushilg@google.com>
References: <20240305084026.2329691-1-rushilg@google.com>
Content-Type: text/plain
X-BeenThere: test-report@dpdk.org
X-Mailman-Version: 2.1.29
Precedence: list
List-Id: automatic DPDK test reports <test-report.dpdk.org>
List-Unsubscribe: <https://mails.dpdk.org/options/test-report>,
 <mailto:test-report-request@dpdk.org?subject=unsubscribe>
List-Archive: <http://mails.dpdk.org/archives/test-report/>
List-Post: <mailto:test-report@dpdk.org>
List-Help: <mailto:test-report-request@dpdk.org?subject=help>
List-Subscribe: <https://mails.dpdk.org/listinfo/test-report>,
 <mailto:test-report-request@dpdk.org?subject=subscribe>
Errors-To: test-report-bounces@dpdk.org

Test-Label: iol-compile-arm64-testing
Test-Status: SUCCESS
http://dpdk.org/patch/137983

_Testing PASS_

Submitter: Rushil Gupta <rushilg@google.com>
Date: Tuesday, March 05 2024 08:40:26 
DPDK git baseline: Repo:dpdk
  Branch: master
  CommitID:29c516fa4f5bac381825667b5bdb1ced4548c6bc

137983 --> testing pass

Test environment and result as below:

+----------------------------------------+--------------------+
|              Environment               | dpdk_meson_compile |
+========================================+====================+
| Ubuntu 20.04 ARM SVE                   | PASS               |
+----------------------------------------+--------------------+
| Fedora 37 (ARM)                        | PASS               |
+----------------------------------------+--------------------+
| Ubuntu 20.04 aarch32 GCC Cross Compile | PASS               |
+----------------------------------------+--------------------+
| Ubuntu 20.04 (ARM)                     | PASS               |
+----------------------------------------+--------------------+
| Fedora 38 (ARM)                        | PASS               |
+----------------------------------------+--------------------+
| CentOS Stream 9 (ARM)                  | PASS               |
+----------------------------------------+--------------------+
| Debian 11 (Buster) (ARM)               | PASS               |
+----------------------------------------+--------------------+
| Debian 12 (arm)                        | PASS               |
+----------------------------------------+--------------------+
| Ubuntu 20.04 ARM Clang Cross Compile   | PASS               |
+----------------------------------------+--------------------+


Ubuntu 20.04 ARM SVE
	Kernel: 5.4.0-80-generic
	Compiler: gcc 10.3.0 (Ubuntu 10.3.0-1ubuntu1~20.04)

Fedora 37 (ARM)
	Kernel: Depends on container host
	Compiler: gcc 12.3.1

Ubuntu 20.04 aarch32 GCC Cross Compile
	Kernel: 5.4.0-72-generic
	Compiler: gcc 9.3.0

Ubuntu 20.04 (ARM)
	Kernel: Container Host Kernel
	Compiler: gcc 9.4.0

Fedora 38 (ARM)
	Kernel: Depends on container host
	Compiler: gcc 13.1.1

CentOS Stream 9 (ARM)
	Kernel: Container Host Kernel
	Compiler: gcc 11.3.1

Debian 11 (Buster) (ARM)
	Kernel: Container Host Kernel
	Compiler: gcc 10.2.1

Debian 12 (arm)
	Kernel: Container Host Kernel
	Compiler: gcc 11

Ubuntu 20.04 ARM Clang Cross Compile
	Kernel: 5.4.0-72-generic
	Compiler: clang version 10.0.0-4ubuntu1

To view detailed results, visit:
https://lab.dpdk.org/results/dashboard/patchsets/29411/

UNH-IOL DPDK Community Lab

To manage your email subscriptions, visit: 
https://lab.dpdk.org/results/dashboard/preferences/subscriptions/