From mboxrd@z Thu Jan  1 00:00:00 1970
Return-Path: <test-report-bounces@dpdk.org>
Received: from mails.dpdk.org (mails.dpdk.org [217.70.189.124])
	by inbox.dpdk.org (Postfix) with ESMTP id 158EB43C4D
	for <public@inbox.dpdk.org>; Tue,  5 Mar 2024 11:26:44 +0100 (CET)
Received: from mails.dpdk.org (localhost [127.0.0.1])
	by mails.dpdk.org (Postfix) with ESMTP id 1181C4026B;
	Tue,  5 Mar 2024 11:26:44 +0100 (CET)
Received: from mail-pf1-f228.google.com (mail-pf1-f228.google.com
 [209.85.210.228])
 by mails.dpdk.org (Postfix) with ESMTP id CCFCD4014F
 for <test-report@dpdk.org>; Tue,  5 Mar 2024 11:26:42 +0100 (CET)
Received: by mail-pf1-f228.google.com with SMTP id
 d2e1a72fcca58-6e46dcd8feaso331823b3a.2
 for <test-report@dpdk.org>; Tue, 05 Mar 2024 02:26:42 -0800 (PST)
DKIM-Signature: v=1; a=rsa-sha256; c=relaxed/relaxed;
 d=iol.unh.edu; s=unh-iol; t=1709634402; x=1710239202; darn=dpdk.org;
 h=references:in-reply-to:cc:to:from:subject:message-id:date:from:to
 :cc:subject:date:message-id:reply-to;
 bh=OChd9U47iZZhKjQTTVbBiIHrwJeHywVPNFPLflisQ9Y=;
 b=TDXqrn+yIGRJtnu15mJLA32X5oZ+pNR3xgXTYJSpLccSI1aMa/oMJKYgkMfskniamP
 QUEOEeyrOXcofwYeNNWpICFTevx8IcdpBj17JIDvAvEIGi4a7WLUeCPmQRg/xMPsSUmr
 Q6FmMkpgXt+dhM2Mm4eNIXhgP6yl5p5Fa6rvA=
X-Google-DKIM-Signature: v=1; a=rsa-sha256; c=relaxed/relaxed;
 d=1e100.net; s=20230601; t=1709634402; x=1710239202;
 h=references:in-reply-to:cc:to:from:subject:message-id:date
 :x-gm-message-state:from:to:cc:subject:date:message-id:reply-to;
 bh=OChd9U47iZZhKjQTTVbBiIHrwJeHywVPNFPLflisQ9Y=;
 b=durC0pHhVcuRr1QbXgy8lQdrLoQfHGs5foZJ9wEF+ykfCeKXhQtTnkpNFCWEb9SJ4V
 bviUPp/MF64TeEz1mvo8b7QjBpCbmjHMmDs3kH16Q9oqp96MnFWxcH0sPcGQOpMDqfFB
 Hr01BFOYD4B4zEmPHW6auMiXElg6tr/605OGJ7E4HPR6iB0brNmUDjBgg6nmTH9EIBAK
 yTKruunDKUpfdg9eSeDBWiTmfY8o4JgUWVAvcAztvpLSQQFZJaPScjPr3OaqkEslzRtG
 sCoZkl1YmneS+XPtlTQJ759zChLw6FxptMIkMdnqtxisDmKNQuXgy+7PNjvZuUXatKfP
 aiAw==
X-Gm-Message-State: AOJu0YycXnJ+e+n5IAYrZPSn4L1cEcHiZdtvscH8suFYxERlSOeJq9Dr
 CGMAhL/zUatJ4EHAbduHPhEZBXJKxpWfvuECukne5M6wKHLOnf8tmzqQOCbWw2ADUw7wEc6lhGr
 9uq6xRcvxaWzbS5ZM6awZMebzVEMnX9fwS201RCUQ
X-Google-Smtp-Source: AGHT+IF2K0XZz66yZ23wP74tZUoK8XQhAtWkS1oAewxOdpa3Q/ZjE+teHx2WdfFtaQ08sdHKcewwf1dxJ1qq
X-Received: by 2002:a05:6a20:47d8:b0:1a1:3042:8ee4 with SMTP id
 ey24-20020a056a2047d800b001a130428ee4mr1045178pzb.42.1709634401994; 
 Tue, 05 Mar 2024 02:26:41 -0800 (PST)
Received: from postal.iol.unh.edu (postal.iol.unh.edu. [132.177.123.84])
 by smtp-relay.gmail.com with ESMTPS id
 h23-20020a170902ac9700b001dcd5276599sm243552plr.144.2024.03.05.02.26.41
 (version=TLS1_2 cipher=ECDHE-ECDSA-AES128-GCM-SHA256 bits=128/128);
 Tue, 05 Mar 2024 02:26:41 -0800 (PST)
X-Relaying-Domain: iol.unh.edu
Date: Tue, 05 Mar 2024 02:26:41 -0800 (PST)
Message-ID: <65e6f361.170a0220.1ce33.ecebSMTPIN_ADDED_MISSING@mx.google.com>
Received: from [172.21.0.6] (unknown [172.18.0.240])
 by postal.iol.unh.edu (Postfix) with ESMTP id 281146052712;
 Tue,  5 Mar 2024 05:26:41 -0500 (EST)
Subject: |SUCCESS| pw137983 [PATCH] [RFC] net/gve: add IPv4 checksum offloadi
From: dpdklab@iol.unh.edu
To: Test Report <test-report@dpdk.org>
Cc: dpdk-test-reports@iol.unh.edu
In-Reply-To: <20240305084026.2329691-1-rushilg@google.com>
References: <20240305084026.2329691-1-rushilg@google.com>
Content-Type: text/plain
X-BeenThere: test-report@dpdk.org
X-Mailman-Version: 2.1.29
Precedence: list
List-Id: automatic DPDK test reports <test-report.dpdk.org>
List-Unsubscribe: <https://mails.dpdk.org/options/test-report>,
 <mailto:test-report-request@dpdk.org?subject=unsubscribe>
List-Archive: <http://mails.dpdk.org/archives/test-report/>
List-Post: <mailto:test-report@dpdk.org>
List-Help: <mailto:test-report-request@dpdk.org?subject=help>
List-Subscribe: <https://mails.dpdk.org/listinfo/test-report>,
 <mailto:test-report-request@dpdk.org?subject=subscribe>
Errors-To: test-report-bounces@dpdk.org

Test-Label: iol-unit-arm64-testing
Test-Status: SUCCESS
http://dpdk.org/patch/137983

_Testing PASS_

Submitter: Rushil Gupta <rushilg@google.com>
Date: Tuesday, March 05 2024 08:40:26 
DPDK git baseline: Repo:dpdk
  Branch: master
  CommitID:29c516fa4f5bac381825667b5bdb1ced4548c6bc

137983 --> testing pass

Test environment and result as below:

+--------------------------+----------------+---------------------------+------------------------------+--------------+
|       Environment        | dpdk_unit_test | cryptodev_sw_zuc_autotest | cryptodev_sw_snow3g_autotest | lpm_autotest |
+==========================+================+===========================+==============================+==============+
| Debian 11 (Buster) (ARM) | PASS           | SKIPPED                   | SKIPPED                      | SKIPPED      |
+--------------------------+----------------+---------------------------+------------------------------+--------------+
| Debian 12 (arm)          | PASS           | PASS                      | PASS                         | SKIPPED      |
+--------------------------+----------------+---------------------------+------------------------------+--------------+
| CentOS Stream 9 (ARM)    | PASS           | SKIPPED                   | SKIPPED                      | SKIPPED      |
+--------------------------+----------------+---------------------------+------------------------------+--------------+
| Fedora 38 (ARM)          | PASS           | SKIPPED                   | SKIPPED                      | SKIPPED      |
+--------------------------+----------------+---------------------------+------------------------------+--------------+
| Fedora 37 (ARM)          | PASS           | SKIPPED                   | SKIPPED                      | SKIPPED      |
+--------------------------+----------------+---------------------------+------------------------------+--------------+
| Ubuntu 20.04 (ARM)       | PASS           | SKIPPED                   | SKIPPED                      | SKIPPED      |
+--------------------------+----------------+---------------------------+------------------------------+--------------+
| Fedora 38 (ARM Clang)    | PASS           | SKIPPED                   | SKIPPED                      | SKIPPED      |
+--------------------------+----------------+---------------------------+------------------------------+--------------+
| Ubuntu 20.04 ARM SVE     | SKIPPED        | SKIPPED                   | SKIPPED                      | PASS         |
+--------------------------+----------------+---------------------------+------------------------------+--------------+


Debian 11 (Buster) (ARM)
	Kernel: Container Host Kernel
	Compiler: gcc 10.2.1

Debian 12 (arm)
	Kernel: Container Host Kernel
	Compiler: gcc 11

CentOS Stream 9 (ARM)
	Kernel: Container Host Kernel
	Compiler: gcc 11.3.1

Fedora 38 (ARM)
	Kernel: Depends on container host
	Compiler: gcc 13.1.1

Fedora 37 (ARM)
	Kernel: Depends on container host
	Compiler: gcc 12.3.1

Ubuntu 20.04 (ARM)
	Kernel: Container Host Kernel
	Compiler: gcc 9.4.0

Fedora 38 (ARM Clang)
	Kernel: Depends on container host
	Compiler: clang 16.0.3

Ubuntu 20.04 ARM SVE
	Kernel: 5.4.0-80-generic
	Compiler: gcc 10.3.0 (Ubuntu 10.3.0-1ubuntu1~20.04)

To view detailed results, visit:
https://lab.dpdk.org/results/dashboard/patchsets/29411/

UNH-IOL DPDK Community Lab

To manage your email subscriptions, visit: 
https://lab.dpdk.org/results/dashboard/preferences/subscriptions/