From mboxrd@z Thu Jan  1 00:00:00 1970
Return-Path: <test-report-bounces@dpdk.org>
Received: from mails.dpdk.org (mails.dpdk.org [217.70.189.124])
	by inbox.dpdk.org (Postfix) with ESMTP id 8E1A943C4D
	for <public@inbox.dpdk.org>; Tue,  5 Mar 2024 11:27:51 +0100 (CET)
Received: from mails.dpdk.org (localhost [127.0.0.1])
	by mails.dpdk.org (Postfix) with ESMTP id 884394026B;
	Tue,  5 Mar 2024 11:27:51 +0100 (CET)
Received: from mail-yw1-f226.google.com (mail-yw1-f226.google.com
 [209.85.128.226])
 by mails.dpdk.org (Postfix) with ESMTP id 047214014F
 for <test-report@dpdk.org>; Tue,  5 Mar 2024 11:27:50 +0100 (CET)
Received: by mail-yw1-f226.google.com with SMTP id
 00721157ae682-608e0b87594so56333137b3.1
 for <test-report@dpdk.org>; Tue, 05 Mar 2024 02:27:49 -0800 (PST)
DKIM-Signature: v=1; a=rsa-sha256; c=relaxed/relaxed;
 d=iol.unh.edu; s=unh-iol; t=1709634469; x=1710239269; darn=dpdk.org;
 h=references:in-reply-to:cc:to:from:subject:message-id:date:from:to
 :cc:subject:date:message-id:reply-to;
 bh=/FgjQ1mhXEtvAhhi4AofRvo5Ndh6XRdlaSzz6uE9AB8=;
 b=MtIfsxcZd1NypShZLUGavCUCtj3m2xgNhPg8WYvogSJwWNlWhrl3oFvcnuw/rIybYE
 mjjAb5LQK6hoXc21sEgzeh01WnEz/dbz7Cz3Q2QiYQ1CXqduGwHjIAQVJqVGXGo6qtQ8
 god8uLXU5ebjdeUiR9KNcQO0R8qfeaoMupfhw=
X-Google-DKIM-Signature: v=1; a=rsa-sha256; c=relaxed/relaxed;
 d=1e100.net; s=20230601; t=1709634469; x=1710239269;
 h=references:in-reply-to:cc:to:from:subject:message-id:date
 :x-gm-message-state:from:to:cc:subject:date:message-id:reply-to;
 bh=/FgjQ1mhXEtvAhhi4AofRvo5Ndh6XRdlaSzz6uE9AB8=;
 b=kGMzlnoo+GkG4J605gdoaLOeaqX4mxbu4Fkof0gyD5Kl8LByFA8AxM14No1MBUC5vS
 ndosdCAhM9Xq1+KHpZ3mXYcuHkmqVeo7ypZdTJp4qw8Tluf7Q/2fg6tax4cK2fR3muLE
 XATQOquplrIbPeHx2zx8mhY7rGpVSO70VkGfBMJVi1ufyb/fCqZV8C0RLLbWfMUGzL8q
 979iITLP61myiHhfokvLvNVQWtynAzPWnOujKCQFIknAtQ1T3MX3jqCinUqJbGi5plP8
 9/mxIXI83tWY0Vl/ii8lF4+AYUrVHjM6nVHVFPNsWEok0cvO33vqcDrSxzP7VDPJteYR
 lPgA==
X-Gm-Message-State: AOJu0YwXMDiBkIlFYVVaT8bWwfoSmA3tgkAkyEnO4YeaZ0uQKRGT+CBc
 G61alpoUJlb3CGWPDY8q4jLpl9IaRC68hI+NUdHESgfuMmlBBeoJTSoaNvY7k+RPPzPLrfS5Zhr
 wfnpcEw5QiE2RNX6TTEFz7VhE4Suu21OqDmyEyo6R
X-Google-Smtp-Source: AGHT+IFV8U5/AMMYH+3xyDRfFfoY5R7mKBo0xi02CaxXd34ZH5Vhc/JC1RjkngnMZjbMDY8LO5lsmYHuekug
X-Received: by 2002:a0d:d651:0:b0:609:a8fc:2176 with SMTP id
 y78-20020a0dd651000000b00609a8fc2176mr5992918ywd.8.1709634469426; 
 Tue, 05 Mar 2024 02:27:49 -0800 (PST)
Received: from postal.iol.unh.edu (postal.iol.unh.edu. [132.177.123.84])
 by smtp-relay.gmail.com with ESMTPS id
 da13-20020a05690c0d8d00b006084192c77dsm332697ywb.62.2024.03.05.02.27.49
 (version=TLS1_2 cipher=ECDHE-ECDSA-AES128-GCM-SHA256 bits=128/128);
 Tue, 05 Mar 2024 02:27:49 -0800 (PST)
X-Relaying-Domain: iol.unh.edu
Date: Tue, 05 Mar 2024 02:27:49 -0800 (PST)
Message-ID: <65e6f3a5.050a0220.dabf.41fcSMTPIN_ADDED_MISSING@mx.google.com>
Received: from [172.21.0.6] (unknown [172.18.0.240])
 by postal.iol.unh.edu (Postfix) with ESMTP id 209386052712;
 Tue,  5 Mar 2024 05:27:49 -0500 (EST)
Subject: |SUCCESS| pw137962-137982 [PATCH] [21/21] test/security: add out of 
From: dpdklab@iol.unh.edu
To: Test Report <test-report@dpdk.org>
Cc: dpdk-test-reports@iol.unh.edu
In-Reply-To: <20240305072213.283205-22-asasidharan@marvell.com>
References: <20240305072213.283205-22-asasidharan@marvell.com>
Content-Type: text/plain
X-BeenThere: test-report@dpdk.org
X-Mailman-Version: 2.1.29
Precedence: list
List-Id: automatic DPDK test reports <test-report.dpdk.org>
List-Unsubscribe: <https://mails.dpdk.org/options/test-report>,
 <mailto:test-report-request@dpdk.org?subject=unsubscribe>
List-Archive: <http://mails.dpdk.org/archives/test-report/>
List-Post: <mailto:test-report@dpdk.org>
List-Help: <mailto:test-report-request@dpdk.org?subject=help>
List-Subscribe: <https://mails.dpdk.org/listinfo/test-report>,
 <mailto:test-report-request@dpdk.org?subject=subscribe>
Errors-To: test-report-bounces@dpdk.org

Test-Label: iol-compile-amd64-testing
Test-Status: SUCCESS
http://dpdk.org/patch/137982

_Testing PASS_

Submitter: Aakash Sasidharan <asasidharan@marvell.com>
Date: Tuesday, March 05 2024 07:22:13 
DPDK git baseline: Repo:dpdk
  Branch: master
  CommitID:be793709e7b044cd4f806d6103bf3c046311a3c7

137962-137982 --> testing pass

Test environment and result as below:

+---------------------+--------------------+----------------------+
|     Environment     | dpdk_meson_compile | dpdk_mingw64_compile |
+=====================+====================+======================+
| Windows Server 2022 | PASS               | SKIPPED              |
+---------------------+--------------------+----------------------+
| Fedora 37           | PASS               | SKIPPED              |
+---------------------+--------------------+----------------------+
| FreeBSD 13.2        | PASS               | SKIPPED              |
+---------------------+--------------------+----------------------+
| CentOS Stream 9     | PASS               | SKIPPED              |
+---------------------+--------------------+----------------------+
| Debian 12 (arm)     | PASS               | SKIPPED              |
+---------------------+--------------------+----------------------+
| RHEL8               | PASS               | SKIPPED              |
+---------------------+--------------------+----------------------+
| Windows Server 2019 | PASS               | PASS                 |
+---------------------+--------------------+----------------------+
| CentOS Stream 8     | PASS               | SKIPPED              |
+---------------------+--------------------+----------------------+
| openSUSE Leap 15    | PASS               | SKIPPED              |
+---------------------+--------------------+----------------------+


Windows Server 2022
	Kernel: OS Build 20348.2031
	Compiler: MSVC VS-Preview

Fedora 37
	Kernel: Depends on container host system
	Compiler: gcc 12.3.1

FreeBSD 13.2
	Kernel: 13.2
	Compiler: clang 11.3.0

CentOS Stream 9
	Kernel: 4.18.0-240.10.1.el8_3.x86_64
	Compiler: gcc 11.3.1 20220421

Debian 12 (arm)
	Kernel: Container Host Kernel
	Compiler: gcc 11

RHEL8
	Kernel: 4.18.0-240.10.1.el8_3.x86_64
	Compiler: gcc 8.3.1 20191121 (Red Hat 8.3.1-5)

Windows Server 2019
	Kernel: 10.0
	Compiler: clang 14.0 and gcc 8.1.0 (MinGW)

CentOS Stream 8
	Kernel: 4.18.0-240.10.1.el8_3.x86_64
	Compiler: gcc 8.4.1 20200928

openSUSE Leap 15
	Kernel: 4.18.0-240.10.1.el8_3.x86_64
	Compiler: gcc 7.5.0

To view detailed results, visit:
https://lab.dpdk.org/results/dashboard/patchsets/29410/

UNH-IOL DPDK Community Lab

To manage your email subscriptions, visit: 
https://lab.dpdk.org/results/dashboard/preferences/subscriptions/