From mboxrd@z Thu Jan  1 00:00:00 1970
Return-Path: <test-report-bounces@dpdk.org>
Received: from mails.dpdk.org (mails.dpdk.org [217.70.189.124])
	by inbox.dpdk.org (Postfix) with ESMTP id 932C443B86
	for <public@inbox.dpdk.org>; Tue,  5 Mar 2024 11:32:55 +0100 (CET)
Received: from mails.dpdk.org (localhost [127.0.0.1])
	by mails.dpdk.org (Postfix) with ESMTP id 80CED4026B;
	Tue,  5 Mar 2024 11:32:55 +0100 (CET)
Received: from mail-il1-f227.google.com (mail-il1-f227.google.com
 [209.85.166.227])
 by mails.dpdk.org (Postfix) with ESMTP id 5FEB44014F
 for <test-report@dpdk.org>; Tue,  5 Mar 2024 11:32:54 +0100 (CET)
Received: by mail-il1-f227.google.com with SMTP id
 e9e14a558f8ab-365c9d37995so19406015ab.0
 for <test-report@dpdk.org>; Tue, 05 Mar 2024 02:32:54 -0800 (PST)
DKIM-Signature: v=1; a=rsa-sha256; c=relaxed/relaxed;
 d=iol.unh.edu; s=unh-iol; t=1709634774; x=1710239574; darn=dpdk.org;
 h=references:in-reply-to:cc:to:from:subject:message-id:date:from:to
 :cc:subject:date:message-id:reply-to;
 bh=qNbCBTMXDBVZITy+Gi0jiNPggPFbAnek9V6aoED1TZg=;
 b=C/Th/mkEBlsnE1nNIOgjA+vs98pgeFiglEY4gHOwVeW1lvcdrQvFWEPseUc6LbHsXw
 j5or+6F0tqm7lYx+ligdRBMHN1Nko6gGAEQZqLz0oydI3DEm7vcAdFA1atjTmPRQdpMD
 /dn0ZTRPCHLhnkcYPCH+cvR5kYL5Z0bOI4fXo=
X-Google-DKIM-Signature: v=1; a=rsa-sha256; c=relaxed/relaxed;
 d=1e100.net; s=20230601; t=1709634774; x=1710239574;
 h=references:in-reply-to:cc:to:from:subject:message-id:date
 :x-gm-message-state:from:to:cc:subject:date:message-id:reply-to;
 bh=qNbCBTMXDBVZITy+Gi0jiNPggPFbAnek9V6aoED1TZg=;
 b=auPi02xlTEHpNTg/sFFhtLa6kXHdiyFAp/MJOp99iHfke9TLWecD3GVXqpsUcq9sSC
 sDMET0+pmx18u7gVgaR2zZ61l97xNKyidfnKblh5A5oE8dyOFYa77bPUBuYKCYA5iyX3
 FMyO93HcxWmbc55DsgSEQW2sQ2h9gI/ALlP6bXiu7EkoFCvXsmJDARuRE6ym0wfZeiM0
 zBHyxOMHslFA8UXX2yxlmUxYqFFZdNiRByYzA20QtVEkgrZnkBDvEa6jf1I0T+jdlX/I
 Bv8/lC9T1W17+1r7wtNkV1ZkfewEgxwXbCnc7cmgRvCyqbL6ideQirRb1WQh132U1rVt
 9jmQ==
X-Gm-Message-State: AOJu0Yyu91xnX6vSUn8iZEms269VKuManWoJTUPajwD0SwWimTEbufFa
 cPd9YcI0koWaG/Kp0e1xGKFTde6keLdVTJtifv7S4ZtwqukVfRo/RHKlqecSSTk2qLh6KVRO/Fb
 OOlAHRF148VcupRTAbukGte9jT7tEn5VOA56BU3HE
X-Google-Smtp-Source: AGHT+IHisu2rlDBy+mMUoSEyhpENqppDa9ICwmQFJ/HRpGfrN+FXPP6bJc1rlGYcLbXQYCqtYhfm5Oh2XXkE
X-Received: by 2002:a05:6e02:1d0d:b0:364:1b46:607d with SMTP id
 i13-20020a056e021d0d00b003641b46607dmr17115998ila.5.1709634773890; 
 Tue, 05 Mar 2024 02:32:53 -0800 (PST)
Received: from postal.iol.unh.edu (postal.iol.unh.edu. [132.177.123.84])
 by smtp-relay.gmail.com with ESMTPS id
 i4-20020a056e0212c400b00365782c02b9sm535669ilm.19.2024.03.05.02.32.53
 (version=TLS1_2 cipher=ECDHE-ECDSA-AES128-GCM-SHA256 bits=128/128);
 Tue, 05 Mar 2024 02:32:53 -0800 (PST)
X-Relaying-Domain: iol.unh.edu
Date: Tue, 05 Mar 2024 02:32:53 -0800 (PST)
Message-ID: <65e6f4d5.050a0220.4f452.4bdaSMTPIN_ADDED_MISSING@mx.google.com>
Received: from [172.21.0.6] (unknown [172.18.0.240])
 by postal.iol.unh.edu (Postfix) with ESMTP id 6881C6052712;
 Tue,  5 Mar 2024 05:32:53 -0500 (EST)
Subject: |SUCCESS| pw137962-137982 [PATCH] [21/21] test/security: add out of 
From: dpdklab@iol.unh.edu
To: Test Report <test-report@dpdk.org>
Cc: dpdk-test-reports@iol.unh.edu
In-Reply-To: <20240305072213.283205-22-asasidharan@marvell.com>
References: <20240305072213.283205-22-asasidharan@marvell.com>
Content-Type: text/plain
X-BeenThere: test-report@dpdk.org
X-Mailman-Version: 2.1.29
Precedence: list
List-Id: automatic DPDK test reports <test-report.dpdk.org>
List-Unsubscribe: <https://mails.dpdk.org/options/test-report>,
 <mailto:test-report-request@dpdk.org?subject=unsubscribe>
List-Archive: <http://mails.dpdk.org/archives/test-report/>
List-Post: <mailto:test-report@dpdk.org>
List-Help: <mailto:test-report-request@dpdk.org?subject=help>
List-Subscribe: <https://mails.dpdk.org/listinfo/test-report>,
 <mailto:test-report-request@dpdk.org?subject=subscribe>
Errors-To: test-report-bounces@dpdk.org

Test-Label: iol-compile-amd64-testing
Test-Status: SUCCESS
http://dpdk.org/patch/137982

_Testing PASS_

Submitter: Aakash Sasidharan <asasidharan@marvell.com>
Date: Tuesday, March 05 2024 07:22:13 
DPDK git baseline: Repo:dpdk
  Branch: master
  CommitID:be793709e7b044cd4f806d6103bf3c046311a3c7

137962-137982 --> testing pass

Test environment and result as below:

+---------------------+--------------------+----------------------+
|     Environment     | dpdk_meson_compile | dpdk_mingw64_compile |
+=====================+====================+======================+
| Windows Server 2022 | PASS               | SKIPPED              |
+---------------------+--------------------+----------------------+
| Fedora 37           | PASS               | SKIPPED              |
+---------------------+--------------------+----------------------+
| FreeBSD 13.2        | PASS               | SKIPPED              |
+---------------------+--------------------+----------------------+
| CentOS Stream 9     | PASS               | SKIPPED              |
+---------------------+--------------------+----------------------+
| Debian 12 (arm)     | PASS               | SKIPPED              |
+---------------------+--------------------+----------------------+
| RHEL8               | PASS               | SKIPPED              |
+---------------------+--------------------+----------------------+
| Windows Server 2019 | PASS               | PASS                 |
+---------------------+--------------------+----------------------+
| CentOS Stream 8     | PASS               | SKIPPED              |
+---------------------+--------------------+----------------------+
| openSUSE Leap 15    | PASS               | SKIPPED              |
+---------------------+--------------------+----------------------+
| Debian Bullseye     | PASS               | SKIPPED              |
+---------------------+--------------------+----------------------+
| Ubuntu 20.04        | PASS               | SKIPPED              |
+---------------------+--------------------+----------------------+


Windows Server 2022
	Kernel: OS Build 20348.2031
	Compiler: MSVC VS-Preview

Fedora 37
	Kernel: Depends on container host system
	Compiler: gcc 12.3.1

FreeBSD 13.2
	Kernel: 13.2
	Compiler: clang 11.3.0

CentOS Stream 9
	Kernel: 4.18.0-240.10.1.el8_3.x86_64
	Compiler: gcc 11.3.1 20220421

Debian 12 (arm)
	Kernel: Container Host Kernel
	Compiler: gcc 11

RHEL8
	Kernel: 4.18.0-240.10.1.el8_3.x86_64
	Compiler: gcc 8.3.1 20191121 (Red Hat 8.3.1-5)

Windows Server 2019
	Kernel: 10.0
	Compiler: clang 14.0 and gcc 8.1.0 (MinGW)

CentOS Stream 8
	Kernel: 4.18.0-240.10.1.el8_3.x86_64
	Compiler: gcc 8.4.1 20200928

openSUSE Leap 15
	Kernel: 4.18.0-240.10.1.el8_3.x86_64
	Compiler: gcc 7.5.0

Debian Bullseye
	Kernel: 5.4.0-122-generic
	Compiler: gcc 10.2.1-6

Ubuntu 20.04
	Kernel: 5.4.0-153-generic
	Compiler: gcc 9.4.0-1ubuntu1~20.04.1

To view detailed results, visit:
https://lab.dpdk.org/results/dashboard/patchsets/29410/

UNH-IOL DPDK Community Lab

To manage your email subscriptions, visit: 
https://lab.dpdk.org/results/dashboard/preferences/subscriptions/