From mboxrd@z Thu Jan  1 00:00:00 1970
Return-Path: <test-report-bounces@dpdk.org>
Received: from mails.dpdk.org (mails.dpdk.org [217.70.189.124])
	by inbox.dpdk.org (Postfix) with ESMTP id 5667A43C4B
	for <public@inbox.dpdk.org>; Tue,  5 Mar 2024 12:03:43 +0100 (CET)
Received: from mails.dpdk.org (localhost [127.0.0.1])
	by mails.dpdk.org (Postfix) with ESMTP id 528F240270;
	Tue,  5 Mar 2024 12:03:43 +0100 (CET)
Received: from mail-yw1-f225.google.com (mail-yw1-f225.google.com
 [209.85.128.225])
 by mails.dpdk.org (Postfix) with ESMTP id A788A4026B
 for <test-report@dpdk.org>; Tue,  5 Mar 2024 12:03:42 +0100 (CET)
Received: by mail-yw1-f225.google.com with SMTP id
 00721157ae682-6089b64f4eeso48853477b3.2
 for <test-report@dpdk.org>; Tue, 05 Mar 2024 03:03:42 -0800 (PST)
DKIM-Signature: v=1; a=rsa-sha256; c=relaxed/relaxed;
 d=iol.unh.edu; s=unh-iol; t=1709636622; x=1710241422; darn=dpdk.org;
 h=references:in-reply-to:cc:to:from:subject:message-id:date:from:to
 :cc:subject:date:message-id:reply-to;
 bh=M6T5WlprD42DptGrlwREU4A+Dx0gQRSZo6ARd7DFfzg=;
 b=NCPYaDPT68eLdPCIr4Ibg4bXd9JfushnUQDR9+nRuC4+bX0odunfGc8JrIy8tGdEZ0
 kVQGrO5P8h1Vr5c6MNNQ2//mJ51OfuWjogBuXGjz/GhcXr61IEOJkrxNJTxIngRr0HRa
 8/n3hltdvj1BE1hUwkQFBziSpkm1hXtSMA/mI=
X-Google-DKIM-Signature: v=1; a=rsa-sha256; c=relaxed/relaxed;
 d=1e100.net; s=20230601; t=1709636622; x=1710241422;
 h=references:in-reply-to:cc:to:from:subject:message-id:date
 :x-gm-message-state:from:to:cc:subject:date:message-id:reply-to;
 bh=M6T5WlprD42DptGrlwREU4A+Dx0gQRSZo6ARd7DFfzg=;
 b=CW+9Vkhk729VxdPslok9E4xOxKpl2b1kaj2/ig5OkivFL9GI4CEUdXLBcATg1G2ktY
 UeQkxs2TAt3Ymv6ApxbyQiQNBNjJ+eVMASOT2qpCVAAeegjfGtzYKVzSFUemzVdxozg4
 cuB18fQoOiEWtYKAE6YXocb1myc+bKbtuGAOqJNJhtYXi0FZ8j9FGWqlY/09C2khSb4+
 dHVWTlx3p8qrTxL2RMoR5k7vYopc0ridBPT6lBPzdFj3EsKw5edlcAM+tixCMILsz9nC
 zC7qoGe6DqgudxLYgofw/sUf56Zity99AzIbunOBVAXnPM5zS0OkxFvQlW5/Eij5JV3n
 unIQ==
X-Gm-Message-State: AOJu0Ywfig/ruqIEBjGWBC+wePebmPi+s/NR7cCHc6k+UsTYoFxX2Z2w
 OfCTyH52+K/22kmceQ5PvGylkrh2+jUbApBe/Uu4sRut+BpwAFucsNpygoJJ9uoimZCiwbyrR4W
 vTpgysWLZjjRd6lchNQ5k+IwvEcdl8qvUNqr3jH3biwxyB+eKxEPRM1nA
X-Google-Smtp-Source: AGHT+IFoKq78HIohNpyXoggiJUUJHCpbPHkU5eW9VzBFyXV0HP5lzWzYmNzcGlh32p12i5SvSU874h/dwV9i
X-Received: by 2002:a0d:ea49:0:b0:609:1cfe:c54d with SMTP id
 t70-20020a0dea49000000b006091cfec54dmr11416697ywe.24.1709636620616; 
 Tue, 05 Mar 2024 03:03:40 -0800 (PST)
Received: from postal.iol.unh.edu (postal.iol.unh.edu.
 [2606:4100:3880:1234::84]) by smtp-relay.gmail.com with ESMTPS id
 y198-20020a0dd6cf000000b00608e3c4a4eesm692065ywd.32.2024.03.05.03.03.40
 (version=TLS1_2 cipher=ECDHE-ECDSA-AES128-GCM-SHA256 bits=128/128);
 Tue, 05 Mar 2024 03:03:40 -0800 (PST)
X-Relaying-Domain: iol.unh.edu
Date: Tue, 05 Mar 2024 03:03:40 -0800 (PST)
Message-ID: <65e6fc0c.0d0a0220.7a00.f2f2SMTPIN_ADDED_MISSING@mx.google.com>
Received: from [172.21.0.6] (unknown [172.18.0.240])
 by postal.iol.unh.edu (Postfix) with ESMTP id 47B816052712;
 Tue,  5 Mar 2024 06:03:40 -0500 (EST)
Subject: |SUCCESS| pw137962-137982 [PATCH] [21/21] test/security: add out of 
From: dpdklab@iol.unh.edu
To: Test Report <test-report@dpdk.org>
Cc: dpdk-test-reports@iol.unh.edu
In-Reply-To: <20240305072213.283205-22-asasidharan@marvell.com>
References: <20240305072213.283205-22-asasidharan@marvell.com>
Content-Type: text/plain
X-BeenThere: test-report@dpdk.org
X-Mailman-Version: 2.1.29
Precedence: list
List-Id: automatic DPDK test reports <test-report.dpdk.org>
List-Unsubscribe: <https://mails.dpdk.org/options/test-report>,
 <mailto:test-report-request@dpdk.org?subject=unsubscribe>
List-Archive: <http://mails.dpdk.org/archives/test-report/>
List-Post: <mailto:test-report@dpdk.org>
List-Help: <mailto:test-report-request@dpdk.org?subject=help>
List-Subscribe: <https://mails.dpdk.org/listinfo/test-report>,
 <mailto:test-report-request@dpdk.org?subject=subscribe>
Errors-To: test-report-bounces@dpdk.org

Test-Label: iol-unit-amd64-testing
Test-Status: SUCCESS
http://dpdk.org/patch/137982

_Testing PASS_

Submitter: Aakash Sasidharan <asasidharan@marvell.com>
Date: Tuesday, March 05 2024 07:22:13 
DPDK git baseline: Repo:dpdk
  Branch: master
  CommitID:be793709e7b044cd4f806d6103bf3c046311a3c7

137962-137982 --> testing pass

Test environment and result as below:

+---------------------+----------------+
|     Environment     | dpdk_unit_test |
+=====================+================+
| CentOS Stream 9     | PASS           |
+---------------------+----------------+
| Debian 12 (arm)     | PASS           |
+---------------------+----------------+
| Fedora 38           | PASS           |
+---------------------+----------------+
| Fedora 37           | PASS           |
+---------------------+----------------+
| Debian Bullseye     | PASS           |
+---------------------+----------------+
| CentOS Stream 8     | PASS           |
+---------------------+----------------+
| Windows Server 2019 | PASS           |
+---------------------+----------------+
| Ubuntu 20.04        | PASS           |
+---------------------+----------------+
| RHEL8               | PASS           |
+---------------------+----------------+
| openSUSE Leap 15    | PASS           |
+---------------------+----------------+
| Ubuntu 22.04        | PASS           |
+---------------------+----------------+


CentOS Stream 9
	Kernel: 4.18.0-240.10.1.el8_3.x86_64
	Compiler: gcc 11.3.1 20220421

Debian 12 (arm)
	Kernel: Container Host Kernel
	Compiler: gcc 11

Fedora 38
	Kernel: Depends on container host
	Compiler: gcc 13.1.1

Fedora 37
	Kernel: Depends on container host system
	Compiler: gcc 12.3.1

Debian Bullseye
	Kernel: 5.4.0-122-generic
	Compiler: gcc 10.2.1-6

CentOS Stream 8
	Kernel: 4.18.0-240.10.1.el8_3.x86_64
	Compiler: gcc 8.4.1 20200928

Windows Server 2019
	Kernel: 10.0
	Compiler: clang 14.0 and gcc 8.1.0 (MinGW)

Ubuntu 20.04
	Kernel: 5.4.0-153-generic
	Compiler: gcc 9.4.0-1ubuntu1~20.04.1

RHEL8
	Kernel: 4.18.0-240.10.1.el8_3.x86_64
	Compiler: gcc 8.3.1 20191121 (Red Hat 8.3.1-5)

openSUSE Leap 15
	Kernel: 4.18.0-240.10.1.el8_3.x86_64
	Compiler: gcc 7.5.0

Ubuntu 22.04
	Kernel: 4.18.0-240.10.1.el8_3.x86_64
	Compiler: gcc 11.3.0

To view detailed results, visit:
https://lab.dpdk.org/results/dashboard/patchsets/29410/

UNH-IOL DPDK Community Lab

To manage your email subscriptions, visit: 
https://lab.dpdk.org/results/dashboard/preferences/subscriptions/