From mboxrd@z Thu Jan  1 00:00:00 1970
Return-Path: <test-report-bounces@dpdk.org>
Received: from mails.dpdk.org (mails.dpdk.org [217.70.189.124])
	by inbox.dpdk.org (Postfix) with ESMTP id 7C0B943C38
	for <public@inbox.dpdk.org>; Tue,  5 Mar 2024 15:56:01 +0100 (CET)
Received: from mails.dpdk.org (localhost [127.0.0.1])
	by mails.dpdk.org (Postfix) with ESMTP id 77EE34026B;
	Tue,  5 Mar 2024 15:56:01 +0100 (CET)
Received: from mail-pj1-f99.google.com (mail-pj1-f99.google.com
 [209.85.216.99]) by mails.dpdk.org (Postfix) with ESMTP id 2AE834014F
 for <test-report@dpdk.org>; Tue,  5 Mar 2024 15:56:00 +0100 (CET)
Received: by mail-pj1-f99.google.com with SMTP id
 98e67ed59e1d1-2997cb49711so554521a91.3
 for <test-report@dpdk.org>; Tue, 05 Mar 2024 06:56:00 -0800 (PST)
DKIM-Signature: v=1; a=rsa-sha256; c=relaxed/relaxed;
 d=iol.unh.edu; s=unh-iol; t=1709650559; x=1710255359; darn=dpdk.org;
 h=references:in-reply-to:cc:to:from:subject:message-id:date:from:to
 :cc:subject:date:message-id:reply-to;
 bh=NMt5qzKgOpkkRrLUHOWa3HnvRnPVRT7QGUhzxoJ6Lt4=;
 b=jehyvIDBfZ2HGqXQbyk/BevphNIiYIe6fwBWK/YYKZ+8Wcbqtxt7m0RHxEnCt3eD2F
 Xy1cZ3zlu2hJ7XhjPQ1/wu9L89nwI6PH21hEyxlIOlr/tOy1JUw5t1IPY8N4pOc9doAW
 Bhf0OZjdL8SHY9egr/TiIAExm+7oLb/lydx7w=
X-Google-DKIM-Signature: v=1; a=rsa-sha256; c=relaxed/relaxed;
 d=1e100.net; s=20230601; t=1709650559; x=1710255359;
 h=references:in-reply-to:cc:to:from:subject:message-id:date
 :x-gm-message-state:from:to:cc:subject:date:message-id:reply-to;
 bh=NMt5qzKgOpkkRrLUHOWa3HnvRnPVRT7QGUhzxoJ6Lt4=;
 b=gOH+aY97fxbMXFqFpLQmY1gmzDWhMGqnkYLuR9hWkaRQv3Q1XCNwJbO0yyA8iznsdd
 hGeB2qXwFoXsGYyPnBCwu4LkxiGocPCa9YTN0OZWzDqaqNi7jPHT4ySXUcI66UYgbA7N
 xZOm1tqa+8afoebM9kCyZgJloqsKqbQOCnQfhY1GvXzfKSzlgc9NjWjDiTwiIo/VVCWW
 R0d+NAKmyzm3X/SPsBVJMczm3imLTuMlv0wPHIkJ/wqDP24QYGI5/6QpfavZ7dxNKoRD
 fodvkE5haXS+/QNwWyx/i42SQOhv3xp+TlFthDeTCDuYnBBZs36UpTi7AcqQsw+4nPjG
 vqcA==
X-Gm-Message-State: AOJu0YyYD5A/inTboeANPnfjAbXoBSBF29g/IMl+r5xj5MLuF9XvSpQz
 uNuTO6O5QNmwbOYFEl73Kgs8LQP9PhmM7oA/LkdPYZGLUFG68o2bpdQxhUmq/WJyCNxNnX6HRvQ
 nSSatFTYgT2Pf77dSO+hv9o9vrpAhWygE5cMvxnKj
X-Google-Smtp-Source: AGHT+IHunv24n5pfr0rhPplf+eVwneK6yKfbRPX4e5Zht/Ck88mQi2cLqxHNWtiQhMNFUHGqeTXy933ouC9W
X-Received: by 2002:a17:90a:17e9:b0:299:bade:ed0b with SMTP id
 q96-20020a17090a17e900b00299badeed0bmr8340107pja.45.1709650559445; 
 Tue, 05 Mar 2024 06:55:59 -0800 (PST)
Received: from postal.iol.unh.edu (postal.iol.unh.edu. [132.177.123.84])
 by smtp-relay.gmail.com with ESMTPS id
 h1-20020a17090ac38100b0029b504b42easm195316pjt.3.2024.03.05.06.55.59
 (version=TLS1_2 cipher=ECDHE-ECDSA-AES128-GCM-SHA256 bits=128/128);
 Tue, 05 Mar 2024 06:55:59 -0800 (PST)
X-Relaying-Domain: iol.unh.edu
Date: Tue, 05 Mar 2024 06:55:59 -0800 (PST)
Message-ID: <65e7327f.170a0220.7cc64.a603SMTPIN_ADDED_MISSING@mx.google.com>
Received: from [172.21.0.7] (unknown [172.18.0.240])
 by postal.iol.unh.edu (Postfix) with ESMTP id 9E1A26052511;
 Tue,  5 Mar 2024 09:55:58 -0500 (EST)
Subject: |SUCCESS| pw137988 [PATCH] [v4] net/ice: add diagnostic support in T
From: dpdklab@iol.unh.edu
To: Test Report <test-report@dpdk.org>
Cc: dpdk-test-reports@iol.unh.edu
In-Reply-To: <20240305101843.769539-1-mingjinx.ye@intel.com>
References: <20240305101843.769539-1-mingjinx.ye@intel.com>
Content-Type: text/plain
X-BeenThere: test-report@dpdk.org
X-Mailman-Version: 2.1.29
Precedence: list
List-Id: automatic DPDK test reports <test-report.dpdk.org>
List-Unsubscribe: <https://mails.dpdk.org/options/test-report>,
 <mailto:test-report-request@dpdk.org?subject=unsubscribe>
List-Archive: <http://mails.dpdk.org/archives/test-report/>
List-Post: <mailto:test-report@dpdk.org>
List-Help: <mailto:test-report-request@dpdk.org?subject=help>
List-Subscribe: <https://mails.dpdk.org/listinfo/test-report>,
 <mailto:test-report-request@dpdk.org?subject=subscribe>
Errors-To: test-report-bounces@dpdk.org

Test-Label: iol-abi-testing
Test-Status: SUCCESS
http://dpdk.org/patch/137988

_Testing PASS_

Submitter: Mingjin Ye <mingjinx.ye@intel.com>
Date: Tuesday, March 05 2024 10:18:42 
DPDK git baseline: Repo:dpdk
  Branch: master
  CommitID:6cd9fa5ad4bba96acc5e451715c6616a7af672c3

137988 --> testing pass

Test environment and result as below:

+------------------+----------+
|   Environment    | abi_test |
+==================+==========+
| Debian Bullseye  | PASS     |
+------------------+----------+
| RHEL8            | PASS     |
+------------------+----------+
| Fedora 38        | PASS     |
+------------------+----------+
| CentOS Stream 8  | PASS     |
+------------------+----------+
| CentOS Stream 9  | PASS     |
+------------------+----------+
| openSUSE Leap 15 | PASS     |
+------------------+----------+
| Ubuntu 22.04     | PASS     |
+------------------+----------+
| Fedora 37        | PASS     |
+------------------+----------+
| Debian 12 (arm)  | PASS     |
+------------------+----------+


Debian Bullseye
	Kernel: 5.4.0-122-generic
	Compiler: gcc 10.2.1-6

RHEL8
	Kernel: 4.18.0-240.10.1.el8_3.x86_64
	Compiler: gcc 8.3.1 20191121 (Red Hat 8.3.1-5)

Fedora 38
	Kernel: Depends on container host
	Compiler: gcc 13.1.1

CentOS Stream 8
	Kernel: 4.18.0-240.10.1.el8_3.x86_64
	Compiler: gcc 8.4.1 20200928

CentOS Stream 9
	Kernel: 4.18.0-240.10.1.el8_3.x86_64
	Compiler: gcc 11.3.1 20220421

openSUSE Leap 15
	Kernel: 4.18.0-240.10.1.el8_3.x86_64
	Compiler: gcc 7.5.0

Ubuntu 22.04
	Kernel: 4.18.0-240.10.1.el8_3.x86_64
	Compiler: gcc 11.3.0

Fedora 37
	Kernel: Depends on container host system
	Compiler: gcc 12.3.1

Debian 12 (arm)
	Kernel: Container Host Kernel
	Compiler: gcc 11

To view detailed results, visit:
https://lab.dpdk.org/results/dashboard/patchsets/29416/

UNH-IOL DPDK Community Lab

To manage your email subscriptions, visit: 
https://lab.dpdk.org/results/dashboard/preferences/subscriptions/