From mboxrd@z Thu Jan  1 00:00:00 1970
Return-Path: <test-report-bounces@dpdk.org>
Received: from mails.dpdk.org (mails.dpdk.org [217.70.189.124])
	by inbox.dpdk.org (Postfix) with ESMTP id 4C65443B76
	for <public@inbox.dpdk.org>; Tue,  5 Mar 2024 17:23:52 +0100 (CET)
Received: from mails.dpdk.org (localhost [127.0.0.1])
	by mails.dpdk.org (Postfix) with ESMTP id 454D840271;
	Tue,  5 Mar 2024 17:23:52 +0100 (CET)
Received: from mail-io1-f99.google.com (mail-io1-f99.google.com
 [209.85.166.99]) by mails.dpdk.org (Postfix) with ESMTP id 97CC640270
 for <test-report@dpdk.org>; Tue,  5 Mar 2024 17:23:51 +0100 (CET)
Received: by mail-io1-f99.google.com with SMTP id
 ca18e2360f4ac-7c488a5af5eso176680139f.1
 for <test-report@dpdk.org>; Tue, 05 Mar 2024 08:23:51 -0800 (PST)
DKIM-Signature: v=1; a=rsa-sha256; c=relaxed/relaxed;
 d=iol.unh.edu; s=unh-iol; t=1709655831; x=1710260631; darn=dpdk.org;
 h=references:in-reply-to:cc:to:from:subject:message-id:date:from:to
 :cc:subject:date:message-id:reply-to;
 bh=qrwr0EBVCHWvBf0y+RLqcRAVwc6rPjX4nlqn19TGtsU=;
 b=dG4uVziRk07U7+JczngoDJtQwTOs2Ybubv/5mHAUpr0oeDBwWiYB6H0NiQ+mBrBlkL
 H8GRKqOxHpwT3Hsnjla+n35v3qYZ5KvbX6RX6SKKzVOE3hEd4FmQQG5jcwL1jT+ZeMYV
 XWkmcomykTCdfYBD7cS71jQiFrEVBdv5zQwlY=
X-Google-DKIM-Signature: v=1; a=rsa-sha256; c=relaxed/relaxed;
 d=1e100.net; s=20230601; t=1709655831; x=1710260631;
 h=references:in-reply-to:cc:to:from:subject:message-id:date
 :x-gm-message-state:from:to:cc:subject:date:message-id:reply-to;
 bh=qrwr0EBVCHWvBf0y+RLqcRAVwc6rPjX4nlqn19TGtsU=;
 b=jFDiZkLxjj0gjCVC/ZnZgwMZK64otaJBHtlu26Iwgxj7PH/0ufCirAkl1qBqpeGHMK
 X6ZSX8RTfhoB+JSBg38RTqrd0MgQYBo+/nOYKg70SWjWUz5BLDa/HrPn4m3hqfbgs3lf
 tQeZCoLZkvQdzjfbFModsGCpezJeca7lsI68yQ3LYfaKE/9SIwNHKhBfklJHiZbop6u/
 fS1grblKxIWR5/ROT5Ql5Iv41XSxD8cWJ7wbXqt/veAxFWWHica3LjWsCDGodx7EZysd
 7uRjdqbwHLunQMPiKHRiJfQJVkO5IBH6e35Oe8uRdj7TM7G/DDZlkvm5sr+h1vQCOzhY
 k4/Q==
X-Gm-Message-State: AOJu0YyZB6tg4jKyh2bcFGolR/xoJGFCcLAVwjm4IPTj1IhlCvJogz7k
 mGDbm+8nbc9RnzqM6z3TGgzbBydSspiAhMYgQUsfWs7QYx355RVTHCa5Pyce2TxfmCrxSAV2V6k
 Nu37wAynkuGVNCONqAHvPmz+9hAaLTrzq3TI7rz1b
X-Google-Smtp-Source: AGHT+IGYfl2IDAgT2UpnvDHleFXZvTd9rzORbhSBMwWdZrkVbVMwasFX6CqAga7k44D/ZBRNVLVKRUrEfDph
X-Received: by 2002:a05:6602:4f48:b0:7c8:3754:f586 with SMTP id
 gm8-20020a0566024f4800b007c83754f586mr2825770iob.1.1709655830431; 
 Tue, 05 Mar 2024 08:23:50 -0800 (PST)
Received: from postal.iol.unh.edu (postal.iol.unh.edu. [132.177.123.84])
 by smtp-relay.gmail.com with ESMTPS id
 z141-20020a6bc993000000b007c87003dbebsm59941iof.32.2024.03.05.08.23.50
 (version=TLS1_2 cipher=ECDHE-ECDSA-AES128-GCM-SHA256 bits=128/128);
 Tue, 05 Mar 2024 08:23:50 -0800 (PST)
X-Relaying-Domain: iol.unh.edu
Date: Tue, 05 Mar 2024 08:23:50 -0800 (PST)
Message-ID: <65e74716.6b0a0220.2df94.3b62SMTPIN_ADDED_MISSING@mx.google.com>
Received: from [172.17.0.8] (unknown [172.18.0.217])
 by postal.iol.unh.edu (Postfix) with ESMTP id F0C4D6052712;
 Tue,  5 Mar 2024 11:23:49 -0500 (EST)
Subject: |SUCCESS| pw137988 [PATCH] [v4] net/ice: add diagnostic support in T
From: dpdklab@iol.unh.edu
To: Test Report <test-report@dpdk.org>
Cc: dpdk-test-reports@iol.unh.edu
In-Reply-To: <20240305101843.769539-1-mingjinx.ye@intel.com>
References: <20240305101843.769539-1-mingjinx.ye@intel.com>
Content-Type: text/plain
X-BeenThere: test-report@dpdk.org
X-Mailman-Version: 2.1.29
Precedence: list
List-Id: automatic DPDK test reports <test-report.dpdk.org>
List-Unsubscribe: <https://mails.dpdk.org/options/test-report>,
 <mailto:test-report-request@dpdk.org?subject=unsubscribe>
List-Archive: <http://mails.dpdk.org/archives/test-report/>
List-Post: <mailto:test-report@dpdk.org>
List-Help: <mailto:test-report-request@dpdk.org?subject=help>
List-Subscribe: <https://mails.dpdk.org/listinfo/test-report>,
 <mailto:test-report-request@dpdk.org?subject=subscribe>
Errors-To: test-report-bounces@dpdk.org

Test-Label: iol-compile-amd64-testing
Test-Status: SUCCESS
http://dpdk.org/patch/137988

_Testing PASS_

Submitter: Mingjin Ye <mingjinx.ye@intel.com>
Date: Tuesday, March 05 2024 10:18:42 
DPDK git baseline: Repo:dpdk
  Branch: master
  CommitID:6cd9fa5ad4bba96acc5e451715c6616a7af672c3

137988 --> testing pass

Test environment and result as below:

+---------------------+--------------------+
|     Environment     | dpdk_meson_compile |
+=====================+====================+
| FreeBSD 13.2        | PASS               |
+---------------------+--------------------+
| Windows Server 2022 | PASS               |
+---------------------+--------------------+
| CentOS Stream 9     | PASS               |
+---------------------+--------------------+
| Fedora 37           | PASS               |
+---------------------+--------------------+
| CentOS Stream 8     | PASS               |
+---------------------+--------------------+
| Fedora 38           | PASS               |
+---------------------+--------------------+
| Alpine              | PASS               |
+---------------------+--------------------+
| openSUSE Leap 15    | PASS               |
+---------------------+--------------------+
| Ubuntu 22.04        | PASS               |
+---------------------+--------------------+
| Debian 12 (arm)     | PASS               |
+---------------------+--------------------+
| Debian Bullseye     | PASS               |
+---------------------+--------------------+
| RHEL8               | PASS               |
+---------------------+--------------------+


FreeBSD 13.2
	Kernel: 13.2
	Compiler: clang 11.3.0

Windows Server 2022
	Kernel: OS Build 20348.2031
	Compiler: MSVC VS-Preview

CentOS Stream 9
	Kernel: 4.18.0-240.10.1.el8_3.x86_64
	Compiler: gcc 11.3.1 20220421

Fedora 37
	Kernel: Depends on container host system
	Compiler: gcc 12.3.1

CentOS Stream 8
	Kernel: 4.18.0-240.10.1.el8_3.x86_64
	Compiler: gcc 8.4.1 20200928

Fedora 38
	Kernel: Depends on container host
	Compiler: gcc 13.1.1

Alpine
	Kernel: 5.4.0-73-generic
	Compiler: gcc (Alpine 10.3.1_git20210424) 10.3.1 20210424

openSUSE Leap 15
	Kernel: 4.18.0-240.10.1.el8_3.x86_64
	Compiler: gcc 7.5.0

Ubuntu 22.04
	Kernel: 4.18.0-240.10.1.el8_3.x86_64
	Compiler: gcc 11.3.0

Debian 12 (arm)
	Kernel: Container Host Kernel
	Compiler: gcc 11

Debian Bullseye
	Kernel: 5.4.0-122-generic
	Compiler: gcc 10.2.1-6

RHEL8
	Kernel: 4.18.0-240.10.1.el8_3.x86_64
	Compiler: gcc 8.3.1 20191121 (Red Hat 8.3.1-5)

To view detailed results, visit:
https://lab.dpdk.org/results/dashboard/patchsets/29416/

UNH-IOL DPDK Community Lab

To manage your email subscriptions, visit: 
https://lab.dpdk.org/results/dashboard/preferences/subscriptions/