From mboxrd@z Thu Jan  1 00:00:00 1970
Return-Path: <test-report-bounces@dpdk.org>
Received: from mails.dpdk.org (mails.dpdk.org [217.70.189.124])
	by inbox.dpdk.org (Postfix) with ESMTP id 24DB943B78
	for <public@inbox.dpdk.org>; Tue,  5 Mar 2024 17:41:51 +0100 (CET)
Received: from mails.dpdk.org (localhost [127.0.0.1])
	by mails.dpdk.org (Postfix) with ESMTP id 1DC3240271;
	Tue,  5 Mar 2024 17:41:51 +0100 (CET)
Received: from mail-io1-f100.google.com (mail-io1-f100.google.com
 [209.85.166.100])
 by mails.dpdk.org (Postfix) with ESMTP id 06B2440270
 for <test-report@dpdk.org>; Tue,  5 Mar 2024 17:41:49 +0100 (CET)
Received: by mail-io1-f100.google.com with SMTP id
 ca18e2360f4ac-7c838f72e88so81400139f.0
 for <test-report@dpdk.org>; Tue, 05 Mar 2024 08:41:48 -0800 (PST)
DKIM-Signature: v=1; a=rsa-sha256; c=relaxed/relaxed;
 d=iol.unh.edu; s=unh-iol; t=1709656908; x=1710261708; darn=dpdk.org;
 h=references:in-reply-to:cc:to:from:subject:message-id:date:from:to
 :cc:subject:date:message-id:reply-to;
 bh=O8MdbVrAEh5YkZ0GczCOLN1DGHluZRfSwbMrwn2JnUE=;
 b=i5VdwU879WS81lcLBQFFmElpXDiR+CdjlcW5I4ycjb3eDfU3nN7ADKYB0hvmCgFqCb
 IWu7OJgw2xZCArc7d/XFpPQU//eRtDzQVza3e35UjVX1sUxV+pMPywPb4sfoeSVy5lb6
 XITtmnMj7yDbvlp4axix2o27NOrIbSAguNhic=
X-Google-DKIM-Signature: v=1; a=rsa-sha256; c=relaxed/relaxed;
 d=1e100.net; s=20230601; t=1709656908; x=1710261708;
 h=references:in-reply-to:cc:to:from:subject:message-id:date
 :x-gm-message-state:from:to:cc:subject:date:message-id:reply-to;
 bh=O8MdbVrAEh5YkZ0GczCOLN1DGHluZRfSwbMrwn2JnUE=;
 b=VQ/FGskNWhA1y1qDfglIsTRPlji9pkyGqzGPQ9MAgTmYn5NZAIoDP0a4rnlrdTjfWL
 WJYfBO5h1cUpivQ+hqnKJkVJHYA65kSpuJ4NzfDRnnm+c2g7X9zseem8tiJ5F15llJ6j
 8W/ig40GcW3Hl9zHAiUmL1E1OM6uBEZY1EaOp3OOt70eOpcAELOSMe1NibM/XnR/EsoC
 zVC87kBUT1/wfXeAvMuInDL1Qk6ddHgWf/8+sx4C/UV7Fwdxj0ye6Y6LO3LiPCN5Rpj1
 5dGjpgiyTg1N6tYDaIcN7FEhE5DBcqbwxESMx0kSXaYLMIfYW8W5wFS9VFcBqnMdaGeV
 0zUQ==
X-Gm-Message-State: AOJu0YxM7kXU9dfpPPw58wuwQXPYfBXMN9YMHmhZ0Zv3+XWMilFkVFgB
 KRT2WKYtXx/1F7Xrt39woH/i7/+IbSgNujA+HQF5x88a0EaUXK+tSYhXmJLYSMyDsuD2C1yDX2J
 +OPdKn8sZdEUc4tdy25mu+8xzHK+r9rr+tcwb2ByP
X-Google-Smtp-Source: AGHT+IFDo4AmaPBm2MiOl6f+muvtfiamHxce/lVTWe0Q6L81rWN1Sr4vsvh4WjFIlfXqA8FwC2Bz5X2Jk8vO
X-Received: by 2002:a05:6602:4f48:b0:7c8:3754:f586 with SMTP id
 gm8-20020a0566024f4800b007c83754f586mr2877157iob.1.1709656908496; 
 Tue, 05 Mar 2024 08:41:48 -0800 (PST)
Received: from postal.iol.unh.edu (postal.iol.unh.edu. [132.177.123.84])
 by smtp-relay.gmail.com with ESMTPS id
 l13-20020a05663814cd00b00474f94c9cc3sm116081jak.37.2024.03.05.08.41.48
 (version=TLS1_2 cipher=ECDHE-ECDSA-AES128-GCM-SHA256 bits=128/128);
 Tue, 05 Mar 2024 08:41:48 -0800 (PST)
X-Relaying-Domain: iol.unh.edu
Date: Tue, 05 Mar 2024 08:41:48 -0800 (PST)
Message-ID: <65e74b4c.050a0220.70408.7834SMTPIN_ADDED_MISSING@mx.google.com>
Received: from [172.21.0.6] (unknown [172.18.0.240])
 by postal.iol.unh.edu (Postfix) with ESMTP id 261C76052712;
 Tue,  5 Mar 2024 11:41:48 -0500 (EST)
Subject: |SUCCESS| pw137988 [PATCH] [v4] net/ice: add diagnostic support in T
From: dpdklab@iol.unh.edu
To: Test Report <test-report@dpdk.org>
Cc: dpdk-test-reports@iol.unh.edu
In-Reply-To: <20240305101843.769539-1-mingjinx.ye@intel.com>
References: <20240305101843.769539-1-mingjinx.ye@intel.com>
Content-Type: text/plain
X-BeenThere: test-report@dpdk.org
X-Mailman-Version: 2.1.29
Precedence: list
List-Id: automatic DPDK test reports <test-report.dpdk.org>
List-Unsubscribe: <https://mails.dpdk.org/options/test-report>,
 <mailto:test-report-request@dpdk.org?subject=unsubscribe>
List-Archive: <http://mails.dpdk.org/archives/test-report/>
List-Post: <mailto:test-report@dpdk.org>
List-Help: <mailto:test-report-request@dpdk.org?subject=help>
List-Subscribe: <https://mails.dpdk.org/listinfo/test-report>,
 <mailto:test-report-request@dpdk.org?subject=subscribe>
Errors-To: test-report-bounces@dpdk.org

Test-Label: iol-unit-amd64-testing
Test-Status: SUCCESS
http://dpdk.org/patch/137988

_Testing PASS_

Submitter: Mingjin Ye <mingjinx.ye@intel.com>
Date: Tuesday, March 05 2024 10:18:42 
DPDK git baseline: Repo:dpdk
  Branch: master
  CommitID:6cd9fa5ad4bba96acc5e451715c6616a7af672c3

137988 --> testing pass

Test environment and result as below:

+------------------+----------------+
|   Environment    | dpdk_unit_test |
+==================+================+
| CentOS Stream 8  | PASS           |
+------------------+----------------+
| Debian Bullseye  | PASS           |
+------------------+----------------+
| Fedora 37        | PASS           |
+------------------+----------------+
| CentOS Stream 9  | PASS           |
+------------------+----------------+
| Fedora 38        | PASS           |
+------------------+----------------+
| Debian 12 (arm)  | PASS           |
+------------------+----------------+
| openSUSE Leap 15 | PASS           |
+------------------+----------------+
| Ubuntu 20.04     | PASS           |
+------------------+----------------+
| Ubuntu 22.04     | PASS           |
+------------------+----------------+
| RHEL8            | PASS           |
+------------------+----------------+


CentOS Stream 8
	Kernel: 4.18.0-240.10.1.el8_3.x86_64
	Compiler: gcc 8.4.1 20200928

Debian Bullseye
	Kernel: 5.4.0-122-generic
	Compiler: gcc 10.2.1-6

Fedora 37
	Kernel: Depends on container host system
	Compiler: gcc 12.3.1

CentOS Stream 9
	Kernel: 4.18.0-240.10.1.el8_3.x86_64
	Compiler: gcc 11.3.1 20220421

Fedora 38
	Kernel: Depends on container host
	Compiler: gcc 13.1.1

Debian 12 (arm)
	Kernel: Container Host Kernel
	Compiler: gcc 11

openSUSE Leap 15
	Kernel: 4.18.0-240.10.1.el8_3.x86_64
	Compiler: gcc 7.5.0

Ubuntu 20.04
	Kernel: 5.4.0-153-generic
	Compiler: gcc 9.4.0-1ubuntu1~20.04.1

Ubuntu 22.04
	Kernel: 4.18.0-240.10.1.el8_3.x86_64
	Compiler: gcc 11.3.0

RHEL8
	Kernel: 4.18.0-240.10.1.el8_3.x86_64
	Compiler: gcc 8.3.1 20191121 (Red Hat 8.3.1-5)

To view detailed results, visit:
https://lab.dpdk.org/results/dashboard/patchsets/29416/

UNH-IOL DPDK Community Lab

To manage your email subscriptions, visit: 
https://lab.dpdk.org/results/dashboard/preferences/subscriptions/