From mboxrd@z Thu Jan  1 00:00:00 1970
Return-Path: <test-report-bounces@dpdk.org>
Received: from mails.dpdk.org (mails.dpdk.org [217.70.189.124])
	by inbox.dpdk.org (Postfix) with ESMTP id 4458C43B79
	for <public@inbox.dpdk.org>; Tue,  5 Mar 2024 20:02:42 +0100 (CET)
Received: from mails.dpdk.org (localhost [127.0.0.1])
	by mails.dpdk.org (Postfix) with ESMTP id 3FCA7402AC;
	Tue,  5 Mar 2024 20:02:42 +0100 (CET)
Received: from mail-qt1-f227.google.com (mail-qt1-f227.google.com
 [209.85.160.227])
 by mails.dpdk.org (Postfix) with ESMTP id 0067C40270
 for <test-report@dpdk.org>; Tue,  5 Mar 2024 20:02:40 +0100 (CET)
Received: by mail-qt1-f227.google.com with SMTP id
 d75a77b69052e-42e63a658e1so20413401cf.3
 for <test-report@dpdk.org>; Tue, 05 Mar 2024 11:02:40 -0800 (PST)
DKIM-Signature: v=1; a=rsa-sha256; c=relaxed/relaxed;
 d=iol.unh.edu; s=unh-iol; t=1709665360; x=1710270160; darn=dpdk.org;
 h=references:in-reply-to:cc:to:from:subject:message-id:date:from:to
 :cc:subject:date:message-id:reply-to;
 bh=zDx6klyXZlDayu3ALdAgMtlW6orNBWdBhkjH8UqPHWo=;
 b=JkNwrmt39bxzc0izDhOYDyUBWHoU3TOX9EfSLlGoxbucOKOZ5yTKl0BKyt7NZlG8fa
 hYtn0gc3t7KzUWOvPYBj5eKN9ywYkvfTNRP3h8tFDaZ0mMCkjed4VZlnCcrSE0XOeays
 ovpdIW3qtZxT9MW9ajgPwmYc5t4YCY/DIVd+Q=
X-Google-DKIM-Signature: v=1; a=rsa-sha256; c=relaxed/relaxed;
 d=1e100.net; s=20230601; t=1709665360; x=1710270160;
 h=references:in-reply-to:cc:to:from:subject:message-id:date
 :x-gm-message-state:from:to:cc:subject:date:message-id:reply-to;
 bh=zDx6klyXZlDayu3ALdAgMtlW6orNBWdBhkjH8UqPHWo=;
 b=OmUdr7vWiw53lFHViRHfQFYQ9ntqcCREu59yQfBNIDlfGAXDZhmDgu30EqyfFvY8Rg
 n22BNdhc8sUPbyUf6vx1SIoE+na0mcYgnYgCN8efYnElVKFSuEglrJN8h5KOhf96GnLl
 mIYKar/WW/zQbwcN5DnlmfPUfn/V1s4cVe7PSTzDXhWu7Nyw32xFzH3BhadIo955FY73
 kySc+nBd6gwt6v8bvEX75bKoxT39k9QiprLsgPsbGKtJ7RCtfq77R2INi8WwgjKeKBWt
 xt0Lh2mVzGg+CaZMxeiAGLXTch2enPN5hfpUeMJARvUbip+GTDEjAloCabVZjnmXkB5Z
 K8rA==
X-Gm-Message-State: AOJu0Yy/ThjBFXUhDGNtk4uG1iAXcnw2JjukjNC/JL+MdOXwUM1aeM6w
 Fhkvuh28bzZcYqybwEgzsTB3RO9X8Lovg0Q1Wa9IgpGk3cFdSXWCsL6JPTUwQMQOQ2duFJQJlW9
 PmmkR5NyenV258Ua1V0c4gzSvB4jN1D02YID9PirbXGRpan8AiVRdyAh6
X-Google-Smtp-Source: AGHT+IFkNGE3qJ0UQIdJ4/xYKqFwjCLVw8564+I/yHmRd++qhO+/mhjPZoO61XtqHaOU7huwMVplJa2cNtzN
X-Received: by 2002:a05:622a:60b:b0:42e:fb15:145 with SMTP id
 z11-20020a05622a060b00b0042efb150145mr3382058qta.58.1709665360404; 
 Tue, 05 Mar 2024 11:02:40 -0800 (PST)
Received: from postal.iol.unh.edu (postal.iol.unh.edu.
 [2606:4100:3880:1234::84]) by smtp-relay.gmail.com with ESMTPS id
 bb34-20020a05622a1b2200b0042eeb06209dsm386948qtb.17.2024.03.05.11.02.40
 (version=TLS1_2 cipher=ECDHE-ECDSA-AES128-GCM-SHA256 bits=128/128);
 Tue, 05 Mar 2024 11:02:40 -0800 (PST)
X-Relaying-Domain: iol.unh.edu
Date: Tue, 05 Mar 2024 11:02:40 -0800 (PST)
Message-ID: <65e76c50.050a0220.5b9b9.624fSMTPIN_ADDED_MISSING@mx.google.com>
Received: from [172.21.0.6] (unknown [172.18.0.240])
 by postal.iol.unh.edu (Postfix) with ESMTP id 20AC86043484;
 Tue,  5 Mar 2024 14:02:40 -0500 (EST)
Subject: |SUCCESS| pw137997-138000 [PATCH] [v5,4/4] crypto/ipsec_mb: unified 
From: dpdklab@iol.unh.edu
To: Test Report <test-report@dpdk.org>
Cc: dpdk-test-reports@iol.unh.edu
In-Reply-To: <20240305174227.1785111-4-brian.dooley@intel.com>
References: <20240305174227.1785111-4-brian.dooley@intel.com>
Content-Type: text/plain
X-BeenThere: test-report@dpdk.org
X-Mailman-Version: 2.1.29
Precedence: list
List-Id: automatic DPDK test reports <test-report.dpdk.org>
List-Unsubscribe: <https://mails.dpdk.org/options/test-report>,
 <mailto:test-report-request@dpdk.org?subject=unsubscribe>
List-Archive: <http://mails.dpdk.org/archives/test-report/>
List-Post: <mailto:test-report@dpdk.org>
List-Help: <mailto:test-report-request@dpdk.org?subject=help>
List-Subscribe: <https://mails.dpdk.org/listinfo/test-report>,
 <mailto:test-report-request@dpdk.org?subject=subscribe>
Errors-To: test-report-bounces@dpdk.org

Test-Label: iol-abi-testing
Test-Status: SUCCESS
http://dpdk.org/patch/138000

_Testing PASS_

Submitter: Brian Dooley <brian.dooley@intel.com>
Date: Tuesday, March 05 2024 17:42:27 
DPDK git baseline: Repo:dpdk
  Branch: master
  CommitID:240fcef51bceb527c624a2329ca1e3030fbd64db

137997-138000 --> testing pass

Test environment and result as below:

+------------------+----------+
|   Environment    | abi_test |
+==================+==========+
| CentOS Stream 8  | PASS     |
+------------------+----------+
| Debian Bullseye  | PASS     |
+------------------+----------+
| CentOS Stream 9  | PASS     |
+------------------+----------+
| Fedora 38        | PASS     |
+------------------+----------+
| Ubuntu 22.04     | PASS     |
+------------------+----------+
| openSUSE Leap 15 | PASS     |
+------------------+----------+
| Fedora 37        | PASS     |
+------------------+----------+
| RHEL8            | PASS     |
+------------------+----------+


CentOS Stream 8
	Kernel: 4.18.0-240.10.1.el8_3.x86_64
	Compiler: gcc 8.4.1 20200928

Debian Bullseye
	Kernel: 5.4.0-122-generic
	Compiler: gcc 10.2.1-6

CentOS Stream 9
	Kernel: 4.18.0-240.10.1.el8_3.x86_64
	Compiler: gcc 11.3.1 20220421

Fedora 38
	Kernel: Depends on container host
	Compiler: clang 16.0.3

Ubuntu 22.04
	Kernel: 4.18.0-240.10.1.el8_3.x86_64
	Compiler: gcc 11.3.0

openSUSE Leap 15
	Kernel: 4.18.0-240.10.1.el8_3.x86_64
	Compiler: gcc 7.5.0

Fedora 37
	Kernel: Depends on container host system
	Compiler: gcc 12.3.1

RHEL8
	Kernel: 4.18.0-240.10.1.el8_3.x86_64
	Compiler: gcc 8.3.1 20191121 (Red Hat 8.3.1-5)

To view detailed results, visit:
https://lab.dpdk.org/results/dashboard/patchsets/29424/

UNH-IOL DPDK Community Lab

To manage your email subscriptions, visit: 
https://lab.dpdk.org/results/dashboard/preferences/subscriptions/