From mboxrd@z Thu Jan  1 00:00:00 1970
Return-Path: <test-report-bounces@dpdk.org>
Received: from mails.dpdk.org (mails.dpdk.org [217.70.189.124])
	by inbox.dpdk.org (Postfix) with ESMTP id D9DA843B79
	for <public@inbox.dpdk.org>; Tue,  5 Mar 2024 20:12:54 +0100 (CET)
Received: from mails.dpdk.org (localhost [127.0.0.1])
	by mails.dpdk.org (Postfix) with ESMTP id D014F402AC;
	Tue,  5 Mar 2024 20:12:54 +0100 (CET)
Received: from mail-il1-f226.google.com (mail-il1-f226.google.com
 [209.85.166.226])
 by mails.dpdk.org (Postfix) with ESMTP id 503EA40270
 for <test-report@dpdk.org>; Tue,  5 Mar 2024 20:12:54 +0100 (CET)
Received: by mail-il1-f226.google.com with SMTP id
 e9e14a558f8ab-365c96e2605so883245ab.0
 for <test-report@dpdk.org>; Tue, 05 Mar 2024 11:12:54 -0800 (PST)
DKIM-Signature: v=1; a=rsa-sha256; c=relaxed/relaxed;
 d=iol.unh.edu; s=unh-iol; t=1709665973; x=1710270773; darn=dpdk.org;
 h=references:in-reply-to:cc:to:from:subject:message-id:date:from:to
 :cc:subject:date:message-id:reply-to;
 bh=k5KQrIaeaY+6rx0EUAxMMcGm0O6nltaPE7dXcco05DE=;
 b=CRLWN+HC8iYl+4spptlQP4SvPEujnuihktzg7x96iKrjNxV9g9/OjDaFlFQVmA8zTd
 elVDKH50K+dF+G8PcShJrG20kQQvqVujnl+S1zhx0fVXKjvPl8WvzzvAEEFUL3ggHMbG
 bo/Meeul0TyP1ReL7OWRJY7aCmUl/R31+++Rs=
X-Google-DKIM-Signature: v=1; a=rsa-sha256; c=relaxed/relaxed;
 d=1e100.net; s=20230601; t=1709665973; x=1710270773;
 h=references:in-reply-to:cc:to:from:subject:message-id:date
 :x-gm-message-state:from:to:cc:subject:date:message-id:reply-to;
 bh=k5KQrIaeaY+6rx0EUAxMMcGm0O6nltaPE7dXcco05DE=;
 b=v4sAG2mR+bY23Mp1K/jY5n5MkiZB+KEf6qbG9xcFJXDcWjq12L8fFcV8UQ3rm+ZvwP
 w7tsX+uSp9SIOW6B2zEIIXE1vMnINaqOVNuVr/eHgW/Nd+h4LrThG1HnE5GrS3bEDGrU
 38PSqq9wvKvEus/ny6FW+GT+CJ9ysxxWZcAAtKWnAxcHpxvYM5qAlRlKrG7bSpv/1cg1
 J3nrhv9vpOpS6+W1WsA+GWkZdWfyPc16lyLP6I2er1zhObk2NgzwOB26N5A1W5vgeJi4
 6i7WkBpN6SiOabXBp3+w7VlJrmjLtOpj6NLVsab6T72336XQPOuzDTJB7kOM+yuHCdaw
 6evg==
X-Gm-Message-State: AOJu0YyfuhU0rtL+cmagw6YZ9y57KGbvX98c7O1kft0nIM7YWnLBU2Dr
 oGLyaMvYcsFyZwmSzNxGsWtjXHej87iP920L9JC1iDd7xhAtc3RIdK26wVcIzVeFMpDlOVGE5dj
 zQzRoT55aJIf+/T3t6J7AC1q9sfDRJ/sWIux68mZG
X-Google-Smtp-Source: AGHT+IH9R7GQN0YsvdkUQT0QysWyF8XNr3FlhHFCnTi1Cblv9eFY356LUi7PoHx0orp/Pab07xqK/iDoY3uH
X-Received: by 2002:a05:6e02:1a23:b0:363:be58:cdb0 with SMTP id
 g3-20020a056e021a2300b00363be58cdb0mr15511765ile.6.1709665973788; 
 Tue, 05 Mar 2024 11:12:53 -0800 (PST)
Received: from postal.iol.unh.edu (postal.iol.unh.edu. [132.177.123.84])
 by smtp-relay.gmail.com with ESMTPS id
 b14-20020a92dcce000000b003655dbda602sm608860ilr.76.2024.03.05.11.12.53
 (version=TLS1_2 cipher=ECDHE-ECDSA-AES128-GCM-SHA256 bits=128/128);
 Tue, 05 Mar 2024 11:12:53 -0800 (PST)
X-Relaying-Domain: iol.unh.edu
Date: Tue, 05 Mar 2024 11:12:53 -0800 (PST)
Message-ID: <65e76eb5.920a0220.34117.6b7bSMTPIN_ADDED_MISSING@mx.google.com>
Received: from [172.21.0.6] (unknown [172.18.0.240])
 by postal.iol.unh.edu (Postfix) with ESMTP id 4FE026043484;
 Tue,  5 Mar 2024 14:12:53 -0500 (EST)
Subject: |SUCCESS| pw137997-138000 [PATCH] [v5,4/4] crypto/ipsec_mb: unified 
From: dpdklab@iol.unh.edu
To: Test Report <test-report@dpdk.org>
Cc: dpdk-test-reports@iol.unh.edu
In-Reply-To: <20240305174227.1785111-4-brian.dooley@intel.com>
References: <20240305174227.1785111-4-brian.dooley@intel.com>
Content-Type: text/plain
X-BeenThere: test-report@dpdk.org
X-Mailman-Version: 2.1.29
Precedence: list
List-Id: automatic DPDK test reports <test-report.dpdk.org>
List-Unsubscribe: <https://mails.dpdk.org/options/test-report>,
 <mailto:test-report-request@dpdk.org?subject=unsubscribe>
List-Archive: <http://mails.dpdk.org/archives/test-report/>
List-Post: <mailto:test-report@dpdk.org>
List-Help: <mailto:test-report-request@dpdk.org?subject=help>
List-Subscribe: <https://mails.dpdk.org/listinfo/test-report>,
 <mailto:test-report-request@dpdk.org?subject=subscribe>
Errors-To: test-report-bounces@dpdk.org

Test-Label: iol-unit-amd64-testing
Test-Status: SUCCESS
http://dpdk.org/patch/138000

_Testing PASS_

Submitter: Brian Dooley <brian.dooley@intel.com>
Date: Tuesday, March 05 2024 17:42:27 
DPDK git baseline: Repo:dpdk
  Branch: master
  CommitID:240fcef51bceb527c624a2329ca1e3030fbd64db

137997-138000 --> testing pass

Test environment and result as below:

+---------------------+----------------+
|     Environment     | dpdk_unit_test |
+=====================+================+
| Windows Server 2019 | PASS           |
+---------------------+----------------+
| CentOS Stream 8     | PASS           |
+---------------------+----------------+
| Debian 12 (arm)     | PASS           |
+---------------------+----------------+
| Debian Bullseye     | PASS           |
+---------------------+----------------+
| Ubuntu 22.04        | PASS           |
+---------------------+----------------+
| Fedora 38           | PASS           |
+---------------------+----------------+
| CentOS Stream 9     | PASS           |
+---------------------+----------------+
| openSUSE Leap 15    | PASS           |
+---------------------+----------------+
| Ubuntu 20.04        | PASS           |
+---------------------+----------------+
| Fedora 37           | PASS           |
+---------------------+----------------+


Windows Server 2019
	Kernel: 10.0
	Compiler: clang 14.0 and gcc 8.1.0 (MinGW)

CentOS Stream 8
	Kernel: 4.18.0-240.10.1.el8_3.x86_64
	Compiler: gcc 8.4.1 20200928

Debian 12 (arm)
	Kernel: Container Host Kernel
	Compiler: gcc 11

Debian Bullseye
	Kernel: 5.4.0-122-generic
	Compiler: gcc 10.2.1-6

Ubuntu 22.04
	Kernel: 4.18.0-240.10.1.el8_3.x86_64
	Compiler: gcc 11.3.0

Fedora 38
	Kernel: Depends on container host
	Compiler: gcc 13.1.1

CentOS Stream 9
	Kernel: 4.18.0-240.10.1.el8_3.x86_64
	Compiler: gcc 11.3.1 20220421

openSUSE Leap 15
	Kernel: 4.18.0-240.10.1.el8_3.x86_64
	Compiler: gcc 7.5.0

Ubuntu 20.04
	Kernel: 5.4.0-153-generic
	Compiler: gcc 9.4.0-1ubuntu1~20.04.1

Fedora 37
	Kernel: Depends on container host system
	Compiler: gcc 12.3.1

To view detailed results, visit:
https://lab.dpdk.org/results/dashboard/patchsets/29424/

UNH-IOL DPDK Community Lab

To manage your email subscriptions, visit: 
https://lab.dpdk.org/results/dashboard/preferences/subscriptions/