From mboxrd@z Thu Jan  1 00:00:00 1970
Return-Path: <test-report-bounces@dpdk.org>
Received: from mails.dpdk.org (mails.dpdk.org [217.70.189.124])
	by inbox.dpdk.org (Postfix) with ESMTP id A235143B79
	for <public@inbox.dpdk.org>; Tue,  5 Mar 2024 20:15:33 +0100 (CET)
Received: from mails.dpdk.org (localhost [127.0.0.1])
	by mails.dpdk.org (Postfix) with ESMTP id 9D9EC402AC;
	Tue,  5 Mar 2024 20:15:33 +0100 (CET)
Received: from mail-pf1-f227.google.com (mail-pf1-f227.google.com
 [209.85.210.227])
 by mails.dpdk.org (Postfix) with ESMTP id 0BC5C40270
 for <test-report@dpdk.org>; Tue,  5 Mar 2024 20:15:33 +0100 (CET)
Received: by mail-pf1-f227.google.com with SMTP id
 d2e1a72fcca58-6e64997a934so103377b3a.0
 for <test-report@dpdk.org>; Tue, 05 Mar 2024 11:15:32 -0800 (PST)
DKIM-Signature: v=1; a=rsa-sha256; c=relaxed/relaxed;
 d=iol.unh.edu; s=unh-iol; t=1709666132; x=1710270932; darn=dpdk.org;
 h=references:in-reply-to:cc:to:from:subject:message-id:date:from:to
 :cc:subject:date:message-id:reply-to;
 bh=k5KQrIaeaY+6rx0EUAxMMcGm0O6nltaPE7dXcco05DE=;
 b=bCWL9ZMSka4LV+9rx0VpTnM+Y5Fk6LDaFhjr1JYqafIwL6STohZXbPIj7zU6SdULhb
 GhE6xnNjw2gita6HLXu9pKfZLeYS5abhOjeg2gXZ2v2/PK9zIDLgQsNy95Wr4F6Yrr4L
 QqCxXoF9wTIBlRUqoJ6+oshrjYMuluIacC7UQ=
X-Google-DKIM-Signature: v=1; a=rsa-sha256; c=relaxed/relaxed;
 d=1e100.net; s=20230601; t=1709666132; x=1710270932;
 h=references:in-reply-to:cc:to:from:subject:message-id:date
 :x-gm-message-state:from:to:cc:subject:date:message-id:reply-to;
 bh=k5KQrIaeaY+6rx0EUAxMMcGm0O6nltaPE7dXcco05DE=;
 b=Nz/JPKDlaQajLrfHT9zD21KRLZ2nEoTiHtBQBzLD+W2ZlLh7O3sLzqxbs07Cl5bjaN
 v4EbWsM95poNM1Rq0z1lxubNxcr9yauZegKPoRrB8UBf0fSVN5EualM+vJAGDOy1DXNM
 Ly21K/8+GXQ5M587bd2SMDu+sM4loMLzqaWPHecjIMCH2sMZ98hM1Zw6IMC6jQMNvIj1
 +pi2eQUwP90ZedeOLy4cCIZF4XQCERS2/umI3OKyMKu3stTSf5DDQsjYKvi+it4z9QpA
 Tmx+CXgVvvkohZ6C2QXC4OVjU/Mj1gj6vn7+s4Y6ptZB7o1zOZy3RO0QTFZJ+SOlsszQ
 ewwg==
X-Gm-Message-State: AOJu0YzYm71/33gP6yDJDKwSavXa7MZXkGWx/Ut2Dv6C9xpAst5Eyrcy
 ur0UvLQRabxYL5B/lnRuXW6a0MmFopspsSbqoLGjcepZPUeMBDUdvixd2owYw7AZl/r2dwqSoxK
 ulTAyv3pQABghT6RfwaHGr3/7UIjsDyB3DexlTYPqsejshejEq5iS/xgR
X-Google-Smtp-Source: AGHT+IENR/w2G2qpInDxoMns6RQuJI8NFHkgBCs+/pMYiuDyLYax+0KbzAZx9VIRrBGe223PoVPsWUbFNWNo
X-Received: by 2002:a05:6a00:1408:b0:6e6:17d8:4a6c with SMTP id
 l8-20020a056a00140800b006e617d84a6cmr7280620pfu.5.1709666132197; 
 Tue, 05 Mar 2024 11:15:32 -0800 (PST)
Received: from postal.iol.unh.edu (postal.iol.unh.edu.
 [2606:4100:3880:1234::84]) by smtp-relay.gmail.com with ESMTPS id
 h27-20020aa79f5b000000b006e5574db191sm444297pfr.18.2024.03.05.11.15.32
 (version=TLS1_2 cipher=ECDHE-ECDSA-AES128-GCM-SHA256 bits=128/128);
 Tue, 05 Mar 2024 11:15:32 -0800 (PST)
X-Relaying-Domain: iol.unh.edu
Date: Tue, 05 Mar 2024 11:15:32 -0800 (PST)
Message-ID: <65e76f54.a70a0220.194e6.99cfSMTPIN_ADDED_MISSING@mx.google.com>
Received: from [172.21.0.6] (unknown [172.18.0.240])
 by postal.iol.unh.edu (Postfix) with ESMTP id A7CEE6043484;
 Tue,  5 Mar 2024 14:15:31 -0500 (EST)
Subject: |SUCCESS| pw137997-138000 [PATCH] [v5,4/4] crypto/ipsec_mb: unified 
From: dpdklab@iol.unh.edu
To: Test Report <test-report@dpdk.org>
Cc: dpdk-test-reports@iol.unh.edu
In-Reply-To: <20240305174227.1785111-4-brian.dooley@intel.com>
References: <20240305174227.1785111-4-brian.dooley@intel.com>
Content-Type: text/plain
X-BeenThere: test-report@dpdk.org
X-Mailman-Version: 2.1.29
Precedence: list
List-Id: automatic DPDK test reports <test-report.dpdk.org>
List-Unsubscribe: <https://mails.dpdk.org/options/test-report>,
 <mailto:test-report-request@dpdk.org?subject=unsubscribe>
List-Archive: <http://mails.dpdk.org/archives/test-report/>
List-Post: <mailto:test-report@dpdk.org>
List-Help: <mailto:test-report-request@dpdk.org?subject=help>
List-Subscribe: <https://mails.dpdk.org/listinfo/test-report>,
 <mailto:test-report-request@dpdk.org?subject=subscribe>
Errors-To: test-report-bounces@dpdk.org

Test-Label: iol-unit-amd64-testing
Test-Status: SUCCESS
http://dpdk.org/patch/138000

_Testing PASS_

Submitter: Brian Dooley <brian.dooley@intel.com>
Date: Tuesday, March 05 2024 17:42:27 
DPDK git baseline: Repo:dpdk
  Branch: master
  CommitID:240fcef51bceb527c624a2329ca1e3030fbd64db

137997-138000 --> testing pass

Test environment and result as below:

+---------------------+----------------+
|     Environment     | dpdk_unit_test |
+=====================+================+
| Windows Server 2019 | PASS           |
+---------------------+----------------+
| CentOS Stream 8     | PASS           |
+---------------------+----------------+
| Debian 12 (arm)     | PASS           |
+---------------------+----------------+
| Debian Bullseye     | PASS           |
+---------------------+----------------+
| Ubuntu 22.04        | PASS           |
+---------------------+----------------+
| Fedora 38           | PASS           |
+---------------------+----------------+
| CentOS Stream 9     | PASS           |
+---------------------+----------------+
| openSUSE Leap 15    | PASS           |
+---------------------+----------------+
| Ubuntu 20.04        | PASS           |
+---------------------+----------------+
| Fedora 37           | PASS           |
+---------------------+----------------+


Windows Server 2019
	Kernel: 10.0
	Compiler: clang 14.0 and gcc 8.1.0 (MinGW)

CentOS Stream 8
	Kernel: 4.18.0-240.10.1.el8_3.x86_64
	Compiler: gcc 8.4.1 20200928

Debian 12 (arm)
	Kernel: Container Host Kernel
	Compiler: gcc 11

Debian Bullseye
	Kernel: 5.4.0-122-generic
	Compiler: gcc 10.2.1-6

Ubuntu 22.04
	Kernel: 4.18.0-240.10.1.el8_3.x86_64
	Compiler: gcc 11.3.0

Fedora 38
	Kernel: Depends on container host
	Compiler: gcc 13.1.1

CentOS Stream 9
	Kernel: 4.18.0-240.10.1.el8_3.x86_64
	Compiler: gcc 11.3.1 20220421

openSUSE Leap 15
	Kernel: 4.18.0-240.10.1.el8_3.x86_64
	Compiler: gcc 7.5.0

Ubuntu 20.04
	Kernel: 5.4.0-153-generic
	Compiler: gcc 9.4.0-1ubuntu1~20.04.1

Fedora 37
	Kernel: Depends on container host system
	Compiler: gcc 12.3.1

To view detailed results, visit:
https://lab.dpdk.org/results/dashboard/patchsets/29424/

UNH-IOL DPDK Community Lab

To manage your email subscriptions, visit: 
https://lab.dpdk.org/results/dashboard/preferences/subscriptions/