From mboxrd@z Thu Jan  1 00:00:00 1970
Return-Path: <test-report-bounces@dpdk.org>
Received: from mails.dpdk.org (mails.dpdk.org [217.70.189.124])
	by inbox.dpdk.org (Postfix) with ESMTP id 0E27443B79
	for <public@inbox.dpdk.org>; Tue,  5 Mar 2024 20:16:42 +0100 (CET)
Received: from mails.dpdk.org (localhost [127.0.0.1])
	by mails.dpdk.org (Postfix) with ESMTP id 0AD1C402AC;
	Tue,  5 Mar 2024 20:16:42 +0100 (CET)
Received: from mail-ot1-f100.google.com (mail-ot1-f100.google.com
 [209.85.210.100])
 by mails.dpdk.org (Postfix) with ESMTP id F2E0B40270
 for <test-report@dpdk.org>; Tue,  5 Mar 2024 20:16:40 +0100 (CET)
Received: by mail-ot1-f100.google.com with SMTP id
 46e09a7af769-6e4fb3a2687so318125a34.3
 for <test-report@dpdk.org>; Tue, 05 Mar 2024 11:16:40 -0800 (PST)
DKIM-Signature: v=1; a=rsa-sha256; c=relaxed/relaxed;
 d=iol.unh.edu; s=unh-iol; t=1709666200; x=1710271000; darn=dpdk.org;
 h=references:in-reply-to:cc:to:from:subject:message-id:date:from:to
 :cc:subject:date:message-id:reply-to;
 bh=yjczFRbrwbaoTLeCyqFBPZFxOLkKffqCqmqtIccYgtA=;
 b=bVguxyd4dWbCJtIZgbKXmvdiFqH+xvqqsFnolULnwlk5kxfRAP5BXO29ZkYAye/zWF
 2zlH1B+mUpbugZVx1wiHvSlyf9abfehEMuMOsjAThKe/9qzG/nXDHhM97vJ0TBsBg6si
 thwErje1/oV3GWBojwLeGo48SfkkVb/eeejHg=
X-Google-DKIM-Signature: v=1; a=rsa-sha256; c=relaxed/relaxed;
 d=1e100.net; s=20230601; t=1709666200; x=1710271000;
 h=references:in-reply-to:cc:to:from:subject:message-id:date
 :x-gm-message-state:from:to:cc:subject:date:message-id:reply-to;
 bh=yjczFRbrwbaoTLeCyqFBPZFxOLkKffqCqmqtIccYgtA=;
 b=KIfBzUzL2GnQBa6Z7FhWmUyr+V+Lvgm3LncGYwmZ8bmzIYclTD32BIG/3gaaX3Wd7h
 Wr9BoH8/eGo38BG3Rl2YlD1mDz7w5fKXTbAtdPlZVIPSCbKiqlJSrbBrG+SChHeFDCXv
 Yp0WLXD383pqrg/TjXygMDWXwH6xdsZUiwdVQ67q8aSpHiAjggdpqXyYnEzKbcTC19Tt
 I43TvKbQSEiWw71k0gP82uo4ACqo/rVdnmfVRFAAFEaNG7x+MaAJFXdWz3AKCW5B1QZS
 wIjEVmjDc+BQVpd7u/bu3OWGAbLsbF3xCXF1Leqm2xeLdHpr6hGtfreu8vagfsW6dFwj
 BcHQ==
X-Gm-Message-State: AOJu0Yw6NQYRW+jBC4pq4z1t8CD6emT71gYtYrF8lKLopZF1lLZGJ+Yy
 OIy5ikc1cC2pHnT9MYVXBvu1+h3P8ANUfOi0mkcHDQI9xfRdRYoYA8ptg1QquZKhLecqF33vqjM
 mJFJOtLpXLsgSADIpKU/m7y1R5snwwLnSvk4PwhgQWCFKbNwSd8SN2iWG
X-Google-Smtp-Source: AGHT+IHEqS9XAmC3AAfxEhPLQ5s1O6an74ACgltETKSyHwFL6VBbMxoMI8jDUs5NMugaHoLhhY09CWGgH0i3
X-Received: by 2002:a9d:6c05:0:b0:6e4:eefd:6fda with SMTP id
 f5-20020a9d6c05000000b006e4eefd6fdamr2905452otq.8.1709666200266; 
 Tue, 05 Mar 2024 11:16:40 -0800 (PST)
Received: from postal.iol.unh.edu (postal.iol.unh.edu.
 [2606:4100:3880:1234::84]) by smtp-relay.gmail.com with ESMTPS id
 k20-20020a9d7dd4000000b006e4f4c4bf64sm107444otn.6.2024.03.05.11.16.40
 (version=TLS1_2 cipher=ECDHE-ECDSA-AES128-GCM-SHA256 bits=128/128);
 Tue, 05 Mar 2024 11:16:40 -0800 (PST)
X-Relaying-Domain: iol.unh.edu
Date: Tue, 05 Mar 2024 11:16:40 -0800 (PST)
Message-ID: <65e76f98.9d0a0220.fac92.54c8SMTPIN_ADDED_MISSING@mx.google.com>
Received: from [172.21.0.6] (unknown [172.18.0.240])
 by postal.iol.unh.edu (Postfix) with ESMTP id BE0EA6043484;
 Tue,  5 Mar 2024 14:16:39 -0500 (EST)
Subject: |SUCCESS| pw137997-138000 [PATCH] [v5,4/4] crypto/ipsec_mb: unified 
From: dpdklab@iol.unh.edu
To: Test Report <test-report@dpdk.org>
Cc: dpdk-test-reports@iol.unh.edu
In-Reply-To: <20240305174227.1785111-4-brian.dooley@intel.com>
References: <20240305174227.1785111-4-brian.dooley@intel.com>
Content-Type: text/plain
X-BeenThere: test-report@dpdk.org
X-Mailman-Version: 2.1.29
Precedence: list
List-Id: automatic DPDK test reports <test-report.dpdk.org>
List-Unsubscribe: <https://mails.dpdk.org/options/test-report>,
 <mailto:test-report-request@dpdk.org?subject=unsubscribe>
List-Archive: <http://mails.dpdk.org/archives/test-report/>
List-Post: <mailto:test-report@dpdk.org>
List-Help: <mailto:test-report-request@dpdk.org?subject=help>
List-Subscribe: <https://mails.dpdk.org/listinfo/test-report>,
 <mailto:test-report-request@dpdk.org?subject=subscribe>
Errors-To: test-report-bounces@dpdk.org

Test-Label: iol-abi-testing
Test-Status: SUCCESS
http://dpdk.org/patch/138000

_Testing PASS_

Submitter: Brian Dooley <brian.dooley@intel.com>
Date: Tuesday, March 05 2024 17:42:27 
DPDK git baseline: Repo:dpdk
  Branch: master
  CommitID:240fcef51bceb527c624a2329ca1e3030fbd64db

137997-138000 --> testing pass

Test environment and result as below:

+------------------+----------+
|   Environment    | abi_test |
+==================+==========+
| CentOS Stream 8  | PASS     |
+------------------+----------+
| Debian Bullseye  | PASS     |
+------------------+----------+
| CentOS Stream 9  | PASS     |
+------------------+----------+
| Fedora 38        | PASS     |
+------------------+----------+
| Ubuntu 22.04     | PASS     |
+------------------+----------+
| openSUSE Leap 15 | PASS     |
+------------------+----------+
| Fedora 37        | PASS     |
+------------------+----------+
| RHEL8            | PASS     |
+------------------+----------+
| Debian 12 (arm)  | PASS     |
+------------------+----------+


CentOS Stream 8
	Kernel: 4.18.0-240.10.1.el8_3.x86_64
	Compiler: gcc 8.4.1 20200928

Debian Bullseye
	Kernel: 5.4.0-122-generic
	Compiler: gcc 10.2.1-6

CentOS Stream 9
	Kernel: 4.18.0-240.10.1.el8_3.x86_64
	Compiler: gcc 11.3.1 20220421

Fedora 38
	Kernel: Depends on container host
	Compiler: clang 16.0.3

Ubuntu 22.04
	Kernel: 4.18.0-240.10.1.el8_3.x86_64
	Compiler: gcc 11.3.0

openSUSE Leap 15
	Kernel: 4.18.0-240.10.1.el8_3.x86_64
	Compiler: gcc 7.5.0

Fedora 37
	Kernel: Depends on container host system
	Compiler: gcc 12.3.1

RHEL8
	Kernel: 4.18.0-240.10.1.el8_3.x86_64
	Compiler: gcc 8.3.1 20191121 (Red Hat 8.3.1-5)

Debian 12 (arm)
	Kernel: Container Host Kernel
	Compiler: gcc 11

To view detailed results, visit:
https://lab.dpdk.org/results/dashboard/patchsets/29424/

UNH-IOL DPDK Community Lab

To manage your email subscriptions, visit: 
https://lab.dpdk.org/results/dashboard/preferences/subscriptions/