From mboxrd@z Thu Jan  1 00:00:00 1970
Return-Path: <test-report-bounces@dpdk.org>
Received: from mails.dpdk.org (mails.dpdk.org [217.70.189.124])
	by inbox.dpdk.org (Postfix) with ESMTP id 060A843B79
	for <public@inbox.dpdk.org>; Tue,  5 Mar 2024 20:23:20 +0100 (CET)
Received: from mails.dpdk.org (localhost [127.0.0.1])
	by mails.dpdk.org (Postfix) with ESMTP id 00993402AC;
	Tue,  5 Mar 2024 20:23:20 +0100 (CET)
Received: from mail-io1-f100.google.com (mail-io1-f100.google.com
 [209.85.166.100])
 by mails.dpdk.org (Postfix) with ESMTP id 7378140270
 for <test-report@dpdk.org>; Tue,  5 Mar 2024 20:23:19 +0100 (CET)
Received: by mail-io1-f100.google.com with SMTP id
 ca18e2360f4ac-7c838f72e88so3117439f.0
 for <test-report@dpdk.org>; Tue, 05 Mar 2024 11:23:19 -0800 (PST)
DKIM-Signature: v=1; a=rsa-sha256; c=relaxed/relaxed;
 d=iol.unh.edu; s=unh-iol; t=1709666599; x=1710271399; darn=dpdk.org;
 h=references:in-reply-to:cc:to:from:subject:message-id:date:from:to
 :cc:subject:date:message-id:reply-to;
 bh=tImu0fyUcrRDI5/k5tFaLJyA8f7+xJDWTwjHpQ33/vY=;
 b=VisjIwA0bG95iE0E0/1Z0f2nej4eDK+M9YzdYaUyHFQixVLoi9fHrbhKJQGUY9wYBo
 LXP7eq6MRPNPan0HcPJ0nXxlefE5wxgvYq0+yaU1trb5jL6w9xQffgSbJASvd1MO2X3x
 tV1y7kZ0KgiG0DmgaRchg68UA9+04R96yV1XI=
X-Google-DKIM-Signature: v=1; a=rsa-sha256; c=relaxed/relaxed;
 d=1e100.net; s=20230601; t=1709666599; x=1710271399;
 h=references:in-reply-to:cc:to:from:subject:message-id:date
 :x-gm-message-state:from:to:cc:subject:date:message-id:reply-to;
 bh=tImu0fyUcrRDI5/k5tFaLJyA8f7+xJDWTwjHpQ33/vY=;
 b=YtpTWLf5zHCGouw9N1ENth/sl09v1JWxJexEKLYhbO7lczaDsIUmsYBadF1PKN4pFG
 YWaSckn3bgwea9gJUlO6X4zwG8/YWpbwPzoq0DwDqtQGQFxPLakGcdKsdrVdr5HWy1jP
 DwiM9TxswUsIonauEcQvxZe3sVEKhSRQdfhgk8/+Xt1ZAQ7CCSrP1DmtdJbS0WFxVsm9
 htcKEyHzq40AV6XwFirIfyetDk6RU1XPJxsyOu9X3G/OzgK/myfXspofmtmu2HmAbXxu
 TieD/fEMBmKPA0RikO6/xO4xyZIPifEdQSZhiFs151FdmoIvDLaTTKerbpEjE3/v1DAT
 2hmA==
X-Gm-Message-State: AOJu0YzCY6ztkVXnaPLhQDunMzEizSyzZop9ytFTegRL4Cg1As62C+c5
 SCljOMhieM/7MfBr+7OpRNZq51O4zr8h7J0iottay87zIrtht/f6pEZSPm1TGxPUsRB3Wl3Z6sG
 96KXM77nuOG5RayZli+OO7+6ST6mmtBsiXojs0JR6
X-Google-Smtp-Source: AGHT+IGU7AatNgLQ4POUg/QSTvUBmFZ64azFH43ocTffyeRxKFsqLbN6d837q6nVpKCF4m4049Z1UYGUZ8M2
X-Received: by 2002:a05:6602:3407:b0:7c7:88c0:8988 with SMTP id
 n7-20020a056602340700b007c788c08988mr3074881ioz.7.1709666598833; 
 Tue, 05 Mar 2024 11:23:18 -0800 (PST)
Received: from postal.iol.unh.edu (postal.iol.unh.edu. [132.177.123.84])
 by smtp-relay.gmail.com with ESMTPS id
 l13-20020a05663814cd00b00474f94c9cc3sm124893jak.37.2024.03.05.11.23.18
 (version=TLS1_2 cipher=ECDHE-ECDSA-AES128-GCM-SHA256 bits=128/128);
 Tue, 05 Mar 2024 11:23:18 -0800 (PST)
X-Relaying-Domain: iol.unh.edu
Date: Tue, 05 Mar 2024 11:23:18 -0800 (PST)
Message-ID: <65e77126.050a0220.70408.824eSMTPIN_ADDED_MISSING@mx.google.com>
Received: from [172.21.0.9] (unknown [172.18.0.240])
 by postal.iol.unh.edu (Postfix) with ESMTP id 64ED66043484;
 Tue,  5 Mar 2024 14:23:18 -0500 (EST)
Subject: |SUCCESS| pw137997-138000 [PATCH] [v5,4/4] crypto/ipsec_mb: unified 
From: dpdklab@iol.unh.edu
To: Test Report <test-report@dpdk.org>
Cc: dpdk-test-reports@iol.unh.edu
In-Reply-To: <20240305174227.1785111-4-brian.dooley@intel.com>
References: <20240305174227.1785111-4-brian.dooley@intel.com>
Content-Type: text/plain
X-BeenThere: test-report@dpdk.org
X-Mailman-Version: 2.1.29
Precedence: list
List-Id: automatic DPDK test reports <test-report.dpdk.org>
List-Unsubscribe: <https://mails.dpdk.org/options/test-report>,
 <mailto:test-report-request@dpdk.org?subject=unsubscribe>
List-Archive: <http://mails.dpdk.org/archives/test-report/>
List-Post: <mailto:test-report@dpdk.org>
List-Help: <mailto:test-report-request@dpdk.org?subject=help>
List-Subscribe: <https://mails.dpdk.org/listinfo/test-report>,
 <mailto:test-report-request@dpdk.org?subject=subscribe>
Errors-To: test-report-bounces@dpdk.org

Test-Label: iol-unit-amd64-testing
Test-Status: SUCCESS
http://dpdk.org/patch/138000

_Testing PASS_

Submitter: Brian Dooley <brian.dooley@intel.com>
Date: Tuesday, March 05 2024 17:42:27 
DPDK git baseline: Repo:dpdk
  Branch: master
  CommitID:240fcef51bceb527c624a2329ca1e3030fbd64db

137997-138000 --> testing pass

Test environment and result as below:

+---------------------+----------------+
|     Environment     | dpdk_unit_test |
+=====================+================+
| Windows Server 2019 | PASS           |
+---------------------+----------------+
| CentOS Stream 8     | PASS           |
+---------------------+----------------+
| Debian 12 (arm)     | PASS           |
+---------------------+----------------+
| Debian Bullseye     | PASS           |
+---------------------+----------------+
| Ubuntu 22.04        | PASS           |
+---------------------+----------------+
| Fedora 38           | PASS           |
+---------------------+----------------+
| CentOS Stream 9     | PASS           |
+---------------------+----------------+
| openSUSE Leap 15    | PASS           |
+---------------------+----------------+
| Ubuntu 20.04        | PASS           |
+---------------------+----------------+
| Fedora 37           | PASS           |
+---------------------+----------------+
| RHEL8               | PASS           |
+---------------------+----------------+


Windows Server 2019
	Kernel: 10.0
	Compiler: clang 14.0 and gcc 8.1.0 (MinGW)

CentOS Stream 8
	Kernel: 4.18.0-240.10.1.el8_3.x86_64
	Compiler: gcc 8.4.1 20200928

Debian 12 (arm)
	Kernel: Container Host Kernel
	Compiler: gcc 11

Debian Bullseye
	Kernel: 5.4.0-122-generic
	Compiler: gcc 10.2.1-6

Ubuntu 22.04
	Kernel: 4.18.0-240.10.1.el8_3.x86_64
	Compiler: gcc 11.3.0

Fedora 38
	Kernel: Depends on container host
	Compiler: gcc 13.1.1

CentOS Stream 9
	Kernel: 4.18.0-240.10.1.el8_3.x86_64
	Compiler: gcc 11.3.1 20220421

openSUSE Leap 15
	Kernel: 4.18.0-240.10.1.el8_3.x86_64
	Compiler: gcc 7.5.0

Ubuntu 20.04
	Kernel: 5.4.0-153-generic
	Compiler: gcc 9.4.0-1ubuntu1~20.04.1

Fedora 37
	Kernel: Depends on container host system
	Compiler: gcc 12.3.1

RHEL8
	Kernel: 4.18.0-240.10.1.el8_3.x86_64
	Compiler: gcc 8.3.1 20191121 (Red Hat 8.3.1-5)

To view detailed results, visit:
https://lab.dpdk.org/results/dashboard/patchsets/29424/

UNH-IOL DPDK Community Lab

To manage your email subscriptions, visit: 
https://lab.dpdk.org/results/dashboard/preferences/subscriptions/