From mboxrd@z Thu Jan  1 00:00:00 1970
Return-Path: <test-report-bounces@dpdk.org>
Received: from mails.dpdk.org (mails.dpdk.org [217.70.189.124])
	by inbox.dpdk.org (Postfix) with ESMTP id 7B3DE43B62
	for <public@inbox.dpdk.org>; Tue,  5 Mar 2024 20:26:51 +0100 (CET)
Received: from mails.dpdk.org (localhost [127.0.0.1])
	by mails.dpdk.org (Postfix) with ESMTP id 598D2402AC;
	Tue,  5 Mar 2024 20:26:51 +0100 (CET)
Received: from mail-io1-f97.google.com (mail-io1-f97.google.com
 [209.85.166.97]) by mails.dpdk.org (Postfix) with ESMTP id 94FBD40270
 for <test-report@dpdk.org>; Tue,  5 Mar 2024 20:26:50 +0100 (CET)
Received: by mail-io1-f97.google.com with SMTP id
 ca18e2360f4ac-7c8387ca6ecso166954639f.0
 for <test-report@dpdk.org>; Tue, 05 Mar 2024 11:26:50 -0800 (PST)
DKIM-Signature: v=1; a=rsa-sha256; c=relaxed/relaxed;
 d=iol.unh.edu; s=unh-iol; t=1709666810; x=1710271610; darn=dpdk.org;
 h=references:in-reply-to:cc:to:from:subject:message-id:date:from:to
 :cc:subject:date:message-id:reply-to;
 bh=yjczFRbrwbaoTLeCyqFBPZFxOLkKffqCqmqtIccYgtA=;
 b=JXKn8yLzomf4teTGKUXdMClQHkkoRgLKhuwD1j9/83ImBZKYhaI5mBAXdcZ/6WUEUo
 2iRrA0hicDryZpp6w+N6QgBgO1KnWTJqWZDm3EdwpCXtSwH1Riv8nQPdaFGyBWDAaCxd
 XaHOZOcFtid+1lC5vlOCDJeH4XgNJ4QX3EqRA=
X-Google-DKIM-Signature: v=1; a=rsa-sha256; c=relaxed/relaxed;
 d=1e100.net; s=20230601; t=1709666810; x=1710271610;
 h=references:in-reply-to:cc:to:from:subject:message-id:date
 :x-gm-message-state:from:to:cc:subject:date:message-id:reply-to;
 bh=yjczFRbrwbaoTLeCyqFBPZFxOLkKffqCqmqtIccYgtA=;
 b=ib1YiaG8uh/DFocJO37UhmIkFTpapgS1kEE/laKnehofUtQAbcDW/K8Vt/+pHZfjwQ
 PspUFv5vE0eXtnjwNZWESEJJmIyTh3Rb6T62Cd2FpAIkeHK09eIBXVurBaoIbEfsNqZs
 RrwQFWzvQPrJ5gKhE6W6FovgoQl5bk4Pw55aoO0wVK0Tdyd+s2nH+XSjBl754LlfLFLK
 nFFXw9m0A/x8S4N6KjXShMKYx39r8rRVqigJjYVwCkYYJ0l79rIVQimjH3tK6YCzRt04
 CVP6CRgKFoCt6dkkcdGX04JAIzt836soaeX01vM2ZCxIa84tiVq7MmlGLjLFr0l92y11
 lq5A==
X-Gm-Message-State: AOJu0YxhoemCN6gEjY/3RbhkEOfsLGab5wrSqsgHD85mSK4O2tSzPi0z
 9oWByBvWDic3qYmmpJpANbNRYrwFZbcvdf4Medii89GqKs6gInD+0zilVuaJa/mcDriXlbqSv8o
 mSfxCmImZMgKBGYmwQfuHfvlU6n9Z/8UplOTWcgaKOLueMJRr7YOiL5f3
X-Google-Smtp-Source: AGHT+IFqsUyvo7I7dIN4XYwCTVJlzrqV4IiiNBk8iYwulnogHwgYlfyX6g0rSZs7ewT4hLDTG3RHSOkKjjaa
X-Received: by 2002:a5e:a61a:0:b0:7c8:7426:1e52 with SMTP id
 q26-20020a5ea61a000000b007c874261e52mr418350ioi.1.1709666809919; 
 Tue, 05 Mar 2024 11:26:49 -0800 (PST)
Received: from postal.iol.unh.edu (postal.iol.unh.edu.
 [2606:4100:3880:1234::84]) by smtp-relay.gmail.com with ESMTPS id
 f21-20020a056638169500b00474fa014bccsm125426jat.72.2024.03.05.11.26.49
 (version=TLS1_2 cipher=ECDHE-ECDSA-AES128-GCM-SHA256 bits=128/128);
 Tue, 05 Mar 2024 11:26:49 -0800 (PST)
X-Relaying-Domain: iol.unh.edu
Date: Tue, 05 Mar 2024 11:26:49 -0800 (PST)
Message-ID: <65e771f9.050a0220.7e8fc.767aSMTPIN_ADDED_MISSING@mx.google.com>
Received: from [172.21.0.7] (unknown [172.18.0.240])
 by postal.iol.unh.edu (Postfix) with ESMTP id 728C56043484;
 Tue,  5 Mar 2024 14:26:49 -0500 (EST)
Subject: |SUCCESS| pw137997-138000 [PATCH] [v5,4/4] crypto/ipsec_mb: unified 
From: dpdklab@iol.unh.edu
To: Test Report <test-report@dpdk.org>
Cc: dpdk-test-reports@iol.unh.edu
In-Reply-To: <20240305174227.1785111-4-brian.dooley@intel.com>
References: <20240305174227.1785111-4-brian.dooley@intel.com>
Content-Type: text/plain
X-BeenThere: test-report@dpdk.org
X-Mailman-Version: 2.1.29
Precedence: list
List-Id: automatic DPDK test reports <test-report.dpdk.org>
List-Unsubscribe: <https://mails.dpdk.org/options/test-report>,
 <mailto:test-report-request@dpdk.org?subject=unsubscribe>
List-Archive: <http://mails.dpdk.org/archives/test-report/>
List-Post: <mailto:test-report@dpdk.org>
List-Help: <mailto:test-report-request@dpdk.org?subject=help>
List-Subscribe: <https://mails.dpdk.org/listinfo/test-report>,
 <mailto:test-report-request@dpdk.org?subject=subscribe>
Errors-To: test-report-bounces@dpdk.org

Test-Label: iol-abi-testing
Test-Status: SUCCESS
http://dpdk.org/patch/138000

_Testing PASS_

Submitter: Brian Dooley <brian.dooley@intel.com>
Date: Tuesday, March 05 2024 17:42:27 
DPDK git baseline: Repo:dpdk
  Branch: master
  CommitID:240fcef51bceb527c624a2329ca1e3030fbd64db

137997-138000 --> testing pass

Test environment and result as below:

+------------------+----------+
|   Environment    | abi_test |
+==================+==========+
| CentOS Stream 8  | PASS     |
+------------------+----------+
| Debian Bullseye  | PASS     |
+------------------+----------+
| CentOS Stream 9  | PASS     |
+------------------+----------+
| Fedora 38        | PASS     |
+------------------+----------+
| Ubuntu 22.04     | PASS     |
+------------------+----------+
| openSUSE Leap 15 | PASS     |
+------------------+----------+
| Fedora 37        | PASS     |
+------------------+----------+
| RHEL8            | PASS     |
+------------------+----------+
| Debian 12 (arm)  | PASS     |
+------------------+----------+


CentOS Stream 8
	Kernel: 4.18.0-240.10.1.el8_3.x86_64
	Compiler: gcc 8.4.1 20200928

Debian Bullseye
	Kernel: 5.4.0-122-generic
	Compiler: gcc 10.2.1-6

CentOS Stream 9
	Kernel: 4.18.0-240.10.1.el8_3.x86_64
	Compiler: gcc 11.3.1 20220421

Fedora 38
	Kernel: Depends on container host
	Compiler: clang 16.0.3

Ubuntu 22.04
	Kernel: 4.18.0-240.10.1.el8_3.x86_64
	Compiler: gcc 11.3.0

openSUSE Leap 15
	Kernel: 4.18.0-240.10.1.el8_3.x86_64
	Compiler: gcc 7.5.0

Fedora 37
	Kernel: Depends on container host system
	Compiler: gcc 12.3.1

RHEL8
	Kernel: 4.18.0-240.10.1.el8_3.x86_64
	Compiler: gcc 8.3.1 20191121 (Red Hat 8.3.1-5)

Debian 12 (arm)
	Kernel: Container Host Kernel
	Compiler: gcc 11

To view detailed results, visit:
https://lab.dpdk.org/results/dashboard/patchsets/29424/

UNH-IOL DPDK Community Lab

To manage your email subscriptions, visit: 
https://lab.dpdk.org/results/dashboard/preferences/subscriptions/