From mboxrd@z Thu Jan  1 00:00:00 1970
Return-Path: <test-report-bounces@dpdk.org>
Received: from mails.dpdk.org (mails.dpdk.org [217.70.189.124])
	by inbox.dpdk.org (Postfix) with ESMTP id C906A43C3D
	for <public@inbox.dpdk.org>; Tue,  5 Mar 2024 20:55:22 +0100 (CET)
Received: from mails.dpdk.org (localhost [127.0.0.1])
	by mails.dpdk.org (Postfix) with ESMTP id C4DD1402AC;
	Tue,  5 Mar 2024 20:55:22 +0100 (CET)
Received: from mail-pl1-f228.google.com (mail-pl1-f228.google.com
 [209.85.214.228])
 by mails.dpdk.org (Postfix) with ESMTP id 98A7A40270
 for <test-report@dpdk.org>; Tue,  5 Mar 2024 20:55:21 +0100 (CET)
Received: by mail-pl1-f228.google.com with SMTP id
 d9443c01a7336-1dbd32cff0bso52038065ad.0
 for <test-report@dpdk.org>; Tue, 05 Mar 2024 11:55:21 -0800 (PST)
DKIM-Signature: v=1; a=rsa-sha256; c=relaxed/relaxed;
 d=iol.unh.edu; s=unh-iol; t=1709668521; x=1710273321; darn=dpdk.org;
 h=references:in-reply-to:cc:to:from:subject:message-id:date:from:to
 :cc:subject:date:message-id:reply-to;
 bh=EALJWJ9ygYUmn2Er0N3iJl5CAVS6L5/lD0QsC4w/ZIw=;
 b=Txpk+MEoJQWST0bPEekm+ubhACelNL+4vwl+ylHm2VbVKyl5JFCnXDG5C1MBXXWl5R
 hsHi6tLtEhLOtAqXZVQUL0dbJX+AbHzJPyUSr2KnSiBSamaf18I8J5JYl6JNJksoH5RV
 llSQdw66FNabPyI55ii/sKEbOIgARv477I34w=
X-Google-DKIM-Signature: v=1; a=rsa-sha256; c=relaxed/relaxed;
 d=1e100.net; s=20230601; t=1709668521; x=1710273321;
 h=references:in-reply-to:cc:to:from:subject:message-id:date
 :x-gm-message-state:from:to:cc:subject:date:message-id:reply-to;
 bh=EALJWJ9ygYUmn2Er0N3iJl5CAVS6L5/lD0QsC4w/ZIw=;
 b=NXMfJOULT3Tk10A/nhRdpuQiyoX2uNMJnUYp/kFGjRkZjYw1CvBKqjPVZtBdTuApd7
 V31ui0lF/AaKp5f+zNoQbktRbb2roWObRkesVUCfvfXv8p7w1+ODPdzJMAocRbfjK5Yz
 SFbop2JufuzUw7vyL5B6uQVLiT+J7BJ6zwsQ6GlGJsfewkGTvGE5W7AkHc3VT7n8JbzA
 a5FjGcLRM6kvwvpcJ2dC5RGv/cthT2ZAD8/Anc3WmBwwcOTabozx5ULBNCZqWguaS+Ec
 GRZ45ikR0vCAyrxD1UetaH0ikSWkAkZg8SR2sVcPPDYvUOVAsq8jvQzU+AFJFBN5LwWe
 KNpw==
X-Gm-Message-State: AOJu0Yx2cUMmWpwMKLWHv8TB1Fs5FTGVFedomoiJY4lgSVsSkt8y6F3N
 TxI9WSSU0Z/iDn6yHJxVqlSOE6t10knb8qCJKMw0zwPt7bCkX/26koT6z9F3bD8JnBRuNqa+htu
 xhaz7wVrjq5nZk9XykBV6vemOsmiZwMfVRgJRNaTu
X-Google-Smtp-Source: AGHT+IHI0ieWk77bp3DZ1Rt/bsLO10DSHX32d2Nz3MkrLUpDejUGFeZOm24nbLExtuJBiToLfpfIIw91P4Jq
X-Received: by 2002:a17:903:489:b0:1dc:fadb:2b3 with SMTP id
 jj9-20020a170903048900b001dcfadb02b3mr2242755plb.68.1709668520806; 
 Tue, 05 Mar 2024 11:55:20 -0800 (PST)
Received: from postal.iol.unh.edu (postal.iol.unh.edu. [132.177.123.84])
 by smtp-relay.gmail.com with ESMTPS id
 v6-20020a1709028d8600b001dc2f643b7bsm259054plo.84.2024.03.05.11.55.20
 (version=TLS1_2 cipher=ECDHE-ECDSA-AES128-GCM-SHA256 bits=128/128);
 Tue, 05 Mar 2024 11:55:20 -0800 (PST)
X-Relaying-Domain: iol.unh.edu
Date: Tue, 05 Mar 2024 11:55:20 -0800 (PST)
Message-ID: <65e778a8.170a0220.e24eb.0995SMTPIN_ADDED_MISSING@mx.google.com>
Received: from [172.21.0.6] (unknown [172.18.0.240])
 by postal.iol.unh.edu (Postfix) with ESMTP id 062026043484;
 Tue,  5 Mar 2024 14:55:20 -0500 (EST)
Subject: |SUCCESS| pw137997-138000 [PATCH] [v5,4/4] crypto/ipsec_mb: unified 
From: dpdklab@iol.unh.edu
To: Test Report <test-report@dpdk.org>
Cc: dpdk-test-reports@iol.unh.edu
In-Reply-To: <20240305174227.1785111-4-brian.dooley@intel.com>
References: <20240305174227.1785111-4-brian.dooley@intel.com>
Content-Type: text/plain
X-BeenThere: test-report@dpdk.org
X-Mailman-Version: 2.1.29
Precedence: list
List-Id: automatic DPDK test reports <test-report.dpdk.org>
List-Unsubscribe: <https://mails.dpdk.org/options/test-report>,
 <mailto:test-report-request@dpdk.org?subject=unsubscribe>
List-Archive: <http://mails.dpdk.org/archives/test-report/>
List-Post: <mailto:test-report@dpdk.org>
List-Help: <mailto:test-report-request@dpdk.org?subject=help>
List-Subscribe: <https://mails.dpdk.org/listinfo/test-report>,
 <mailto:test-report-request@dpdk.org?subject=subscribe>
Errors-To: test-report-bounces@dpdk.org

Test-Label: iol-compile-amd64-testing
Test-Status: SUCCESS
http://dpdk.org/patch/138000

_Testing PASS_

Submitter: Brian Dooley <brian.dooley@intel.com>
Date: Tuesday, March 05 2024 17:42:27 
DPDK git baseline: Repo:dpdk
  Branch: master
  CommitID:240fcef51bceb527c624a2329ca1e3030fbd64db

137997-138000 --> testing pass

Test environment and result as below:

+---------------------+--------------------+----------------------+
|     Environment     | dpdk_meson_compile | dpdk_mingw64_compile |
+=====================+====================+======================+
| Windows Server 2022 | PASS               | SKIPPED              |
+---------------------+--------------------+----------------------+
| FreeBSD 13.2        | PASS               | SKIPPED              |
+---------------------+--------------------+----------------------+
| Windows Server 2019 | PASS               | PASS                 |
+---------------------+--------------------+----------------------+
| CentOS Stream 9     | PASS               | SKIPPED              |
+---------------------+--------------------+----------------------+
| Debian Bullseye     | PASS               | SKIPPED              |
+---------------------+--------------------+----------------------+
| Debian 12 (arm)     | PASS               | SKIPPED              |
+---------------------+--------------------+----------------------+
| Fedora 38           | PASS               | SKIPPED              |
+---------------------+--------------------+----------------------+
| Fedora 37           | PASS               | SKIPPED              |
+---------------------+--------------------+----------------------+
| CentOS Stream 8     | PASS               | SKIPPED              |
+---------------------+--------------------+----------------------+
| Ubuntu 20.04        | PASS               | SKIPPED              |
+---------------------+--------------------+----------------------+
| openSUSE Leap 15    | PASS               | SKIPPED              |
+---------------------+--------------------+----------------------+
| RHEL8               | PASS               | SKIPPED              |
+---------------------+--------------------+----------------------+
| Alpine              | PASS               | SKIPPED              |
+---------------------+--------------------+----------------------+


Windows Server 2022
	Kernel: OS Build 20348.2031
	Compiler: MSVC VS-Preview

FreeBSD 13.2
	Kernel: 13.2
	Compiler: clang 11.3.0

Windows Server 2019
	Kernel: 10.0
	Compiler: clang 14.0 and gcc 8.1.0 (MinGW)

CentOS Stream 9
	Kernel: 4.18.0-240.10.1.el8_3.x86_64
	Compiler: gcc 11.3.1 20220421

Debian Bullseye
	Kernel: 5.4.0-122-generic
	Compiler: gcc 10.2.1-6

Debian 12 (arm)
	Kernel: Container Host Kernel
	Compiler: gcc 11

Fedora 38
	Kernel: Depends on container host
	Compiler: gcc 13.1.1

Fedora 37
	Kernel: Depends on container host system
	Compiler: gcc 12.3.1

CentOS Stream 8
	Kernel: 4.18.0-240.10.1.el8_3.x86_64
	Compiler: gcc 8.4.1 20200928

Ubuntu 20.04
	Kernel: 5.4.0-153-generic
	Compiler: gcc 9.4.0-1ubuntu1~20.04.1

openSUSE Leap 15
	Kernel: 4.18.0-240.10.1.el8_3.x86_64
	Compiler: gcc 7.5.0

RHEL8
	Kernel: 4.18.0-240.10.1.el8_3.x86_64
	Compiler: gcc 8.3.1 20191121 (Red Hat 8.3.1-5)

Alpine
	Kernel: 5.4.0-73-generic
	Compiler: gcc (Alpine 10.3.1_git20210424) 10.3.1 20210424

To view detailed results, visit:
https://lab.dpdk.org/results/dashboard/patchsets/29424/

UNH-IOL DPDK Community Lab

To manage your email subscriptions, visit: 
https://lab.dpdk.org/results/dashboard/preferences/subscriptions/