From mboxrd@z Thu Jan  1 00:00:00 1970
Return-Path: <test-report-bounces@dpdk.org>
Received: from mails.dpdk.org (mails.dpdk.org [217.70.189.124])
	by inbox.dpdk.org (Postfix) with ESMTP id D89D043C3D
	for <public@inbox.dpdk.org>; Tue,  5 Mar 2024 20:55:34 +0100 (CET)
Received: from mails.dpdk.org (localhost [127.0.0.1])
	by mails.dpdk.org (Postfix) with ESMTP id D45EE402AC;
	Tue,  5 Mar 2024 20:55:34 +0100 (CET)
Received: from mail-io1-f98.google.com (mail-io1-f98.google.com
 [209.85.166.98]) by mails.dpdk.org (Postfix) with ESMTP id E4FB840270
 for <test-report@dpdk.org>; Tue,  5 Mar 2024 20:55:32 +0100 (CET)
Received: by mail-io1-f98.google.com with SMTP id
 ca18e2360f4ac-7c810b04bc0so252189339f.2
 for <test-report@dpdk.org>; Tue, 05 Mar 2024 11:55:32 -0800 (PST)
DKIM-Signature: v=1; a=rsa-sha256; c=relaxed/relaxed;
 d=iol.unh.edu; s=unh-iol; t=1709668532; x=1710273332; darn=dpdk.org;
 h=references:in-reply-to:cc:to:from:subject:message-id:date:from:to
 :cc:subject:date:message-id:reply-to;
 bh=EALJWJ9ygYUmn2Er0N3iJl5CAVS6L5/lD0QsC4w/ZIw=;
 b=SjqLtg1Byf1ncybHHo2k/jS/kFdeFcad03Bz7ZjpdzRrEQUI0ZJTLEpeEAfbzndP7D
 Giwc865o0KkYAuJyCESjDRFskXvdhfRLGhedFYEym9YADbANj5mM58D/tMQbqS5Z5qgl
 gpqCqC8zLuyTG4H2zB2IzcaQUj9iNd+uY9KjI=
X-Google-DKIM-Signature: v=1; a=rsa-sha256; c=relaxed/relaxed;
 d=1e100.net; s=20230601; t=1709668532; x=1710273332;
 h=references:in-reply-to:cc:to:from:subject:message-id:date
 :x-gm-message-state:from:to:cc:subject:date:message-id:reply-to;
 bh=EALJWJ9ygYUmn2Er0N3iJl5CAVS6L5/lD0QsC4w/ZIw=;
 b=m+8gF81dlmB5Bl8LGr4kQdD7o6LdSRcXdjacRD7EeOtMeiC5dmM+cCHwKRITRWmVIu
 PuQmlo3HK558ujelLmmEyd+X5KcP5NsQXnJ8Ckwe/Av2lANsjzSXQYDNS93ggZsleMYN
 VugtXZjgNm/ClsbZhsrpFDv4hObXGUxej4cvYHG4rrXkMsMfCzMWMVPp/P2Y4TF5RG6v
 1R1O2LUtRX+xYgdq9NA4q4+vSPlNm5Vt/oPN5uhUTwL3eXBAXUOqrmkn9oEdyTigF8ll
 dAmEDs1qWCDvIaFN7FGFg9psVCsi02sP+xNnYW5z+xD9IuwSvczpqWZ1QEKml5CIDz75
 juoA==
X-Gm-Message-State: AOJu0Ywiq8mLIHoC66sW3A8j3xTCYRa9FgJRkedx6IagCauQQwjj2+xf
 EfrsPYzojV6bvh4WLkwe4hwSdCaK/M85JMLduibQw3AYIFPizi25Raw6lBLIpIqyGJlzwuSIXr7
 vivfYAPrsmVwmm3PNXm8tnQZwJxXfazwdmZT9ARiE6ckFZAzmnGPW5jc0
X-Google-Smtp-Source: AGHT+IFbagCyF46b05rgQ6Qbf1LSEzZNnHJGkfnL8Lht01QzmtOAK2K/tf1R5oNQe9/EotjudwYLROgLVpbm
X-Received: by 2002:a05:6e02:18c7:b0:365:8250:f301 with SMTP id
 s7-20020a056e0218c700b003658250f301mr14842511ilu.6.1709668532333; 
 Tue, 05 Mar 2024 11:55:32 -0800 (PST)
Received: from postal.iol.unh.edu (postal.iol.unh.edu.
 [2606:4100:3880:1234::84]) by smtp-relay.gmail.com with ESMTPS id
 w2-20020a056e021c8200b003654a5d5412sm573366ill.28.2024.03.05.11.55.32
 (version=TLS1_2 cipher=ECDHE-ECDSA-AES128-GCM-SHA256 bits=128/128);
 Tue, 05 Mar 2024 11:55:32 -0800 (PST)
X-Relaying-Domain: iol.unh.edu
Date: Tue, 05 Mar 2024 11:55:32 -0800 (PST)
Message-ID: <65e778b4.050a0220.5d28d.50dbSMTPIN_ADDED_MISSING@mx.google.com>
Received: from [172.21.0.7] (unknown [172.18.0.240])
 by postal.iol.unh.edu (Postfix) with ESMTP id D62E16043484;
 Tue,  5 Mar 2024 14:55:31 -0500 (EST)
Subject: |SUCCESS| pw137997-138000 [PATCH] [v5,4/4] crypto/ipsec_mb: unified 
From: dpdklab@iol.unh.edu
To: Test Report <test-report@dpdk.org>
Cc: dpdk-test-reports@iol.unh.edu
In-Reply-To: <20240305174227.1785111-4-brian.dooley@intel.com>
References: <20240305174227.1785111-4-brian.dooley@intel.com>
Content-Type: text/plain
X-BeenThere: test-report@dpdk.org
X-Mailman-Version: 2.1.29
Precedence: list
List-Id: automatic DPDK test reports <test-report.dpdk.org>
List-Unsubscribe: <https://mails.dpdk.org/options/test-report>,
 <mailto:test-report-request@dpdk.org?subject=unsubscribe>
List-Archive: <http://mails.dpdk.org/archives/test-report/>
List-Post: <mailto:test-report@dpdk.org>
List-Help: <mailto:test-report-request@dpdk.org?subject=help>
List-Subscribe: <https://mails.dpdk.org/listinfo/test-report>,
 <mailto:test-report-request@dpdk.org?subject=subscribe>
Errors-To: test-report-bounces@dpdk.org

Test-Label: iol-compile-amd64-testing
Test-Status: SUCCESS
http://dpdk.org/patch/138000

_Testing PASS_

Submitter: Brian Dooley <brian.dooley@intel.com>
Date: Tuesday, March 05 2024 17:42:27 
DPDK git baseline: Repo:dpdk
  Branch: master
  CommitID:240fcef51bceb527c624a2329ca1e3030fbd64db

137997-138000 --> testing pass

Test environment and result as below:

+---------------------+--------------------+----------------------+
|     Environment     | dpdk_meson_compile | dpdk_mingw64_compile |
+=====================+====================+======================+
| Windows Server 2022 | PASS               | SKIPPED              |
+---------------------+--------------------+----------------------+
| FreeBSD 13.2        | PASS               | SKIPPED              |
+---------------------+--------------------+----------------------+
| Windows Server 2019 | PASS               | PASS                 |
+---------------------+--------------------+----------------------+
| CentOS Stream 9     | PASS               | SKIPPED              |
+---------------------+--------------------+----------------------+
| Debian Bullseye     | PASS               | SKIPPED              |
+---------------------+--------------------+----------------------+
| Debian 12 (arm)     | PASS               | SKIPPED              |
+---------------------+--------------------+----------------------+
| Fedora 38           | PASS               | SKIPPED              |
+---------------------+--------------------+----------------------+
| Fedora 37           | PASS               | SKIPPED              |
+---------------------+--------------------+----------------------+
| CentOS Stream 8     | PASS               | SKIPPED              |
+---------------------+--------------------+----------------------+
| Ubuntu 20.04        | PASS               | SKIPPED              |
+---------------------+--------------------+----------------------+
| openSUSE Leap 15    | PASS               | SKIPPED              |
+---------------------+--------------------+----------------------+
| RHEL8               | PASS               | SKIPPED              |
+---------------------+--------------------+----------------------+
| Alpine              | PASS               | SKIPPED              |
+---------------------+--------------------+----------------------+


Windows Server 2022
	Kernel: OS Build 20348.2031
	Compiler: MSVC VS-Preview

FreeBSD 13.2
	Kernel: 13.2
	Compiler: clang 11.3.0

Windows Server 2019
	Kernel: 10.0
	Compiler: clang 14.0 and gcc 8.1.0 (MinGW)

CentOS Stream 9
	Kernel: 4.18.0-240.10.1.el8_3.x86_64
	Compiler: gcc 11.3.1 20220421

Debian Bullseye
	Kernel: 5.4.0-122-generic
	Compiler: gcc 10.2.1-6

Debian 12 (arm)
	Kernel: Container Host Kernel
	Compiler: gcc 11

Fedora 38
	Kernel: Depends on container host
	Compiler: gcc 13.1.1

Fedora 37
	Kernel: Depends on container host system
	Compiler: gcc 12.3.1

CentOS Stream 8
	Kernel: 4.18.0-240.10.1.el8_3.x86_64
	Compiler: gcc 8.4.1 20200928

Ubuntu 20.04
	Kernel: 5.4.0-153-generic
	Compiler: gcc 9.4.0-1ubuntu1~20.04.1

openSUSE Leap 15
	Kernel: 4.18.0-240.10.1.el8_3.x86_64
	Compiler: gcc 7.5.0

RHEL8
	Kernel: 4.18.0-240.10.1.el8_3.x86_64
	Compiler: gcc 8.3.1 20191121 (Red Hat 8.3.1-5)

Alpine
	Kernel: 5.4.0-73-generic
	Compiler: gcc (Alpine 10.3.1_git20210424) 10.3.1 20210424

To view detailed results, visit:
https://lab.dpdk.org/results/dashboard/patchsets/29424/

UNH-IOL DPDK Community Lab

To manage your email subscriptions, visit: 
https://lab.dpdk.org/results/dashboard/preferences/subscriptions/