From mboxrd@z Thu Jan  1 00:00:00 1970
Return-Path: <test-report-bounces@dpdk.org>
Received: from mails.dpdk.org (mails.dpdk.org [217.70.189.124])
	by inbox.dpdk.org (Postfix) with ESMTP id 5390B43C56
	for <public@inbox.dpdk.org>; Wed,  6 Mar 2024 09:48:38 +0100 (CET)
Received: from mails.dpdk.org (localhost [127.0.0.1])
	by mails.dpdk.org (Postfix) with ESMTP id 4F84E40275;
	Wed,  6 Mar 2024 09:48:38 +0100 (CET)
Received: from mail-qv1-f97.google.com (mail-qv1-f97.google.com
 [209.85.219.97]) by mails.dpdk.org (Postfix) with ESMTP id 5D91C40156
 for <test-report@dpdk.org>; Wed,  6 Mar 2024 09:48:36 +0100 (CET)
Received: by mail-qv1-f97.google.com with SMTP id
 6a1803df08f44-69096fe743dso1055796d6.3
 for <test-report@dpdk.org>; Wed, 06 Mar 2024 00:48:36 -0800 (PST)
DKIM-Signature: v=1; a=rsa-sha256; c=relaxed/relaxed;
 d=iol.unh.edu; s=unh-iol; t=1709714916; x=1710319716; darn=dpdk.org;
 h=references:in-reply-to:cc:to:from:subject:message-id:date:from:to
 :cc:subject:date:message-id:reply-to;
 bh=S5bFqDF03fToB5viClje49M2lSHiLkZ8j8izR5KrHvQ=;
 b=GCWqo1xSCSDRPiaYknB43Jm58MbJHpm+GDVieKurO83LpL+9RSBtagpXnNtTdEwXIF
 17iKPEAFEbI3DkN/+b0pH3H0ps2QB3gy1QY3Ni/Q7ZJ02LzgzBJBJbLOJGfNsJ9z/3zG
 yMH+dRLK2ezLVyH7q92Y9xRoJropuoi3x3/hU=
X-Google-DKIM-Signature: v=1; a=rsa-sha256; c=relaxed/relaxed;
 d=1e100.net; s=20230601; t=1709714916; x=1710319716;
 h=references:in-reply-to:cc:to:from:subject:message-id:date
 :x-gm-message-state:from:to:cc:subject:date:message-id:reply-to;
 bh=S5bFqDF03fToB5viClje49M2lSHiLkZ8j8izR5KrHvQ=;
 b=ZLqh87DmTS9nJEucLv/BNICGFrY6YsU7/8AzT84fVe0GHqhuO3NSi8zjmkqhxfA+5s
 6pd0k7fwx/QBWi+ArlckHkGXGh7BD7WxbGZxHzHnrXmAbCg++502gLmep76gb5KthKUO
 8631wJu/gDRutn35yyw8mJDUTQGkICBCRIwZtLL9vAYu6H2mAdfE4dCpFVis6TvRFu9u
 uWj7nUdiDvkAC0isKEFlXrFrXUxMrTtCfXH0S35E79P+imTAfCA4bm7UEJKRTAHuFInS
 BqMJf5erOp8mtRfxh4Z5463rY/rGp7bv+O7McRpJJS2pxTuo6fT5G2VnsHuJ5r3o+Jjw
 IBFQ==
X-Gm-Message-State: AOJu0YwxtJHS7FW50tekkEjbkUU8uVpCHUKJMl8ZTiT3nFqBNo5Q1HUH
 MXvBERYtn+B2+ZV/7qhuC7TYc+OClF7HI55z5QQHfv2NCAYFsPvZMjfUxUPv9pdFOzAi5BjMEQ+
 CYWZ5JeEkwXZd467Kt5DujJ9HPi9/FIwdC3exFV80CDe7F/DEU3EJwpKZ
X-Google-Smtp-Source: AGHT+IGtJh2RREU0ey8mBQOOL6TupOL0wFbcNFgOA/dAhgVyxbZE0HjEi14zzoaZHyS0RRGTG1nQ1RlGpRQx
X-Received: by 2002:a05:6214:5484:b0:68f:cc3e:179 with SMTP id
 lg4-20020a056214548400b0068fcc3e0179mr4658277qvb.18.1709714915832; 
 Wed, 06 Mar 2024 00:48:35 -0800 (PST)
Received: from postal.iol.unh.edu (postal.iol.unh.edu.
 [2606:4100:3880:1234::84]) by smtp-relay.gmail.com with ESMTPS id
 k14-20020ad45bee000000b0068f8b408604sm690902qvc.5.2024.03.06.00.48.35
 (version=TLS1_2 cipher=ECDHE-ECDSA-AES128-GCM-SHA256 bits=128/128);
 Wed, 06 Mar 2024 00:48:35 -0800 (PST)
X-Relaying-Domain: iol.unh.edu
Date: Wed, 06 Mar 2024 00:48:35 -0800 (PST)
Message-ID: <65e82de3.d40a0220.5887f.d4e9SMTPIN_ADDED_MISSING@mx.google.com>
Received: from [172.17.0.7] (unknown [172.18.0.217])
 by postal.iol.unh.edu (Postfix) with ESMTP id 91FAA605250F;
 Wed,  6 Mar 2024 03:48:35 -0500 (EST)
Subject: |SUCCESS| pw138001 [PATCH] net/mlx5: fix async flow create error han
From: dpdklab@iol.unh.edu
To: Test Report <test-report@dpdk.org>
Cc: dpdk-test-reports@iol.unh.edu
In-Reply-To: <20240305180514.50520-1-dsosnowski@nvidia.com>
References: <20240305180514.50520-1-dsosnowski@nvidia.com>
Content-Type: text/plain
X-BeenThere: test-report@dpdk.org
X-Mailman-Version: 2.1.29
Precedence: list
List-Id: automatic DPDK test reports <test-report.dpdk.org>
List-Unsubscribe: <https://mails.dpdk.org/options/test-report>,
 <mailto:test-report-request@dpdk.org?subject=unsubscribe>
List-Archive: <http://mails.dpdk.org/archives/test-report/>
List-Post: <mailto:test-report@dpdk.org>
List-Help: <mailto:test-report-request@dpdk.org?subject=help>
List-Subscribe: <https://mails.dpdk.org/listinfo/test-report>,
 <mailto:test-report-request@dpdk.org?subject=subscribe>
Errors-To: test-report-bounces@dpdk.org

Test-Label: iol-compile-amd64-testing
Test-Status: SUCCESS
http://dpdk.org/patch/138001

_Testing PASS_

Submitter: Dariusz Sosnowski <dsosnowski@nvidia.com>
Date: Tuesday, March 05 2024 18:05:14 
DPDK git baseline: Repo:dpdk
  Branch: master
  CommitID:3472e5d3295d44b4835ffb22c39f2b7d40780f10

138001 --> testing pass

Test environment and result as below:

+---------------------+--------------------+----------------------+
|     Environment     | dpdk_meson_compile | dpdk_mingw64_compile |
+=====================+====================+======================+
| Windows Server 2022 | PASS               | SKIPPED              |
+---------------------+--------------------+----------------------+
| FreeBSD 13.2        | PASS               | SKIPPED              |
+---------------------+--------------------+----------------------+
| Windows Server 2019 | PASS               | PASS                 |
+---------------------+--------------------+----------------------+
| CentOS Stream 9     | PASS               | SKIPPED              |
+---------------------+--------------------+----------------------+
| Ubuntu 22.04        | PASS               | SKIPPED              |
+---------------------+--------------------+----------------------+
| Debian Bullseye     | PASS               | SKIPPED              |
+---------------------+--------------------+----------------------+
| Alpine              | PASS               | SKIPPED              |
+---------------------+--------------------+----------------------+
| openSUSE Leap 15    | PASS               | SKIPPED              |
+---------------------+--------------------+----------------------+
| Fedora 37           | PASS               | SKIPPED              |
+---------------------+--------------------+----------------------+
| Fedora 38           | PASS               | SKIPPED              |
+---------------------+--------------------+----------------------+
| CentOS Stream 8     | PASS               | SKIPPED              |
+---------------------+--------------------+----------------------+
| Debian 12 (arm)     | PASS               | SKIPPED              |
+---------------------+--------------------+----------------------+
| Ubuntu 20.04        | PASS               | SKIPPED              |
+---------------------+--------------------+----------------------+
| RHEL8               | PASS               | SKIPPED              |
+---------------------+--------------------+----------------------+


Windows Server 2022
	Kernel: OS Build 20348.2031
	Compiler: MSVC VS-Preview

FreeBSD 13.2
	Kernel: 13.2
	Compiler: clang 11.3.0

Windows Server 2019
	Kernel: 10.0
	Compiler: clang 14.0 and gcc 8.1.0 (MinGW)

CentOS Stream 9
	Kernel: 4.18.0-240.10.1.el8_3.x86_64
	Compiler: gcc 11.3.1 20220421

Ubuntu 22.04
	Kernel: 4.18.0-240.10.1.el8_3.x86_64
	Compiler: gcc 11.3.0

Debian Bullseye
	Kernel: 5.4.0-122-generic
	Compiler: gcc 10.2.1-6

Alpine
	Kernel: 5.4.0-73-generic
	Compiler: gcc (Alpine 10.3.1_git20210424) 10.3.1 20210424

openSUSE Leap 15
	Kernel: 4.18.0-240.10.1.el8_3.x86_64
	Compiler: gcc 7.5.0

Fedora 37
	Kernel: Depends on container host system
	Compiler: gcc 12.3.1

Fedora 38
	Kernel: Depends on container host
	Compiler: gcc 13.1.1

CentOS Stream 8
	Kernel: 4.18.0-240.10.1.el8_3.x86_64
	Compiler: gcc 8.4.1 20200928

Debian 12 (arm)
	Kernel: Container Host Kernel
	Compiler: gcc 11

Ubuntu 20.04
	Kernel: 5.4.0-153-generic
	Compiler: gcc 9.4.0-1ubuntu1~20.04.1

RHEL8
	Kernel: 4.18.0-240.10.1.el8_3.x86_64
	Compiler: gcc 8.3.1 20191121 (Red Hat 8.3.1-5)

To view detailed results, visit:
https://lab.dpdk.org/results/dashboard/patchsets/29425/

UNH-IOL DPDK Community Lab

To manage your email subscriptions, visit: 
https://lab.dpdk.org/results/dashboard/preferences/subscriptions/