From mboxrd@z Thu Jan  1 00:00:00 1970
Return-Path: <test-report-bounces@dpdk.org>
Received: from mails.dpdk.org (mails.dpdk.org [217.70.189.124])
	by inbox.dpdk.org (Postfix) with ESMTP id A8C9B43C58
	for <public@inbox.dpdk.org>; Wed,  6 Mar 2024 10:03:41 +0100 (CET)
Received: from mails.dpdk.org (localhost [127.0.0.1])
	by mails.dpdk.org (Postfix) with ESMTP id A519C40275;
	Wed,  6 Mar 2024 10:03:41 +0100 (CET)
Received: from mail-yw1-f227.google.com (mail-yw1-f227.google.com
 [209.85.128.227])
 by mails.dpdk.org (Postfix) with ESMTP id ABA5D40156
 for <test-report@dpdk.org>; Wed,  6 Mar 2024 10:03:39 +0100 (CET)
Received: by mail-yw1-f227.google.com with SMTP id
 00721157ae682-608cf2e08f9so73043977b3.0
 for <test-report@dpdk.org>; Wed, 06 Mar 2024 01:03:39 -0800 (PST)
DKIM-Signature: v=1; a=rsa-sha256; c=relaxed/relaxed;
 d=iol.unh.edu; s=unh-iol; t=1709715819; x=1710320619; darn=dpdk.org;
 h=references:in-reply-to:cc:to:from:subject:message-id:date:from:to
 :cc:subject:date:message-id:reply-to;
 bh=S5bFqDF03fToB5viClje49M2lSHiLkZ8j8izR5KrHvQ=;
 b=PGtLGuRTEqnBHCZZO/poBrkeZScCyAEOdLvGmcw0O3fuJttRsz6JfXK38SawnvOzMf
 XERKIDpyrMeY2LiV9EPGcEWAHHsytdZciFgH9z+UoTF2v4U5xnfdV5RUw5fEjZYcLjUI
 mNeGWRVgQVXXN1g6q3Nk0jA9TL3UffVwu0bVs=
X-Google-DKIM-Signature: v=1; a=rsa-sha256; c=relaxed/relaxed;
 d=1e100.net; s=20230601; t=1709715819; x=1710320619;
 h=references:in-reply-to:cc:to:from:subject:message-id:date
 :x-gm-message-state:from:to:cc:subject:date:message-id:reply-to;
 bh=S5bFqDF03fToB5viClje49M2lSHiLkZ8j8izR5KrHvQ=;
 b=J6zKxiE0yGJGmluNXsEDXmQtgR60vxm+HxJIVzox+NmPa/KujXo7cYKRL3w/+rtoUS
 Bp3srkMZx/rg7lYJ/kzkILFSBT4XftRGTC6bYcet16vL8W9PQ9hnDPqsSOtZHqv36RYZ
 amVzwBcvPoGHYOCO9+QSTQE1CQrRmZltYw1f52NkGhherlcV+Xoxo+H4CD0vvgdTrZc6
 hPG8vsI5HO9N0y0SOX6G4q++N6Ia200vkjl0Tz3uv/mJVTl564w2zB2526EgMeMm0wJw
 9L9TT8nRMzGzKagpRbi9J45JMzb+YmHjvq7LmqLDEgq2NoNguBJyGtK20IwtWgjlMPcB
 qbGQ==
X-Gm-Message-State: AOJu0Yzn+paxC7nkkGTSeSzpqkUYyhMs/6ykoiakduWQtcNKRjiDfBmU
 M8oSTZrODU/DndWavnHfLvDVxF+gfnG+u9ZYQnRuxxpgL9cffpEb6MSBtK8BjDBIB9FO/2P1i7e
 Wdj3t9E5KZ99D9y3FXLLLjadF5HmSU8KYCNe8bUfqTgOUEroIN2cxhzbL
X-Google-Smtp-Source: AGHT+IHyu8VU1Sw6aiSgPN9GWWuxTpFhlLvjUMG/xO622BO06Ox54tAceJpq2qbjzrS6DUj9Eu89WKQVa8FT
X-Received: by 2002:a81:8945:0:b0:609:69e2:8599 with SMTP id
 z66-20020a818945000000b0060969e28599mr13725532ywf.44.1709715819135; 
 Wed, 06 Mar 2024 01:03:39 -0800 (PST)
Received: from postal.iol.unh.edu (postal.iol.unh.edu.
 [2606:4100:3880:1234::84]) by smtp-relay.gmail.com with ESMTPS id
 t77-20020a818350000000b0060994928096sm540266ywf.11.2024.03.06.01.03.39
 (version=TLS1_2 cipher=ECDHE-ECDSA-AES128-GCM-SHA256 bits=128/128);
 Wed, 06 Mar 2024 01:03:39 -0800 (PST)
X-Relaying-Domain: iol.unh.edu
Date: Wed, 06 Mar 2024 01:03:39 -0800 (PST)
Message-ID: <65e8316b.810a0220.8a5a0.258bSMTPIN_ADDED_MISSING@mx.google.com>
Received: from [172.17.0.6] (unknown [172.18.0.217])
 by postal.iol.unh.edu (Postfix) with ESMTP id C20B56052511;
 Wed,  6 Mar 2024 04:03:38 -0500 (EST)
Subject: |SUCCESS| pw138001 [PATCH] net/mlx5: fix async flow create error han
From: dpdklab@iol.unh.edu
To: Test Report <test-report@dpdk.org>
Cc: dpdk-test-reports@iol.unh.edu
In-Reply-To: <20240305180514.50520-1-dsosnowski@nvidia.com>
References: <20240305180514.50520-1-dsosnowski@nvidia.com>
Content-Type: text/plain
X-BeenThere: test-report@dpdk.org
X-Mailman-Version: 2.1.29
Precedence: list
List-Id: automatic DPDK test reports <test-report.dpdk.org>
List-Unsubscribe: <https://mails.dpdk.org/options/test-report>,
 <mailto:test-report-request@dpdk.org?subject=unsubscribe>
List-Archive: <http://mails.dpdk.org/archives/test-report/>
List-Post: <mailto:test-report@dpdk.org>
List-Help: <mailto:test-report-request@dpdk.org?subject=help>
List-Subscribe: <https://mails.dpdk.org/listinfo/test-report>,
 <mailto:test-report-request@dpdk.org?subject=subscribe>
Errors-To: test-report-bounces@dpdk.org

Test-Label: iol-compile-amd64-testing
Test-Status: SUCCESS
http://dpdk.org/patch/138001

_Testing PASS_

Submitter: Dariusz Sosnowski <dsosnowski@nvidia.com>
Date: Tuesday, March 05 2024 18:05:14 
DPDK git baseline: Repo:dpdk
  Branch: master
  CommitID:3472e5d3295d44b4835ffb22c39f2b7d40780f10

138001 --> testing pass

Test environment and result as below:

+---------------------+--------------------+----------------------+
|     Environment     | dpdk_meson_compile | dpdk_mingw64_compile |
+=====================+====================+======================+
| Windows Server 2022 | PASS               | SKIPPED              |
+---------------------+--------------------+----------------------+
| FreeBSD 13.2        | PASS               | SKIPPED              |
+---------------------+--------------------+----------------------+
| Windows Server 2019 | PASS               | PASS                 |
+---------------------+--------------------+----------------------+
| CentOS Stream 9     | PASS               | SKIPPED              |
+---------------------+--------------------+----------------------+
| Ubuntu 22.04        | PASS               | SKIPPED              |
+---------------------+--------------------+----------------------+
| Debian Bullseye     | PASS               | SKIPPED              |
+---------------------+--------------------+----------------------+
| Alpine              | PASS               | SKIPPED              |
+---------------------+--------------------+----------------------+
| openSUSE Leap 15    | PASS               | SKIPPED              |
+---------------------+--------------------+----------------------+
| Fedora 37           | PASS               | SKIPPED              |
+---------------------+--------------------+----------------------+
| Fedora 38           | PASS               | SKIPPED              |
+---------------------+--------------------+----------------------+
| CentOS Stream 8     | PASS               | SKIPPED              |
+---------------------+--------------------+----------------------+
| Debian 12 (arm)     | PASS               | SKIPPED              |
+---------------------+--------------------+----------------------+
| Ubuntu 20.04        | PASS               | SKIPPED              |
+---------------------+--------------------+----------------------+
| RHEL8               | PASS               | SKIPPED              |
+---------------------+--------------------+----------------------+


Windows Server 2022
	Kernel: OS Build 20348.2031
	Compiler: MSVC VS-Preview

FreeBSD 13.2
	Kernel: 13.2
	Compiler: clang 11.3.0

Windows Server 2019
	Kernel: 10.0
	Compiler: clang 14.0 and gcc 8.1.0 (MinGW)

CentOS Stream 9
	Kernel: 4.18.0-240.10.1.el8_3.x86_64
	Compiler: gcc 11.3.1 20220421

Ubuntu 22.04
	Kernel: 4.18.0-240.10.1.el8_3.x86_64
	Compiler: gcc 11.3.0

Debian Bullseye
	Kernel: 5.4.0-122-generic
	Compiler: gcc 10.2.1-6

Alpine
	Kernel: 5.4.0-73-generic
	Compiler: gcc (Alpine 10.3.1_git20210424) 10.3.1 20210424

openSUSE Leap 15
	Kernel: 4.18.0-240.10.1.el8_3.x86_64
	Compiler: gcc 7.5.0

Fedora 37
	Kernel: Depends on container host system
	Compiler: gcc 12.3.1

Fedora 38
	Kernel: Depends on container host
	Compiler: gcc 13.1.1

CentOS Stream 8
	Kernel: 4.18.0-240.10.1.el8_3.x86_64
	Compiler: gcc 8.4.1 20200928

Debian 12 (arm)
	Kernel: Container Host Kernel
	Compiler: gcc 11

Ubuntu 20.04
	Kernel: 5.4.0-153-generic
	Compiler: gcc 9.4.0-1ubuntu1~20.04.1

RHEL8
	Kernel: 4.18.0-240.10.1.el8_3.x86_64
	Compiler: gcc 8.3.1 20191121 (Red Hat 8.3.1-5)

To view detailed results, visit:
https://lab.dpdk.org/results/dashboard/patchsets/29425/

UNH-IOL DPDK Community Lab

To manage your email subscriptions, visit: 
https://lab.dpdk.org/results/dashboard/preferences/subscriptions/