From mboxrd@z Thu Jan  1 00:00:00 1970
Return-Path: <test-report-bounces@dpdk.org>
Received: from mails.dpdk.org (mails.dpdk.org [217.70.189.124])
	by inbox.dpdk.org (Postfix) with ESMTP id D4C7D43C58
	for <public@inbox.dpdk.org>; Wed,  6 Mar 2024 10:58:38 +0100 (CET)
Received: from mails.dpdk.org (localhost [127.0.0.1])
	by mails.dpdk.org (Postfix) with ESMTP id CEC0C402ED;
	Wed,  6 Mar 2024 10:58:38 +0100 (CET)
Received: from mail-pl1-f227.google.com (mail-pl1-f227.google.com
 [209.85.214.227])
 by mails.dpdk.org (Postfix) with ESMTP id A638340276
 for <test-report@dpdk.org>; Wed,  6 Mar 2024 10:58:37 +0100 (CET)
Received: by mail-pl1-f227.google.com with SMTP id
 d9443c01a7336-1dcb3e6ff3fso38157425ad.2
 for <test-report@dpdk.org>; Wed, 06 Mar 2024 01:58:37 -0800 (PST)
DKIM-Signature: v=1; a=rsa-sha256; c=relaxed/relaxed;
 d=iol.unh.edu; s=unh-iol; t=1709719117; x=1710323917; darn=dpdk.org;
 h=references:in-reply-to:cc:to:from:subject:message-id:date:from:to
 :cc:subject:date:message-id:reply-to;
 bh=kBlU2ecJnKS++OoXuACuN93K98cavv+fJj0FBCQcep4=;
 b=dGuo2Bw9amwx5t1wMIax7Vxus02ri20aONbvr9UAPTldE9sCSinwtFfeLOd+/4qku+
 Rwexgw/Ne7Is1WeEF5YiSVtZoaR+OeVhe9Ar98ujK/yJXC1c+kyBLDX+Oz/oWQWMbjCQ
 bfi7dt5cG9cVhW1YSWkhqcGN2M/suBDpFGfTM=
X-Google-DKIM-Signature: v=1; a=rsa-sha256; c=relaxed/relaxed;
 d=1e100.net; s=20230601; t=1709719117; x=1710323917;
 h=references:in-reply-to:cc:to:from:subject:message-id:date
 :x-gm-message-state:from:to:cc:subject:date:message-id:reply-to;
 bh=kBlU2ecJnKS++OoXuACuN93K98cavv+fJj0FBCQcep4=;
 b=pTDbaKhim9CUDJ+a8cf1GMP246wel1OMLscN1Yb3ORVKiMoTzw8zMFPSa/qlJpfwxO
 WJ90Rig4peEb72oLbxW3CTU3bOuTjgjXXa57GzOT0BVFJy/Pjb8EdIF3vQxN0/AX0kRW
 2K3gC3IUbJSazPwwyK4LUR5s+FwRLI6ji4luvwZDqLKIr7WqXiuPEeLlhc3Kl04dE+Zj
 QKdwrEA7yRmieDyvibg0ApRQuXk4wLnACkYzkrPkDa4QnFeP/8DjCf2GR5A7GJdOBX+4
 vQog7LjO3I9GGEO9t/eMOequGzEGBMgIEycnj9sGj2hwcy91CtysLwDLCQPsgmR6F+fm
 yMDw==
X-Gm-Message-State: AOJu0Yxu8ZSidVPYJmPzhpxB2RdcWhw4NhCrwhSPu/Wanf3QPAR3GlaM
 H+VJhVsKCVskRbiQq1XOskGjAeVZLUfLJwX0VPKswm6oJJkS4Cnr49Am8aMw6DLTcdol6xj1Q0d
 e3WDEStUkT76wpAyHvN1NCMKQ+KWZe7q9GVlmAcjq
X-Google-Smtp-Source: AGHT+IF2wPYa9pb0FVuIQZRkKwWYd3ySTp2cj6CNDqUMv7ym9lQjn+neLn5ulgsZ/Rh/gTiLhP/J0l7fenKY
X-Received: by 2002:a17:903:2348:b0:1d7:5d88:f993 with SMTP id
 c8-20020a170903234800b001d75d88f993mr4744308plh.41.1709719116916; 
 Wed, 06 Mar 2024 01:58:36 -0800 (PST)
Received: from postal.iol.unh.edu (postal.iol.unh.edu. [132.177.123.84])
 by smtp-relay.gmail.com with ESMTPS id
 v6-20020a1709028d8600b001dc2f643b7bsm291823plo.84.2024.03.06.01.58.36
 (version=TLS1_2 cipher=ECDHE-ECDSA-AES128-GCM-SHA256 bits=128/128);
 Wed, 06 Mar 2024 01:58:36 -0800 (PST)
X-Relaying-Domain: iol.unh.edu
Date: Wed, 06 Mar 2024 01:58:36 -0800 (PST)
Message-ID: <65e83e4c.170a0220.e24eb.25d6SMTPIN_ADDED_MISSING@mx.google.com>
Received: from [172.17.0.6] (unknown [172.18.0.217])
 by postal.iol.unh.edu (Postfix) with ESMTP id 1DA576052712;
 Wed,  6 Mar 2024 04:58:36 -0500 (EST)
Subject: |SUCCESS| pw138001 [PATCH] net/mlx5: fix async flow create error han
From: dpdklab@iol.unh.edu
To: Test Report <test-report@dpdk.org>
Cc: dpdk-test-reports@iol.unh.edu
In-Reply-To: <20240305180514.50520-1-dsosnowski@nvidia.com>
References: <20240305180514.50520-1-dsosnowski@nvidia.com>
Content-Type: text/plain
X-BeenThere: test-report@dpdk.org
X-Mailman-Version: 2.1.29
Precedence: list
List-Id: automatic DPDK test reports <test-report.dpdk.org>
List-Unsubscribe: <https://mails.dpdk.org/options/test-report>,
 <mailto:test-report-request@dpdk.org?subject=unsubscribe>
List-Archive: <http://mails.dpdk.org/archives/test-report/>
List-Post: <mailto:test-report@dpdk.org>
List-Help: <mailto:test-report-request@dpdk.org?subject=help>
List-Subscribe: <https://mails.dpdk.org/listinfo/test-report>,
 <mailto:test-report-request@dpdk.org?subject=subscribe>
Errors-To: test-report-bounces@dpdk.org

Test-Label: iol-unit-amd64-testing
Test-Status: SUCCESS
http://dpdk.org/patch/138001

_Testing PASS_

Submitter: Dariusz Sosnowski <dsosnowski@nvidia.com>
Date: Tuesday, March 05 2024 18:05:14 
DPDK git baseline: Repo:dpdk
  Branch: master
  CommitID:3472e5d3295d44b4835ffb22c39f2b7d40780f10

138001 --> testing pass

Test environment and result as below:

+---------------------+----------------+
|     Environment     | dpdk_unit_test |
+=====================+================+
| Windows Server 2019 | PASS           |
+---------------------+----------------+
| CentOS Stream 9     | PASS           |
+---------------------+----------------+
| CentOS Stream 8     | PASS           |
+---------------------+----------------+
| Debian Bullseye     | PASS           |
+---------------------+----------------+
| Debian 12 (arm)     | PASS           |
+---------------------+----------------+
| Fedora 37           | PASS           |
+---------------------+----------------+
| openSUSE Leap 15    | PASS           |
+---------------------+----------------+
| Fedora 38           | PASS           |
+---------------------+----------------+
| RHEL8               | PASS           |
+---------------------+----------------+
| Ubuntu 20.04        | PASS           |
+---------------------+----------------+
| Ubuntu 22.04        | PASS           |
+---------------------+----------------+


Windows Server 2019
	Kernel: 10.0
	Compiler: clang 14.0 and gcc 8.1.0 (MinGW)

CentOS Stream 9
	Kernel: 4.18.0-240.10.1.el8_3.x86_64
	Compiler: gcc 11.3.1 20220421

CentOS Stream 8
	Kernel: 4.18.0-240.10.1.el8_3.x86_64
	Compiler: gcc 8.4.1 20200928

Debian Bullseye
	Kernel: 5.4.0-122-generic
	Compiler: gcc 10.2.1-6

Debian 12 (arm)
	Kernel: Container Host Kernel
	Compiler: gcc 11

Fedora 37
	Kernel: Depends on container host system
	Compiler: gcc 12.3.1

openSUSE Leap 15
	Kernel: 4.18.0-240.10.1.el8_3.x86_64
	Compiler: gcc 7.5.0

Fedora 38
	Kernel: Depends on container host
	Compiler: clang 16.0.3

RHEL8
	Kernel: 4.18.0-240.10.1.el8_3.x86_64
	Compiler: gcc 8.3.1 20191121 (Red Hat 8.3.1-5)

Ubuntu 20.04
	Kernel: 5.4.0-153-generic
	Compiler: gcc 9.4.0-1ubuntu1~20.04.1

Ubuntu 22.04
	Kernel: 4.18.0-240.10.1.el8_3.x86_64
	Compiler: gcc 11.3.0

To view detailed results, visit:
https://lab.dpdk.org/results/dashboard/patchsets/29425/

UNH-IOL DPDK Community Lab

To manage your email subscriptions, visit: 
https://lab.dpdk.org/results/dashboard/preferences/subscriptions/