From mboxrd@z Thu Jan  1 00:00:00 1970
Return-Path: <test-report-bounces@dpdk.org>
Received: from mails.dpdk.org (mails.dpdk.org [217.70.189.124])
	by inbox.dpdk.org (Postfix) with ESMTP id EBC3843C58
	for <public@inbox.dpdk.org>; Wed,  6 Mar 2024 10:58:56 +0100 (CET)
Received: from mails.dpdk.org (localhost [127.0.0.1])
	by mails.dpdk.org (Postfix) with ESMTP id E6FEB402ED;
	Wed,  6 Mar 2024 10:58:56 +0100 (CET)
Received: from mail-qk1-f226.google.com (mail-qk1-f226.google.com
 [209.85.222.226])
 by mails.dpdk.org (Postfix) with ESMTP id 3AEDB40276
 for <test-report@dpdk.org>; Wed,  6 Mar 2024 10:58:55 +0100 (CET)
Received: by mail-qk1-f226.google.com with SMTP id
 af79cd13be357-783045e88a6so515724285a.0
 for <test-report@dpdk.org>; Wed, 06 Mar 2024 01:58:55 -0800 (PST)
DKIM-Signature: v=1; a=rsa-sha256; c=relaxed/relaxed;
 d=iol.unh.edu; s=unh-iol; t=1709719134; x=1710323934; darn=dpdk.org;
 h=references:in-reply-to:cc:to:from:subject:message-id:date:from:to
 :cc:subject:date:message-id:reply-to;
 bh=HX1PBc/Jz8/yYrYb501eOzPBVMUQabu/mlRC0X0hKiM=;
 b=WbjZ7jmjq9BAMcCETPwXrOl4l8C/Jk59LxRfpgKIJCa8zw4Pk0lYV5Z0kiu1NyVEva
 zHXEG4mxqKSFvJDUVf0WAwZqqseujJV6uCB5JyGem7p1DiJOB5sq3TLjso1Bxq0qmX5W
 Qy3tW4IB5xl9xSx9Dl3OCuSCfOBG2+oQ5UWS0=
X-Google-DKIM-Signature: v=1; a=rsa-sha256; c=relaxed/relaxed;
 d=1e100.net; s=20230601; t=1709719134; x=1710323934;
 h=references:in-reply-to:cc:to:from:subject:message-id:date
 :x-gm-message-state:from:to:cc:subject:date:message-id:reply-to;
 bh=HX1PBc/Jz8/yYrYb501eOzPBVMUQabu/mlRC0X0hKiM=;
 b=sny4BN2kEi+0COMXwyV8CnH8fLUjgrBrBi0JuNzDvS140hvAzKBXp0Gpr+yuKBtkYh
 K9Wk816j1fDw9wD+GZ7pT8el9hQcFbeYlvq4jHkhIvSZo0fuvgZVFdoYRBWMXpgh4Aj4
 Wxfq+21AQ3hbsmO7M3TQKuN4qMlqLSni9bensLUA65WvEmnfNA5PU5X0LLPtoKP9aMJJ
 29h2yhTfh1OIEuCT/8XnDo8IetkODkbjcxspCkO+txNHQQyFTacloGbnbgU4blMbCVGi
 B0aZ77p9ocbQEZBVoLSq3UTlh2m7kHWPsuwW/B2lzuJPpPrZl/iHrvIcZXeRDSCVFRJ5
 z8IA==
X-Gm-Message-State: AOJu0YxI+RQswJ2NFC852RhCLMLNiDTFaMlO7zQWcICH252yuFbg/NVf
 iTOzSguuE8Plg0crdl16Qbhi7TIFrVHcLPob/WxKbHIhL7ykQplz2R6LcIM5iFKIhde1weLQKp6
 50Zp77bH+VxY9OeiBf/v//YHzMNB3C+1eKrjrEEtvVDFLgravcsr7/Hje
X-Google-Smtp-Source: AGHT+IEe5dxJV9tccaGQNX7OLLBZyh1VdlveTr3McmeGpwFgltNUx9w6fW1xGr39yhpQhVwCaFffczx7KqXV
X-Received: by 2002:a05:620a:1792:b0:788:1fd0:2b50 with SMTP id
 ay18-20020a05620a179200b007881fd02b50mr5752424qkb.15.1709719134709; 
 Wed, 06 Mar 2024 01:58:54 -0800 (PST)
Received: from postal.iol.unh.edu (postal.iol.unh.edu.
 [2606:4100:3880:1234::84]) by smtp-relay.gmail.com with ESMTPS id
 u6-20020a05620a454600b0078842ff674dsm630qkp.2.2024.03.06.01.58.54
 (version=TLS1_2 cipher=ECDHE-ECDSA-AES128-GCM-SHA256 bits=128/128);
 Wed, 06 Mar 2024 01:58:54 -0800 (PST)
X-Relaying-Domain: iol.unh.edu
Date: Wed, 06 Mar 2024 01:58:54 -0800 (PST)
Message-ID: <65e83e5e.050a0220.bc13f.007eSMTPIN_ADDED_MISSING@mx.google.com>
Received: from [172.17.0.6] (unknown [172.18.0.217])
 by postal.iol.unh.edu (Postfix) with ESMTP id D9B2B6052712;
 Wed,  6 Mar 2024 04:58:53 -0500 (EST)
Subject: |SUCCESS| pw138001 [PATCH] net/mlx5: fix async flow create error han
From: dpdklab@iol.unh.edu
To: Test Report <test-report@dpdk.org>
Cc: dpdk-test-reports@iol.unh.edu
In-Reply-To: <20240305180514.50520-1-dsosnowski@nvidia.com>
References: <20240305180514.50520-1-dsosnowski@nvidia.com>
Content-Type: text/plain
X-BeenThere: test-report@dpdk.org
X-Mailman-Version: 2.1.29
Precedence: list
List-Id: automatic DPDK test reports <test-report.dpdk.org>
List-Unsubscribe: <https://mails.dpdk.org/options/test-report>,
 <mailto:test-report-request@dpdk.org?subject=unsubscribe>
List-Archive: <http://mails.dpdk.org/archives/test-report/>
List-Post: <mailto:test-report@dpdk.org>
List-Help: <mailto:test-report-request@dpdk.org?subject=help>
List-Subscribe: <https://mails.dpdk.org/listinfo/test-report>,
 <mailto:test-report-request@dpdk.org?subject=subscribe>
Errors-To: test-report-bounces@dpdk.org

Test-Label: iol-unit-arm64-testing
Test-Status: SUCCESS
http://dpdk.org/patch/138001

_Testing PASS_

Submitter: Dariusz Sosnowski <dsosnowski@nvidia.com>
Date: Tuesday, March 05 2024 18:05:14 
DPDK git baseline: Repo:dpdk
  Branch: master
  CommitID:3472e5d3295d44b4835ffb22c39f2b7d40780f10

138001 --> testing pass

Test environment and result as below:

+--------------------------+--------------+----------------+---------------------------+------------------------------+
|       Environment        | lpm_autotest | dpdk_unit_test | cryptodev_sw_zuc_autotest | cryptodev_sw_snow3g_autotest |
+==========================+==============+================+===========================+==============================+
| Ubuntu 20.04 ARM SVE     | PASS         | SKIPPED        | SKIPPED                   | SKIPPED                      |
+--------------------------+--------------+----------------+---------------------------+------------------------------+
| CentOS Stream 9 (ARM)    | SKIPPED      | PASS           | SKIPPED                   | SKIPPED                      |
+--------------------------+--------------+----------------+---------------------------+------------------------------+
| Debian 11 (Buster) (ARM) | SKIPPED      | PASS           | SKIPPED                   | SKIPPED                      |
+--------------------------+--------------+----------------+---------------------------+------------------------------+
| Debian 12 (arm)          | SKIPPED      | PASS           | PASS                      | PASS                         |
+--------------------------+--------------+----------------+---------------------------+------------------------------+
| Fedora 38 (ARM)          | SKIPPED      | PASS           | SKIPPED                   | SKIPPED                      |
+--------------------------+--------------+----------------+---------------------------+------------------------------+
| Fedora 37 (ARM)          | SKIPPED      | PASS           | SKIPPED                   | SKIPPED                      |
+--------------------------+--------------+----------------+---------------------------+------------------------------+
| Ubuntu 20.04 (ARM)       | SKIPPED      | PASS           | SKIPPED                   | SKIPPED                      |
+--------------------------+--------------+----------------+---------------------------+------------------------------+
| Fedora 38 (ARM Clang)    | SKIPPED      | PASS           | SKIPPED                   | SKIPPED                      |
+--------------------------+--------------+----------------+---------------------------+------------------------------+


Ubuntu 20.04 ARM SVE
	Kernel: 5.4.0-80-generic
	Compiler: gcc 10.3.0 (Ubuntu 10.3.0-1ubuntu1~20.04)

CentOS Stream 9 (ARM)
	Kernel: Container Host Kernel
	Compiler: gcc 11.3.1

Debian 11 (Buster) (ARM)
	Kernel: Container Host Kernel
	Compiler: gcc 10.2.1

Debian 12 (arm)
	Kernel: Container Host Kernel
	Compiler: gcc 11

Fedora 38 (ARM)
	Kernel: Depends on container host
	Compiler: gcc 13.1.1

Fedora 37 (ARM)
	Kernel: Depends on container host
	Compiler: gcc 12.3.1

Ubuntu 20.04 (ARM)
	Kernel: Container Host Kernel
	Compiler: gcc 9.4.0

Fedora 38 (ARM Clang)
	Kernel: Depends on container host
	Compiler: clang 16.0.3

To view detailed results, visit:
https://lab.dpdk.org/results/dashboard/patchsets/29425/

UNH-IOL DPDK Community Lab

To manage your email subscriptions, visit: 
https://lab.dpdk.org/results/dashboard/preferences/subscriptions/