From mboxrd@z Thu Jan  1 00:00:00 1970
Return-Path: <test-report-bounces@dpdk.org>
Received: from mails.dpdk.org (mails.dpdk.org [217.70.189.124])
	by inbox.dpdk.org (Postfix) with ESMTP id 5600443C58
	for <public@inbox.dpdk.org>; Wed,  6 Mar 2024 11:14:33 +0100 (CET)
Received: from mails.dpdk.org (localhost [127.0.0.1])
	by mails.dpdk.org (Postfix) with ESMTP id 5021F40276;
	Wed,  6 Mar 2024 11:14:33 +0100 (CET)
Received: from mail-yw1-f228.google.com (mail-yw1-f228.google.com
 [209.85.128.228])
 by mails.dpdk.org (Postfix) with ESMTP id BC1FD40275
 for <test-report@dpdk.org>; Wed,  6 Mar 2024 11:14:31 +0100 (CET)
Received: by mail-yw1-f228.google.com with SMTP id
 00721157ae682-608ceccb5f4so44173427b3.3
 for <test-report@dpdk.org>; Wed, 06 Mar 2024 02:14:31 -0800 (PST)
DKIM-Signature: v=1; a=rsa-sha256; c=relaxed/relaxed;
 d=iol.unh.edu; s=unh-iol; t=1709720071; x=1710324871; darn=dpdk.org;
 h=references:in-reply-to:cc:to:from:subject:message-id:date:from:to
 :cc:subject:date:message-id:reply-to;
 bh=ini5duICDe8zw6suxtLMFoE0qyqcemrY8MXFfkiL9Yo=;
 b=D4k6eYRjOXlGRcX37JCbjsnSYTNAKwxeA9Mh9Ke5kGxTDhIGWidbeKEOZyoH7yoHEU
 ouQZcJJKf/92lXXg/Jx2KqCa+k6S50NdYfpYyyZlqZuUA3d+EOOPnrsCE0ABJ2Ff/udM
 jGQWu4DP+JZXv9Ul0R0nBTy053t5o/mdnp6yw=
X-Google-DKIM-Signature: v=1; a=rsa-sha256; c=relaxed/relaxed;
 d=1e100.net; s=20230601; t=1709720071; x=1710324871;
 h=references:in-reply-to:cc:to:from:subject:message-id:date
 :x-gm-message-state:from:to:cc:subject:date:message-id:reply-to;
 bh=ini5duICDe8zw6suxtLMFoE0qyqcemrY8MXFfkiL9Yo=;
 b=aXKX8EpWi21nNTQ8SbaM7IYH5e6q6dZBqH/+cJOwa7/exx9lo/DcXxFHB5Dg4rD3Ri
 AUzZ67kckY0Q9rdJ7UCjD6aSHoUCjeSvT9g5hJMZvGKdOGNH65qSToLUzSa/d+IOlI2g
 Ygjw1WsRUz0iMXwlgNmD6JWqR8kE813063ufbwoLlB8zFvDui3c2gt3E+pVpwVdNDndb
 V992dOWaYnRWjTkXswJ8qVuauapP4CU0hYGJa3pw+hfQMTftrxfYy292TifiAoo2RT7i
 4E0okDvAMseNJTwHlq7bgoBl8Pnxp23hAyXEPFCJitv56GQXjMAyAVUwk3oJxnUMK30P
 G2XA==
X-Gm-Message-State: AOJu0YwrxWBDB1THb/8ssfaZSCf3mQ3NhOWHobXs+IS5+dxaLuI+zyRd
 nuTZyLod+4yvSEGThQHQKZDeP4hmWddDS+rlRqK3qT3j1d62QiOtwPJyFmgtV18WQ1gtgfIi2oH
 yJBOdWWkwmqrj5yHxUV8PDMCgzcHCIoBSz0ts8Nk3TnrYO34LRxwqgKGT
X-Google-Smtp-Source: AGHT+IEIX9kAlCGBSrcj9g4eIZHl6u6c//VD9WBSB1+iuYI/c9i4EPr6kYJfzyFc919G1vnNa1ic/QduroNW
X-Received: by 2002:a5b:346:0:b0:dc6:f055:c16d with SMTP id
 q6-20020a5b0346000000b00dc6f055c16dmr12127579ybp.36.1709720071244; 
 Wed, 06 Mar 2024 02:14:31 -0800 (PST)
Received: from postal.iol.unh.edu (postal.iol.unh.edu.
 [2606:4100:3880:1234::84]) by smtp-relay.gmail.com with ESMTPS id
 v14-20020a25ab8e000000b00dc6bd45d9c0sm303138ybi.27.2024.03.06.02.14.31
 (version=TLS1_2 cipher=ECDHE-ECDSA-AES128-GCM-SHA256 bits=128/128);
 Wed, 06 Mar 2024 02:14:31 -0800 (PST)
X-Relaying-Domain: iol.unh.edu
Date: Wed, 06 Mar 2024 02:14:31 -0800 (PST)
Message-ID: <65e84207.250a0220.befc5.01c6SMTPIN_ADDED_MISSING@mx.google.com>
Received: from [172.21.0.6] (unknown [172.18.0.240])
 by postal.iol.unh.edu (Postfix) with ESMTP id D54266052712;
 Wed,  6 Mar 2024 05:14:30 -0500 (EST)
Subject: |SUCCESS| pw138005 [PATCH] net/mlx5: fix pattern template size valid
From: dpdklab@iol.unh.edu
To: Test Report <test-report@dpdk.org>
Cc: dpdk-test-reports@iol.unh.edu
In-Reply-To: <20240306073856.950136-1-getelson@nvidia.com>
References: <20240306073856.950136-1-getelson@nvidia.com>
Content-Type: text/plain
X-BeenThere: test-report@dpdk.org
X-Mailman-Version: 2.1.29
Precedence: list
List-Id: automatic DPDK test reports <test-report.dpdk.org>
List-Unsubscribe: <https://mails.dpdk.org/options/test-report>,
 <mailto:test-report-request@dpdk.org?subject=unsubscribe>
List-Archive: <http://mails.dpdk.org/archives/test-report/>
List-Post: <mailto:test-report@dpdk.org>
List-Help: <mailto:test-report-request@dpdk.org?subject=help>
List-Subscribe: <https://mails.dpdk.org/listinfo/test-report>,
 <mailto:test-report-request@dpdk.org?subject=subscribe>
Errors-To: test-report-bounces@dpdk.org

Test-Label: iol-abi-testing
Test-Status: SUCCESS
http://dpdk.org/patch/138005

_Testing PASS_

Submitter: Gregory Etelson <getelson@nvidia.com>
Date: Wednesday, March 06 2024 07:38:56 
DPDK git baseline: Repo:dpdk
  Branch: master
  CommitID:3472e5d3295d44b4835ffb22c39f2b7d40780f10

138005 --> testing pass

Test environment and result as below:

+------------------+----------+
|   Environment    | abi_test |
+==================+==========+
| CentOS Stream 9  | PASS     |
+------------------+----------+
| Fedora 38        | PASS     |
+------------------+----------+
| Debian Bullseye  | PASS     |
+------------------+----------+
| openSUSE Leap 15 | PASS     |
+------------------+----------+
| RHEL8            | PASS     |
+------------------+----------+
| CentOS Stream 8  | PASS     |
+------------------+----------+
| Ubuntu 22.04     | PASS     |
+------------------+----------+
| Debian 12 (arm)  | PASS     |
+------------------+----------+
| Fedora 37        | PASS     |
+------------------+----------+


CentOS Stream 9
	Kernel: 4.18.0-240.10.1.el8_3.x86_64
	Compiler: gcc 11.3.1 20220421

Fedora 38
	Kernel: Depends on container host
	Compiler: gcc 13.1.1

Debian Bullseye
	Kernel: 5.4.0-122-generic
	Compiler: gcc 10.2.1-6

openSUSE Leap 15
	Kernel: 4.18.0-240.10.1.el8_3.x86_64
	Compiler: gcc 7.5.0

RHEL8
	Kernel: 4.18.0-240.10.1.el8_3.x86_64
	Compiler: gcc 8.3.1 20191121 (Red Hat 8.3.1-5)

CentOS Stream 8
	Kernel: 4.18.0-240.10.1.el8_3.x86_64
	Compiler: gcc 8.4.1 20200928

Ubuntu 22.04
	Kernel: 4.18.0-240.10.1.el8_3.x86_64
	Compiler: gcc 11.3.0

Debian 12 (arm)
	Kernel: Container Host Kernel
	Compiler: gcc 11

Fedora 37
	Kernel: Depends on container host system
	Compiler: gcc 12.3.1

To view detailed results, visit:
https://lab.dpdk.org/results/dashboard/patchsets/29428/

UNH-IOL DPDK Community Lab

To manage your email subscriptions, visit: 
https://lab.dpdk.org/results/dashboard/preferences/subscriptions/