From mboxrd@z Thu Jan  1 00:00:00 1970
Return-Path: <test-report-bounces@dpdk.org>
Received: from mails.dpdk.org (mails.dpdk.org [217.70.189.124])
	by inbox.dpdk.org (Postfix) with ESMTP id 9CDC843C59
	for <public@inbox.dpdk.org>; Wed,  6 Mar 2024 12:07:17 +0100 (CET)
Received: from mails.dpdk.org (localhost [127.0.0.1])
	by mails.dpdk.org (Postfix) with ESMTP id 98D1F40A6F;
	Wed,  6 Mar 2024 12:07:17 +0100 (CET)
Received: from mail-qv1-f99.google.com (mail-qv1-f99.google.com
 [209.85.219.99]) by mails.dpdk.org (Postfix) with ESMTP id 4446A4027C
 for <test-report@dpdk.org>; Wed,  6 Mar 2024 12:07:16 +0100 (CET)
Received: by mail-qv1-f99.google.com with SMTP id
 6a1803df08f44-6908e2a53e9so6713566d6.0
 for <test-report@dpdk.org>; Wed, 06 Mar 2024 03:07:16 -0800 (PST)
DKIM-Signature: v=1; a=rsa-sha256; c=relaxed/relaxed;
 d=iol.unh.edu; s=unh-iol; t=1709723235; x=1710328035; darn=dpdk.org;
 h=references:in-reply-to:cc:to:from:subject:message-id:date:from:to
 :cc:subject:date:message-id:reply-to;
 bh=DtkDS5a7gXx6UKy1gE0NzwAtIop73sExsL6QeTTOlS4=;
 b=IgHHLpVSDPLx/eSoty6mRbeK3FTC3XDJVbda/Xhf2/WU7ySE0wwCVmHCtSL4TSBnqq
 kb3ZoyTimuoa8GscmO5CBqIHHRojMXMFmYd6Jn7geR9BhQ6trlfPywReDvuRMUFIPTSf
 MFWQBRG112QePBXqro3TH1KYm095me2oGCl4s=
X-Google-DKIM-Signature: v=1; a=rsa-sha256; c=relaxed/relaxed;
 d=1e100.net; s=20230601; t=1709723235; x=1710328035;
 h=references:in-reply-to:cc:to:from:subject:message-id:date
 :x-gm-message-state:from:to:cc:subject:date:message-id:reply-to;
 bh=DtkDS5a7gXx6UKy1gE0NzwAtIop73sExsL6QeTTOlS4=;
 b=FWH6waT0Ihghi4zTBMJ7xZ/qP1KTkaaq1wyiChwXmatktTVb8GHnrN86dPdZhZD3Qj
 z6qbghSedzH5eu/rqx35qFfLqwjaix22FcUMiNzBUY1uPmZQs6OzDEe+n/8lOzeAIFha
 Jez6us+JC4Ie9MRymOgCXNNNpWPJJ2YjWLsfUEERKxH5DBuRKgHTpItHQ4gT/35QAtpP
 up8ZfV8AzUhL85pAvnbKElppkMK8IRALukF1n9YHA0LAunIlZ/b3f2pjlcG6mj7g9zfX
 PLvgoyidHneJXgPyAdA8yuwHEkfYJ4q15uCLtOjxgR6kAEmJ+Eci5MzHussKKJu6oG0d
 eOkw==
X-Gm-Message-State: AOJu0Yyf1cPwzIPkSj5v2/P8UrjGHtteHUWxBZv33b1PyAG9LLk0grZZ
 CYfsztUcRddVx3o9XGHzpRAxQ/d+Fzy0RhchVXT6K+QT8tTc0YRceDA/GqbCfrRDqb9zBc/L56G
 or+7A2uYVUOJNIdUmTFhn7BnRRsc+evI1NurJ2yxdJYoRhZ8xhbP+ODid
X-Google-Smtp-Source: AGHT+IFNp+IFYI0GhfseBzwTvt7QK2qZ72+LmtvIdFR+wxOmZTS4kucTre3OEj2E/nrDwmRqdrvigrGFvbBV
X-Received: by 2002:a0c:df0c:0:b0:690:4107:180e with SMTP id
 g12-20020a0cdf0c000000b006904107180emr5255601qvl.19.1709723235746; 
 Wed, 06 Mar 2024 03:07:15 -0800 (PST)
Received: from postal.iol.unh.edu (postal.iol.unh.edu.
 [2606:4100:3880:1234::84]) by smtp-relay.gmail.com with ESMTPS id
 fn14-20020ad45d6e000000b0068f6c8ab314sm779082qvb.75.2024.03.06.03.07.15
 (version=TLS1_2 cipher=ECDHE-ECDSA-AES128-GCM-SHA256 bits=128/128);
 Wed, 06 Mar 2024 03:07:15 -0800 (PST)
X-Relaying-Domain: iol.unh.edu
Date: Wed, 06 Mar 2024 03:07:15 -0800 (PST)
Message-ID: <65e84e63.d40a0220.8b4da.2af9SMTPIN_ADDED_MISSING@mx.google.com>
Received: from [172.21.0.6] (unknown [172.18.0.240])
 by postal.iol.unh.edu (Postfix) with ESMTP id 6F2056052712;
 Wed,  6 Mar 2024 06:07:15 -0500 (EST)
Subject: |SUCCESS| pw138005 [PATCH] net/mlx5: fix pattern template size valid
From: dpdklab@iol.unh.edu
To: Test Report <test-report@dpdk.org>
Cc: dpdk-test-reports@iol.unh.edu
In-Reply-To: <20240306073856.950136-1-getelson@nvidia.com>
References: <20240306073856.950136-1-getelson@nvidia.com>
Content-Type: text/plain
X-BeenThere: test-report@dpdk.org
X-Mailman-Version: 2.1.29
Precedence: list
List-Id: automatic DPDK test reports <test-report.dpdk.org>
List-Unsubscribe: <https://mails.dpdk.org/options/test-report>,
 <mailto:test-report-request@dpdk.org?subject=unsubscribe>
List-Archive: <http://mails.dpdk.org/archives/test-report/>
List-Post: <mailto:test-report@dpdk.org>
List-Help: <mailto:test-report-request@dpdk.org?subject=help>
List-Subscribe: <https://mails.dpdk.org/listinfo/test-report>,
 <mailto:test-report-request@dpdk.org?subject=subscribe>
Errors-To: test-report-bounces@dpdk.org

Test-Label: iol-compile-arm64-testing
Test-Status: SUCCESS
http://dpdk.org/patch/138005

_Testing PASS_

Submitter: Gregory Etelson <getelson@nvidia.com>
Date: Wednesday, March 06 2024 07:38:56 
DPDK git baseline: Repo:dpdk
  Branch: master
  CommitID:3472e5d3295d44b4835ffb22c39f2b7d40780f10

138005 --> testing pass

Test environment and result as below:

+----------------------------------------+--------------------+
|              Environment               | dpdk_meson_compile |
+========================================+====================+
| Ubuntu 20.04 ARM SVE                   | PASS               |
+----------------------------------------+--------------------+
| Ubuntu 20.04 ARM Clang Cross Compile   | PASS               |
+----------------------------------------+--------------------+
| Fedora 37 (ARM)                        | PASS               |
+----------------------------------------+--------------------+
| Fedora 38 (ARM)                        | PASS               |
+----------------------------------------+--------------------+
| Ubuntu 20.04 (ARM)                     | PASS               |
+----------------------------------------+--------------------+
| Ubuntu 20.04 ARM GCC Cross Compile     | PASS               |
+----------------------------------------+--------------------+
| Ubuntu 20.04 aarch32 GCC Cross Compile | PASS               |
+----------------------------------------+--------------------+
| CentOS Stream 9 (ARM)                  | PASS               |
+----------------------------------------+--------------------+
| Debian 11 (Buster) (ARM)               | PASS               |
+----------------------------------------+--------------------+
| Debian 12 (arm)                        | PASS               |
+----------------------------------------+--------------------+


Ubuntu 20.04 ARM SVE
	Kernel: 5.4.0-80-generic
	Compiler: gcc 10.3.0 (Ubuntu 10.3.0-1ubuntu1~20.04)

Ubuntu 20.04 ARM Clang Cross Compile
	Kernel: 5.4.0-72-generic
	Compiler: clang version 10.0.0-4ubuntu1

Fedora 37 (ARM)
	Kernel: Depends on container host
	Compiler: gcc 12.3.1

Fedora 38 (ARM)
	Kernel: Depends on container host
	Compiler: gcc 13.1.1

Ubuntu 20.04 (ARM)
	Kernel: Container Host Kernel
	Compiler: gcc 9.4.0

Ubuntu 20.04 ARM GCC Cross Compile
	Kernel: 5.4.0-72-generic
	Compiler: aarch64-linux-gnu-gcc (Ubuntu 9.3.0-17ubuntu1~20.04) 9.3.0

Ubuntu 20.04 aarch32 GCC Cross Compile
	Kernel: 5.4.0-72-generic
	Compiler: gcc 9.3.0

CentOS Stream 9 (ARM)
	Kernel: Container Host Kernel
	Compiler: gcc 11.3.1

Debian 11 (Buster) (ARM)
	Kernel: Container Host Kernel
	Compiler: gcc 10.2.1

Debian 12 (arm)
	Kernel: Container Host Kernel
	Compiler: gcc 11

To view detailed results, visit:
https://lab.dpdk.org/results/dashboard/patchsets/29428/

UNH-IOL DPDK Community Lab

To manage your email subscriptions, visit: 
https://lab.dpdk.org/results/dashboard/preferences/subscriptions/