From mboxrd@z Thu Jan  1 00:00:00 1970
Return-Path: <test-report-bounces@dpdk.org>
Received: from mails.dpdk.org (mails.dpdk.org [217.70.189.124])
	by inbox.dpdk.org (Postfix) with ESMTP id 2E13843C59
	for <public@inbox.dpdk.org>; Wed,  6 Mar 2024 12:09:20 +0100 (CET)
Received: from mails.dpdk.org (localhost [127.0.0.1])
	by mails.dpdk.org (Postfix) with ESMTP id 294D940A6F;
	Wed,  6 Mar 2024 12:09:20 +0100 (CET)
Received: from mail-pl1-f228.google.com (mail-pl1-f228.google.com
 [209.85.214.228])
 by mails.dpdk.org (Postfix) with ESMTP id D34E74027C
 for <test-report@dpdk.org>; Wed,  6 Mar 2024 12:09:18 +0100 (CET)
Received: by mail-pl1-f228.google.com with SMTP id
 d9443c01a7336-1dc3b4b9b62so6038195ad.1
 for <test-report@dpdk.org>; Wed, 06 Mar 2024 03:09:18 -0800 (PST)
DKIM-Signature: v=1; a=rsa-sha256; c=relaxed/relaxed;
 d=iol.unh.edu; s=unh-iol; t=1709723358; x=1710328158; darn=dpdk.org;
 h=references:in-reply-to:cc:to:from:subject:message-id:date:from:to
 :cc:subject:date:message-id:reply-to;
 bh=RX2cMkgOmmNJXrafaNSOTyajdZDN/dUT5lBcOvbrBFQ=;
 b=SO+yBK/D57nk7hMaOnuOzl8PMPeDWDoyp6QVIKCFKt6uRH9wUPq1M8+h/eXD5cUCQi
 fi6mgoVF7eZvT/cXrlKygfDfRBZ2nyLZNUgOPe4dQ1D53z0iEhv+Q+BnsRVlfgm4rLMm
 7lSoIw1JYy6m7cfPuAN54FgGy57sBIPcqDCMk=
X-Google-DKIM-Signature: v=1; a=rsa-sha256; c=relaxed/relaxed;
 d=1e100.net; s=20230601; t=1709723358; x=1710328158;
 h=references:in-reply-to:cc:to:from:subject:message-id:date
 :x-gm-message-state:from:to:cc:subject:date:message-id:reply-to;
 bh=RX2cMkgOmmNJXrafaNSOTyajdZDN/dUT5lBcOvbrBFQ=;
 b=YyZeixVLtOa0L9mEiyZeSFFg3mhuwIylL+uKP7+XxxjP0KE4hatU/1TOqBHy60412S
 c9wZ/HOcLpd6KJzN8F8NUh2dYUZdQVsKhwMSIlJNJBCxeCHDzFysUiNiou1Po+wqI5se
 4O0HzFSuQjYfD8bW7uwbLX98JBxVS0L31YeSd5bOItObhKjHKy5eUJeAVQucSqfRa88U
 YzMlUD6mocHEfWSF80+G6VqKDXmKeaF+qvMD+EQZDEx8Aa58wjZ5ZxMdL4bYxRfkUEJ0
 Hl/975fJIWyrX8ddB/TOMjoiFl5yzyxFB/mqB7Pxi+JBs8/5dtEx9bNIx9NAVbLmatVW
 DE4Q==
X-Gm-Message-State: AOJu0Yx2wbV/Y5YMSgkJm3sgTEksGqYi/mI/35nErrB/qI1Bo97gvHOG
 HUJSis04u56rDltlvduXXqQf9LLvPgD/2eXtR7DCrlV0b/GKyoMQTz4Yt0+3GiJEA0qVoikYID2
 LqpDb/mUoH5e3o9subt4L0P6YKeqZZFlMgca/69/B
X-Google-Smtp-Source: AGHT+IE+hF+subTPh6WlQC7L/pU4Xw6/yyImH7xO5e83R/gWud4pLRtca7jDDEhdna3n0jM4bRdInbAjc3xr
X-Received: by 2002:a17:902:db04:b0:1dc:6073:a3a4 with SMTP id
 m4-20020a170902db0400b001dc6073a3a4mr6521188plx.3.1709723358139; 
 Wed, 06 Mar 2024 03:09:18 -0800 (PST)
Received: from postal.iol.unh.edu (postal.iol.unh.edu. [132.177.123.84])
 by smtp-relay.gmail.com with ESMTPS id
 a3-20020a170902900300b001d8f093e55dsm279545plp.83.2024.03.06.03.09.18
 (version=TLS1_2 cipher=ECDHE-ECDSA-AES128-GCM-SHA256 bits=128/128);
 Wed, 06 Mar 2024 03:09:18 -0800 (PST)
X-Relaying-Domain: iol.unh.edu
Date: Wed, 06 Mar 2024 03:09:18 -0800 (PST)
Message-ID: <65e84ede.170a0220.adb0d.102eSMTPIN_ADDED_MISSING@mx.google.com>
Received: from [172.21.0.6] (unknown [172.18.0.240])
 by postal.iol.unh.edu (Postfix) with ESMTP id 546806052712;
 Wed,  6 Mar 2024 06:09:17 -0500 (EST)
Subject: |SUCCESS| pw138005 [PATCH] net/mlx5: fix pattern template size valid
From: dpdklab@iol.unh.edu
To: Test Report <test-report@dpdk.org>
Cc: dpdk-test-reports@iol.unh.edu
In-Reply-To: <20240306073856.950136-1-getelson@nvidia.com>
References: <20240306073856.950136-1-getelson@nvidia.com>
Content-Type: text/plain
X-BeenThere: test-report@dpdk.org
X-Mailman-Version: 2.1.29
Precedence: list
List-Id: automatic DPDK test reports <test-report.dpdk.org>
List-Unsubscribe: <https://mails.dpdk.org/options/test-report>,
 <mailto:test-report-request@dpdk.org?subject=unsubscribe>
List-Archive: <http://mails.dpdk.org/archives/test-report/>
List-Post: <mailto:test-report@dpdk.org>
List-Help: <mailto:test-report-request@dpdk.org?subject=help>
List-Subscribe: <https://mails.dpdk.org/listinfo/test-report>,
 <mailto:test-report-request@dpdk.org?subject=subscribe>
Errors-To: test-report-bounces@dpdk.org

Test-Label: iol-compile-amd64-testing
Test-Status: SUCCESS
http://dpdk.org/patch/138005

_Testing PASS_

Submitter: Gregory Etelson <getelson@nvidia.com>
Date: Wednesday, March 06 2024 07:38:56 
DPDK git baseline: Repo:dpdk
  Branch: master
  CommitID:3472e5d3295d44b4835ffb22c39f2b7d40780f10

138005 --> testing pass

Test environment and result as below:

+---------------------+--------------------+
|     Environment     | dpdk_meson_compile |
+=====================+====================+
| Debian Bullseye     | PASS               |
+---------------------+--------------------+
| CentOS Stream 9     | PASS               |
+---------------------+--------------------+
| Windows Server 2022 | PASS               |
+---------------------+--------------------+
| openSUSE Leap 15    | PASS               |
+---------------------+--------------------+
| Ubuntu 22.04        | PASS               |
+---------------------+--------------------+
| Fedora 38           | PASS               |
+---------------------+--------------------+
| Ubuntu 20.04        | PASS               |
+---------------------+--------------------+
| FreeBSD 13.2        | PASS               |
+---------------------+--------------------+
| Fedora 37           | PASS               |
+---------------------+--------------------+
| RHEL8               | PASS               |
+---------------------+--------------------+
| Windows Server 2019 | PASS               |
+---------------------+--------------------+
| CentOS Stream 8     | PASS               |
+---------------------+--------------------+
| Debian 12 (arm)     | PASS               |
+---------------------+--------------------+


Debian Bullseye
	Kernel: 5.4.0-122-generic
	Compiler: gcc 10.2.1-6

CentOS Stream 9
	Kernel: 4.18.0-240.10.1.el8_3.x86_64
	Compiler: gcc 11.3.1 20220421

Windows Server 2022
	Kernel: OS Build 20348.2031
	Compiler: MSVC VS-Preview

openSUSE Leap 15
	Kernel: 4.18.0-240.10.1.el8_3.x86_64
	Compiler: gcc 7.5.0

Ubuntu 22.04
	Kernel: 4.18.0-240.10.1.el8_3.x86_64
	Compiler: gcc 11.3.0

Fedora 38
	Kernel: Depends on container host
	Compiler: gcc 13.1.1

Ubuntu 20.04
	Kernel: 5.4.0-153-generic
	Compiler: gcc 9.4.0-1ubuntu1~20.04.1

FreeBSD 13.2
	Kernel: 13.2
	Compiler: clang 11.3.0

Fedora 37
	Kernel: Depends on container host system
	Compiler: gcc 12.3.1

RHEL8
	Kernel: 4.18.0-240.10.1.el8_3.x86_64
	Compiler: gcc 8.3.1 20191121 (Red Hat 8.3.1-5)

Windows Server 2019
	Kernel: 10.0
	Compiler: clang 14.0 and gcc 8.1.0 (MinGW)

CentOS Stream 8
	Kernel: 4.18.0-240.10.1.el8_3.x86_64
	Compiler: gcc 8.4.1 20200928

Debian 12 (arm)
	Kernel: Container Host Kernel
	Compiler: gcc 11

To view detailed results, visit:
https://lab.dpdk.org/results/dashboard/patchsets/29428/

UNH-IOL DPDK Community Lab

To manage your email subscriptions, visit: 
https://lab.dpdk.org/results/dashboard/preferences/subscriptions/