From mboxrd@z Thu Jan  1 00:00:00 1970
Return-Path: <test-report-bounces@dpdk.org>
Received: from mails.dpdk.org (mails.dpdk.org [217.70.189.124])
	by inbox.dpdk.org (Postfix) with ESMTP id AF80743C59
	for <public@inbox.dpdk.org>; Wed,  6 Mar 2024 12:31:58 +0100 (CET)
Received: from mails.dpdk.org (localhost [127.0.0.1])
	by mails.dpdk.org (Postfix) with ESMTP id A720A40A6F;
	Wed,  6 Mar 2024 12:31:58 +0100 (CET)
Received: from mail-yw1-f225.google.com (mail-yw1-f225.google.com
 [209.85.128.225])
 by mails.dpdk.org (Postfix) with ESMTP id EE7524027C
 for <test-report@dpdk.org>; Wed,  6 Mar 2024 12:31:56 +0100 (CET)
Received: by mail-yw1-f225.google.com with SMTP id
 00721157ae682-6095dfcb461so8458367b3.2
 for <test-report@dpdk.org>; Wed, 06 Mar 2024 03:31:56 -0800 (PST)
DKIM-Signature: v=1; a=rsa-sha256; c=relaxed/relaxed;
 d=iol.unh.edu; s=unh-iol; t=1709724716; x=1710329516; darn=dpdk.org;
 h=references:in-reply-to:cc:to:from:subject:message-id:date:from:to
 :cc:subject:date:message-id:reply-to;
 bh=lrnDmk8B7q4vXwKbsAqExQxkMQSU+oY2J9BjWfy0pD0=;
 b=GlciPsxKcvEmSRAlm0cBilrYSmxszg8158/mKnD23U62G7FiEWqzvf9k45ua2KDOec
 V0EPxzL71JpZD5QqwgqrXTYqHqmV4LJODttzGbG87TAkydyOF8qxilT1FKRNGG5SHN8g
 M37IfNa/5VRVFcKuTDusGF3Gro+tGURkUtBso=
X-Google-DKIM-Signature: v=1; a=rsa-sha256; c=relaxed/relaxed;
 d=1e100.net; s=20230601; t=1709724716; x=1710329516;
 h=references:in-reply-to:cc:to:from:subject:message-id:date
 :x-gm-message-state:from:to:cc:subject:date:message-id:reply-to;
 bh=lrnDmk8B7q4vXwKbsAqExQxkMQSU+oY2J9BjWfy0pD0=;
 b=nXQaVm0CBtEAX97xonhdQO3vaTKqs3e0FBxi4l1nTP+atkqTdsSiH2g2LCPelJa4Gq
 Ul4MRjZml5zJJzmikEGSkzsrd8bS5mNL+sX6pOPRFiQKR540++ghgq3KqXX+Dap8Pb3b
 hhIJd5zytKq07oFhpWIxI1HCH9fHsfATASCEZ1O13j3CcgkVVxJ+K9S7ksWKH53AdNBn
 ia2oDokrtzhe75uEk7OHNGwmLLCb+vp9Nz5cMq9ifwhuyPxkUNGM+SArYZmu2Y9vGiRs
 Mi3whIPZnUCFqLBtovH7fBzF0VCtsrtG8TYgEKWBv+cZk9+DmvPrLXSbEUavloHGbfWD
 SV8A==
X-Gm-Message-State: AOJu0Yz62WA/Nm4LIbieHeW90FICrj+Lx5ZE8+UCf5GyE++7r6MMuyN+
 y5tYT+qvEKc1IhZr1//SelEG2hn6GVhm70MhYOqqKFdVlgyn+xyTJe5HnT0PjS+Kqh/6rongycq
 YAd3ovT0hYihVO3S+q746Or6SPR1EWfAorBWI8ugp
X-Google-Smtp-Source: AGHT+IEr+0V7tVjhgNzBw8iuVBHEe6DEjlybQBNug/Af7jLKLDbSVcs/FRXmOynXNmtFgp2N2kFLrraFj7hV
X-Received: by 2002:a81:6e43:0:b0:609:78be:610b with SMTP id
 j64-20020a816e43000000b0060978be610bmr14738431ywc.3.1709724716461; 
 Wed, 06 Mar 2024 03:31:56 -0800 (PST)
Received: from postal.iol.unh.edu (postal.iol.unh.edu. [132.177.123.84])
 by smtp-relay.gmail.com with ESMTPS id
 s18-20020a81bf52000000b006079f991563sm416006ywk.51.2024.03.06.03.31.56
 (version=TLS1_2 cipher=ECDHE-ECDSA-AES128-GCM-SHA256 bits=128/128);
 Wed, 06 Mar 2024 03:31:56 -0800 (PST)
X-Relaying-Domain: iol.unh.edu
Date: Wed, 06 Mar 2024 03:31:56 -0800 (PST)
Message-ID: <65e8542c.810a0220.7a2c1.8c9fSMTPIN_ADDED_MISSING@mx.google.com>
Received: from [172.17.0.7] (unknown [172.18.0.217])
 by postal.iol.unh.edu (Postfix) with ESMTP id 19F8E6052712;
 Wed,  6 Mar 2024 06:31:56 -0500 (EST)
Subject: |SUCCESS| pw138005 [PATCH] net/mlx5: fix pattern template size valid
From: dpdklab@iol.unh.edu
To: Test Report <test-report@dpdk.org>
Cc: dpdk-test-reports@iol.unh.edu
In-Reply-To: <20240306073856.950136-1-getelson@nvidia.com>
References: <20240306073856.950136-1-getelson@nvidia.com>
Content-Type: text/plain
X-BeenThere: test-report@dpdk.org
X-Mailman-Version: 2.1.29
Precedence: list
List-Id: automatic DPDK test reports <test-report.dpdk.org>
List-Unsubscribe: <https://mails.dpdk.org/options/test-report>,
 <mailto:test-report-request@dpdk.org?subject=unsubscribe>
List-Archive: <http://mails.dpdk.org/archives/test-report/>
List-Post: <mailto:test-report@dpdk.org>
List-Help: <mailto:test-report-request@dpdk.org?subject=help>
List-Subscribe: <https://mails.dpdk.org/listinfo/test-report>,
 <mailto:test-report-request@dpdk.org?subject=subscribe>
Errors-To: test-report-bounces@dpdk.org

Test-Label: iol-unit-arm64-testing
Test-Status: SUCCESS
http://dpdk.org/patch/138005

_Testing PASS_

Submitter: Gregory Etelson <getelson@nvidia.com>
Date: Wednesday, March 06 2024 07:38:56 
DPDK git baseline: Repo:dpdk
  Branch: master
  CommitID:3472e5d3295d44b4835ffb22c39f2b7d40780f10

138005 --> testing pass

Test environment and result as below:

+--------------------------+----------------+---------------------------+------------------------------+--------------+
|       Environment        | dpdk_unit_test | cryptodev_sw_zuc_autotest | cryptodev_sw_snow3g_autotest | lpm_autotest |
+==========================+================+===========================+==============================+==============+
| Debian 12 (arm)          | PASS           | PASS                      | PASS                         | SKIPPED      |
+--------------------------+----------------+---------------------------+------------------------------+--------------+
| Fedora 37 (ARM)          | PASS           | SKIPPED                   | SKIPPED                      | SKIPPED      |
+--------------------------+----------------+---------------------------+------------------------------+--------------+
| Debian 11 (Buster) (ARM) | PASS           | SKIPPED                   | SKIPPED                      | SKIPPED      |
+--------------------------+----------------+---------------------------+------------------------------+--------------+
| CentOS Stream 9 (ARM)    | PASS           | SKIPPED                   | SKIPPED                      | SKIPPED      |
+--------------------------+----------------+---------------------------+------------------------------+--------------+
| Fedora 38 (ARM)          | PASS           | SKIPPED                   | SKIPPED                      | SKIPPED      |
+--------------------------+----------------+---------------------------+------------------------------+--------------+
| Ubuntu 20.04 (ARM)       | PASS           | SKIPPED                   | SKIPPED                      | SKIPPED      |
+--------------------------+----------------+---------------------------+------------------------------+--------------+
| Fedora 38 (ARM Clang)    | PASS           | SKIPPED                   | SKIPPED                      | SKIPPED      |
+--------------------------+----------------+---------------------------+------------------------------+--------------+
| Ubuntu 20.04 ARM SVE     | SKIPPED        | SKIPPED                   | SKIPPED                      | PASS         |
+--------------------------+----------------+---------------------------+------------------------------+--------------+


Debian 12 (arm)
	Kernel: Container Host Kernel
	Compiler: gcc 11

Fedora 37 (ARM)
	Kernel: Depends on container host
	Compiler: gcc 12.3.1

Debian 11 (Buster) (ARM)
	Kernel: Container Host Kernel
	Compiler: gcc 10.2.1

CentOS Stream 9 (ARM)
	Kernel: Container Host Kernel
	Compiler: gcc 11.3.1

Fedora 38 (ARM)
	Kernel: Depends on container host
	Compiler: gcc 13.1.1

Ubuntu 20.04 (ARM)
	Kernel: Container Host Kernel
	Compiler: gcc 9.4.0

Fedora 38 (ARM Clang)
	Kernel: Depends on container host
	Compiler: clang 16.0.3

Ubuntu 20.04 ARM SVE
	Kernel: 5.4.0-80-generic
	Compiler: gcc 10.3.0 (Ubuntu 10.3.0-1ubuntu1~20.04)

To view detailed results, visit:
https://lab.dpdk.org/results/dashboard/patchsets/29428/

UNH-IOL DPDK Community Lab

To manage your email subscriptions, visit: 
https://lab.dpdk.org/results/dashboard/preferences/subscriptions/