From mboxrd@z Thu Jan  1 00:00:00 1970
Return-Path: <test-report-bounces@dpdk.org>
Received: from mails.dpdk.org (mails.dpdk.org [217.70.189.124])
	by inbox.dpdk.org (Postfix) with ESMTP id 465B343C59
	for <public@inbox.dpdk.org>; Wed,  6 Mar 2024 12:39:09 +0100 (CET)
Received: from mails.dpdk.org (localhost [127.0.0.1])
	by mails.dpdk.org (Postfix) with ESMTP id 40A8E40A6F;
	Wed,  6 Mar 2024 12:39:09 +0100 (CET)
Received: from mail-vs1-f99.google.com (mail-vs1-f99.google.com
 [209.85.217.99]) by mails.dpdk.org (Postfix) with ESMTP id A2BAA4027C
 for <test-report@dpdk.org>; Wed,  6 Mar 2024 12:39:07 +0100 (CET)
Received: by mail-vs1-f99.google.com with SMTP id
 ada2fe7eead31-47268928105so476261137.1
 for <test-report@dpdk.org>; Wed, 06 Mar 2024 03:39:07 -0800 (PST)
DKIM-Signature: v=1; a=rsa-sha256; c=relaxed/relaxed;
 d=iol.unh.edu; s=unh-iol; t=1709725147; x=1710329947; darn=dpdk.org;
 h=references:in-reply-to:cc:to:from:subject:message-id:date:from:to
 :cc:subject:date:message-id:reply-to;
 bh=lrnDmk8B7q4vXwKbsAqExQxkMQSU+oY2J9BjWfy0pD0=;
 b=LlxOEF2ThjjU+FZyOwVvSg2pqCoLJ9WkG2dbqH84+PavdOge00n1eKXGLXxIIhBUPj
 v+ewj6LWQNE97cou3JX0eou2oKhF/G3XkgEPjVlw0SdaT19H1T3YF2ZZeDgNLxnGF/xs
 iNsITLQWbnOjtmJ7kvo8q1tu9r1wCVhWqJgCQ=
X-Google-DKIM-Signature: v=1; a=rsa-sha256; c=relaxed/relaxed;
 d=1e100.net; s=20230601; t=1709725147; x=1710329947;
 h=references:in-reply-to:cc:to:from:subject:message-id:date
 :x-gm-message-state:from:to:cc:subject:date:message-id:reply-to;
 bh=lrnDmk8B7q4vXwKbsAqExQxkMQSU+oY2J9BjWfy0pD0=;
 b=aKAep4sBPQYv8KUNCwhBH/5R2cOKPFDpwXB7cVZmPStkKxxad41OocMtK9AnXDJjmh
 llbKDbvD0Gy7Jd8zFxQpVRlSnkx2gMsLP8Zl2dDyVHgubjq9Fd3LpnSOkOjv7RAFu1jU
 3dHUSsSDWAY0GbPnadx3x6msHeuQEiTEA6PL9sKJu3Yqz+Tlbyi3kQeqYd+oKceG9mi4
 joOM7TGTM1QW/Z+4qTD0zT4G7U4rkXSDDPW8TRhdYs4sBDwqE5V3a/Scemzh1QCmzfQ2
 kYm0ioQBQ1wf7gSVfbIppjHdLHbgVpSGdE0nIyUqqA9de73w5udhH1qrH87FRrFGmyrm
 hZYg==
X-Gm-Message-State: AOJu0YzVMJs9BpLeNyqf4brQCYf4BGJd07mYvKpXF6FRi9BX6gGdhyCw
 AwmuMKGNe5cznvYSHnbi3goqH6n2TeFM0kKwIvfoNmOunylf6I6gGl2HILDGRbgtxEg5/9wKmpT
 LLKLZ2U/RjvhCy0ITyxxgWPd7SuPt+j/vdtMGLpfq2D5wR+gjBRmnD0R9
X-Google-Smtp-Source: AGHT+IEQ4OKKMd3Xa4C9CxUg5qUtSIjgUqe5JlMaRc0w2H/CTD4wayAUt0Er4mxBHyEVoB+QhMQ4lG0YC915
X-Received: by 2002:a67:fe99:0:b0:472:e980:f0b9 with SMTP id
 b25-20020a67fe99000000b00472e980f0b9mr1833263vsr.17.1709725147120; 
 Wed, 06 Mar 2024 03:39:07 -0800 (PST)
Received: from postal.iol.unh.edu (postal.iol.unh.edu.
 [2606:4100:3880:1234::84]) by smtp-relay.gmail.com with ESMTPS id
 v7-20020ab02007000000b007dab56c1c18sm688770uak.13.2024.03.06.03.39.07
 (version=TLS1_2 cipher=ECDHE-ECDSA-AES128-GCM-SHA256 bits=128/128);
 Wed, 06 Mar 2024 03:39:07 -0800 (PST)
X-Relaying-Domain: iol.unh.edu
Date: Wed, 06 Mar 2024 03:39:07 -0800 (PST)
Message-ID: <65e855db.b00a0220.d99c2.6de3SMTPIN_ADDED_MISSING@mx.google.com>
Received: from [172.17.0.7] (unknown [172.18.0.217])
 by postal.iol.unh.edu (Postfix) with ESMTP id BBB166052712;
 Wed,  6 Mar 2024 06:39:05 -0500 (EST)
Subject: |SUCCESS| pw138005 [PATCH] net/mlx5: fix pattern template size valid
From: dpdklab@iol.unh.edu
To: Test Report <test-report@dpdk.org>
Cc: dpdk-test-reports@iol.unh.edu
In-Reply-To: <20240306073856.950136-1-getelson@nvidia.com>
References: <20240306073856.950136-1-getelson@nvidia.com>
Content-Type: text/plain
X-BeenThere: test-report@dpdk.org
X-Mailman-Version: 2.1.29
Precedence: list
List-Id: automatic DPDK test reports <test-report.dpdk.org>
List-Unsubscribe: <https://mails.dpdk.org/options/test-report>,
 <mailto:test-report-request@dpdk.org?subject=unsubscribe>
List-Archive: <http://mails.dpdk.org/archives/test-report/>
List-Post: <mailto:test-report@dpdk.org>
List-Help: <mailto:test-report-request@dpdk.org?subject=help>
List-Subscribe: <https://mails.dpdk.org/listinfo/test-report>,
 <mailto:test-report-request@dpdk.org?subject=subscribe>
Errors-To: test-report-bounces@dpdk.org

Test-Label: iol-unit-arm64-testing
Test-Status: SUCCESS
http://dpdk.org/patch/138005

_Testing PASS_

Submitter: Gregory Etelson <getelson@nvidia.com>
Date: Wednesday, March 06 2024 07:38:56 
DPDK git baseline: Repo:dpdk
  Branch: master
  CommitID:3472e5d3295d44b4835ffb22c39f2b7d40780f10

138005 --> testing pass

Test environment and result as below:

+--------------------------+----------------+---------------------------+------------------------------+--------------+
|       Environment        | dpdk_unit_test | cryptodev_sw_zuc_autotest | cryptodev_sw_snow3g_autotest | lpm_autotest |
+==========================+================+===========================+==============================+==============+
| Debian 12 (arm)          | PASS           | PASS                      | PASS                         | SKIPPED      |
+--------------------------+----------------+---------------------------+------------------------------+--------------+
| Fedora 37 (ARM)          | PASS           | SKIPPED                   | SKIPPED                      | SKIPPED      |
+--------------------------+----------------+---------------------------+------------------------------+--------------+
| Debian 11 (Buster) (ARM) | PASS           | SKIPPED                   | SKIPPED                      | SKIPPED      |
+--------------------------+----------------+---------------------------+------------------------------+--------------+
| CentOS Stream 9 (ARM)    | PASS           | SKIPPED                   | SKIPPED                      | SKIPPED      |
+--------------------------+----------------+---------------------------+------------------------------+--------------+
| Fedora 38 (ARM)          | PASS           | SKIPPED                   | SKIPPED                      | SKIPPED      |
+--------------------------+----------------+---------------------------+------------------------------+--------------+
| Ubuntu 20.04 (ARM)       | PASS           | SKIPPED                   | SKIPPED                      | SKIPPED      |
+--------------------------+----------------+---------------------------+------------------------------+--------------+
| Fedora 38 (ARM Clang)    | PASS           | SKIPPED                   | SKIPPED                      | SKIPPED      |
+--------------------------+----------------+---------------------------+------------------------------+--------------+
| Ubuntu 20.04 ARM SVE     | SKIPPED        | SKIPPED                   | SKIPPED                      | PASS         |
+--------------------------+----------------+---------------------------+------------------------------+--------------+


Debian 12 (arm)
	Kernel: Container Host Kernel
	Compiler: gcc 11

Fedora 37 (ARM)
	Kernel: Depends on container host
	Compiler: gcc 12.3.1

Debian 11 (Buster) (ARM)
	Kernel: Container Host Kernel
	Compiler: gcc 10.2.1

CentOS Stream 9 (ARM)
	Kernel: Container Host Kernel
	Compiler: gcc 11.3.1

Fedora 38 (ARM)
	Kernel: Depends on container host
	Compiler: gcc 13.1.1

Ubuntu 20.04 (ARM)
	Kernel: Container Host Kernel
	Compiler: gcc 9.4.0

Fedora 38 (ARM Clang)
	Kernel: Depends on container host
	Compiler: clang 16.0.3

Ubuntu 20.04 ARM SVE
	Kernel: 5.4.0-80-generic
	Compiler: gcc 10.3.0 (Ubuntu 10.3.0-1ubuntu1~20.04)

To view detailed results, visit:
https://lab.dpdk.org/results/dashboard/patchsets/29428/

UNH-IOL DPDK Community Lab

To manage your email subscriptions, visit: 
https://lab.dpdk.org/results/dashboard/preferences/subscriptions/