From mboxrd@z Thu Jan  1 00:00:00 1970
Return-Path: <test-report-bounces@dpdk.org>
Received: from mails.dpdk.org (mails.dpdk.org [217.70.189.124])
	by inbox.dpdk.org (Postfix) with ESMTP id 0A93C43C59
	for <public@inbox.dpdk.org>; Wed,  6 Mar 2024 12:50:27 +0100 (CET)
Received: from mails.dpdk.org (localhost [127.0.0.1])
	by mails.dpdk.org (Postfix) with ESMTP id 03CEC40A6F;
	Wed,  6 Mar 2024 12:50:27 +0100 (CET)
Received: from mail-ua1-f97.google.com (mail-ua1-f97.google.com
 [209.85.222.97]) by mails.dpdk.org (Postfix) with ESMTP id 8526A4027C
 for <test-report@dpdk.org>; Wed,  6 Mar 2024 12:50:26 +0100 (CET)
Received: by mail-ua1-f97.google.com with SMTP id
 a1e0cc1a2514c-7dade974b0bso347963241.0
 for <test-report@dpdk.org>; Wed, 06 Mar 2024 03:50:26 -0800 (PST)
DKIM-Signature: v=1; a=rsa-sha256; c=relaxed/relaxed;
 d=iol.unh.edu; s=unh-iol; t=1709725826; x=1710330626; darn=dpdk.org;
 h=references:in-reply-to:cc:to:from:subject:message-id:date:from:to
 :cc:subject:date:message-id:reply-to;
 bh=lrnDmk8B7q4vXwKbsAqExQxkMQSU+oY2J9BjWfy0pD0=;
 b=IN7f0h+ZaRHTKkE29YKcIIbQ9kNyygElBVFgfovC5wzKqH1QWg8WSrM4OKR0gp/o70
 IWe52ne4T6Zwrd3MAgu6EbtlDrkk17nYSlClor+d+2eIBT1ME7ds6Rm5mkaCpR9eufh4
 4XWeRgjg8H+H3y//EBAhIy7tl6lYK2PywDNLY=
X-Google-DKIM-Signature: v=1; a=rsa-sha256; c=relaxed/relaxed;
 d=1e100.net; s=20230601; t=1709725826; x=1710330626;
 h=references:in-reply-to:cc:to:from:subject:message-id:date
 :x-gm-message-state:from:to:cc:subject:date:message-id:reply-to;
 bh=lrnDmk8B7q4vXwKbsAqExQxkMQSU+oY2J9BjWfy0pD0=;
 b=DulbEiZiQb/WesjqOZLCHDVPpgw5A7peZieDFJNRMH8EfrbpE6SQcmVJKoRd+qY5Ud
 AuJ4k/2Jzjaz92XRz1t/LpQhR2gzZwPF/B4ENdQWZjHHZvgrkh624rUK8MjMIY1MSZZA
 CmK+Osd3B68F8YRmyV6fsSmIPB5EdIc8dH+9QSqYGkIZwq49nQxKdqrMRRdaKTdUH5Md
 hkdqtm14mJ0Xc8EBwtK7ohkUHLcGRs3JkMy2p91570JZvLODwRofmFXUaz0a8/aqrs6c
 SAC6whYUsqXtYA58nxxnTK/erJ2Fwl1P6b61VjV66y/kvDw8vS3wJbkZqXxt/HXxYXA/
 ARgw==
X-Gm-Message-State: AOJu0YwQOT+9/XA0y9baaP3TAakyeWEVgXyJmhkJYwhXCdfLpcxP9toK
 xwf7CJtYKUc8y18JgYdpN0wE7nIyUZ60Lve8GUq7ILzWGE6koka6FePQEj1b76uXhO4esFqAj+3
 YRgGqkVPL+XdBNxGZ706BSrePDLgouA0a/5beEO2u
X-Google-Smtp-Source: AGHT+IGgGeJNsWbfhR8gyquz0gKEPneJ/ZkAFlnz8YzAS4oJCIhh7xwF38aYT3gBbMHy18De/sIFb7ZSPkLr
X-Received: by 2002:a05:6102:150b:b0:471:b75f:d9cc with SMTP id
 f11-20020a056102150b00b00471b75fd9ccmr3578301vsv.4.1709725825996; 
 Wed, 06 Mar 2024 03:50:25 -0800 (PST)
Received: from postal.iol.unh.edu (postal.iol.unh.edu. [132.177.123.84])
 by smtp-relay.gmail.com with ESMTPS id
 f7-20020ab03d07000000b007db47176b55sm276726uax.19.2024.03.06.03.50.25
 (version=TLS1_2 cipher=ECDHE-ECDSA-AES128-GCM-SHA256 bits=128/128);
 Wed, 06 Mar 2024 03:50:25 -0800 (PST)
X-Relaying-Domain: iol.unh.edu
Date: Wed, 06 Mar 2024 03:50:25 -0800 (PST)
Message-ID: <65e85881.b00a0220.2bfcd.0446SMTPIN_ADDED_MISSING@mx.google.com>
Received: from [172.21.0.6] (unknown [172.18.0.240])
 by postal.iol.unh.edu (Postfix) with ESMTP id 9D5EC6052712;
 Wed,  6 Mar 2024 06:50:25 -0500 (EST)
Subject: |SUCCESS| pw138005 [PATCH] net/mlx5: fix pattern template size valid
From: dpdklab@iol.unh.edu
To: Test Report <test-report@dpdk.org>
Cc: dpdk-test-reports@iol.unh.edu
In-Reply-To: <20240306073856.950136-1-getelson@nvidia.com>
References: <20240306073856.950136-1-getelson@nvidia.com>
Content-Type: text/plain
X-BeenThere: test-report@dpdk.org
X-Mailman-Version: 2.1.29
Precedence: list
List-Id: automatic DPDK test reports <test-report.dpdk.org>
List-Unsubscribe: <https://mails.dpdk.org/options/test-report>,
 <mailto:test-report-request@dpdk.org?subject=unsubscribe>
List-Archive: <http://mails.dpdk.org/archives/test-report/>
List-Post: <mailto:test-report@dpdk.org>
List-Help: <mailto:test-report-request@dpdk.org?subject=help>
List-Subscribe: <https://mails.dpdk.org/listinfo/test-report>,
 <mailto:test-report-request@dpdk.org?subject=subscribe>
Errors-To: test-report-bounces@dpdk.org

Test-Label: iol-unit-arm64-testing
Test-Status: SUCCESS
http://dpdk.org/patch/138005

_Testing PASS_

Submitter: Gregory Etelson <getelson@nvidia.com>
Date: Wednesday, March 06 2024 07:38:56 
DPDK git baseline: Repo:dpdk
  Branch: master
  CommitID:3472e5d3295d44b4835ffb22c39f2b7d40780f10

138005 --> testing pass

Test environment and result as below:

+--------------------------+----------------+---------------------------+------------------------------+--------------+
|       Environment        | dpdk_unit_test | cryptodev_sw_zuc_autotest | cryptodev_sw_snow3g_autotest | lpm_autotest |
+==========================+================+===========================+==============================+==============+
| Debian 12 (arm)          | PASS           | PASS                      | PASS                         | SKIPPED      |
+--------------------------+----------------+---------------------------+------------------------------+--------------+
| Fedora 37 (ARM)          | PASS           | SKIPPED                   | SKIPPED                      | SKIPPED      |
+--------------------------+----------------+---------------------------+------------------------------+--------------+
| Debian 11 (Buster) (ARM) | PASS           | SKIPPED                   | SKIPPED                      | SKIPPED      |
+--------------------------+----------------+---------------------------+------------------------------+--------------+
| CentOS Stream 9 (ARM)    | PASS           | SKIPPED                   | SKIPPED                      | SKIPPED      |
+--------------------------+----------------+---------------------------+------------------------------+--------------+
| Fedora 38 (ARM)          | PASS           | SKIPPED                   | SKIPPED                      | SKIPPED      |
+--------------------------+----------------+---------------------------+------------------------------+--------------+
| Ubuntu 20.04 (ARM)       | PASS           | SKIPPED                   | SKIPPED                      | SKIPPED      |
+--------------------------+----------------+---------------------------+------------------------------+--------------+
| Fedora 38 (ARM Clang)    | PASS           | SKIPPED                   | SKIPPED                      | SKIPPED      |
+--------------------------+----------------+---------------------------+------------------------------+--------------+
| Ubuntu 20.04 ARM SVE     | SKIPPED        | SKIPPED                   | SKIPPED                      | PASS         |
+--------------------------+----------------+---------------------------+------------------------------+--------------+


Debian 12 (arm)
	Kernel: Container Host Kernel
	Compiler: gcc 11

Fedora 37 (ARM)
	Kernel: Depends on container host
	Compiler: gcc 12.3.1

Debian 11 (Buster) (ARM)
	Kernel: Container Host Kernel
	Compiler: gcc 10.2.1

CentOS Stream 9 (ARM)
	Kernel: Container Host Kernel
	Compiler: gcc 11.3.1

Fedora 38 (ARM)
	Kernel: Depends on container host
	Compiler: gcc 13.1.1

Ubuntu 20.04 (ARM)
	Kernel: Container Host Kernel
	Compiler: gcc 9.4.0

Fedora 38 (ARM Clang)
	Kernel: Depends on container host
	Compiler: clang 16.0.3

Ubuntu 20.04 ARM SVE
	Kernel: 5.4.0-80-generic
	Compiler: gcc 10.3.0 (Ubuntu 10.3.0-1ubuntu1~20.04)

To view detailed results, visit:
https://lab.dpdk.org/results/dashboard/patchsets/29428/

UNH-IOL DPDK Community Lab

To manage your email subscriptions, visit: 
https://lab.dpdk.org/results/dashboard/preferences/subscriptions/