From mboxrd@z Thu Jan  1 00:00:00 1970
Return-Path: <test-report-bounces@dpdk.org>
Received: from mails.dpdk.org (mails.dpdk.org [217.70.189.124])
	by inbox.dpdk.org (Postfix) with ESMTP id 46B6C43C5E
	for <public@inbox.dpdk.org>; Wed,  6 Mar 2024 14:54:55 +0100 (CET)
Received: from mails.dpdk.org (localhost [127.0.0.1])
	by mails.dpdk.org (Postfix) with ESMTP id 404F140A6D;
	Wed,  6 Mar 2024 14:54:55 +0100 (CET)
Received: from mail-io1-f99.google.com (mail-io1-f99.google.com
 [209.85.166.99]) by mails.dpdk.org (Postfix) with ESMTP id C480840276
 for <test-report@dpdk.org>; Wed,  6 Mar 2024 14:54:53 +0100 (CET)
Received: by mail-io1-f99.google.com with SMTP id
 ca18e2360f4ac-7beda6a274bso299700239f.2
 for <test-report@dpdk.org>; Wed, 06 Mar 2024 05:54:53 -0800 (PST)
DKIM-Signature: v=1; a=rsa-sha256; c=relaxed/relaxed;
 d=iol.unh.edu; s=unh-iol; t=1709733293; x=1710338093; darn=dpdk.org;
 h=references:in-reply-to:cc:to:from:subject:message-id:date:from:to
 :cc:subject:date:message-id:reply-to;
 bh=Muk2LUyoe8/zJTho8FNwKQ4AqvEftIblYB6vpkI5Bbc=;
 b=E7811j+ndNmU4/qS1QbPrXGyK7igrsvbpLtbVwuI9iD3Rhj6Ui0tuDiwKZzvE1NZNR
 zX93Df4SuMgsHOPju1tX2ZGv3gNm2RCjiZbxT31mFFmX06I/ext5OgvgJuHP36DELmlt
 6NV8SmrHT40anIE57sC6SVtzZ9uKRvXlhyO8c=
X-Google-DKIM-Signature: v=1; a=rsa-sha256; c=relaxed/relaxed;
 d=1e100.net; s=20230601; t=1709733293; x=1710338093;
 h=references:in-reply-to:cc:to:from:subject:message-id:date
 :x-gm-message-state:from:to:cc:subject:date:message-id:reply-to;
 bh=Muk2LUyoe8/zJTho8FNwKQ4AqvEftIblYB6vpkI5Bbc=;
 b=pdGciAFgKHRp3Hk/ISdeFWytyMHnNetK0JPjmurEyjBgj7trIYGznFuKhFkNDEpto/
 cKRKDEx5zc0+qDwTby163J4Yx6yIaxDvhrOlKxgeekfzGlwEAT/xRyEOUkBu5R0fR0vN
 VDJGpsmSV6buVRmz6LRQvboZuO5HMECo0ZLzpszogygKeCrGgiJerkTmeqV0ftyztF6Z
 +2lxxEMd4ID46ydrywbjUKerGIV7Q2PaB5R2f9/+LHwfRi7tjPdbs8dOJ7ldYWWcVPg6
 e/y/UzoEorgWWyqITbXb48Oyvlev6qmYJi5GcN+T/7N44wLbYwNrHafvyUaxW1egaRQ2
 Qs/g==
X-Gm-Message-State: AOJu0Yx/OW88hgB0M8vP7rttImKtUlDHNAF1r7wslYeJx+WIcefi2uqM
 pIO9YrRvFmjDRTm4zN5qJrOanlUvH5V1kA7qD/J9xRAeVMHRvYLJ+uhb/nX9Cv7z37b6gv4YTsD
 UvkprxHYkaWgDh+iUIujMhyaDBtGVt3kgcSv1VIR+
X-Google-Smtp-Source: AGHT+IFUMyH5d0lahwwQAyMjp1sIWCBc5CtM224ll30oWOyK1916QCzYY/vMFUw0Tj8e29W746DEgXcIl25Z
X-Received: by 2002:a5e:a912:0:b0:7c8:7351:f50a with SMTP id
 c18-20020a5ea912000000b007c87351f50amr3422811iod.5.1709733293037; 
 Wed, 06 Mar 2024 05:54:53 -0800 (PST)
Received: from postal.iol.unh.edu (postal.iol.unh.edu. [132.177.123.84])
 by smtp-relay.gmail.com with ESMTPS id
 f17-20020a05660215d100b007c741a0c47asm183127iow.24.2024.03.06.05.54.52
 (version=TLS1_2 cipher=ECDHE-ECDSA-AES128-GCM-SHA256 bits=128/128);
 Wed, 06 Mar 2024 05:54:53 -0800 (PST)
X-Relaying-Domain: iol.unh.edu
Date: Wed, 06 Mar 2024 05:54:53 -0800 (PST)
Message-ID: <65e875ad.050a0220.1b09a.a23dSMTPIN_ADDED_MISSING@mx.google.com>
Received: from [172.17.0.8] (unknown [172.18.0.217])
 by postal.iol.unh.edu (Postfix) with ESMTP id 8C0446052712;
 Wed,  6 Mar 2024 08:54:52 -0500 (EST)
Subject: |SUCCESS| pw138009 [PATCH] [v3] lib/hash: add defer queue reclaim AP
From: dpdklab@iol.unh.edu
To: Test Report <test-report@dpdk.org>
Cc: dpdk-test-reports@iol.unh.edu
In-Reply-To: <20240306085948.185299-1-aomeryamac@gmail.com>
References: <20240306085948.185299-1-aomeryamac@gmail.com>
Content-Type: text/plain
X-BeenThere: test-report@dpdk.org
X-Mailman-Version: 2.1.29
Precedence: list
List-Id: automatic DPDK test reports <test-report.dpdk.org>
List-Unsubscribe: <https://mails.dpdk.org/options/test-report>,
 <mailto:test-report-request@dpdk.org?subject=unsubscribe>
List-Archive: <http://mails.dpdk.org/archives/test-report/>
List-Post: <mailto:test-report@dpdk.org>
List-Help: <mailto:test-report-request@dpdk.org?subject=help>
List-Subscribe: <https://mails.dpdk.org/listinfo/test-report>,
 <mailto:test-report-request@dpdk.org?subject=subscribe>
Errors-To: test-report-bounces@dpdk.org

Test-Label: iol-unit-arm64-testing
Test-Status: SUCCESS
http://dpdk.org/patch/138009

_Testing PASS_

Submitter: Abdullah Omer Yamac <aomeryamac@gmail.com>
Date: Wednesday, March 06 2024 08:59:48 
DPDK git baseline: Repo:dpdk
  Branch: master
  CommitID:7fcf4e8a03c4b0d2c6cec11ddd18c7bf88ba0384

138009 --> testing pass

Test environment and result as below:

+--------------------------+------------------------------+----------------+--------------+---------------------------+
|       Environment        | cryptodev_sw_snow3g_autotest | dpdk_unit_test | lpm_autotest | cryptodev_sw_zuc_autotest |
+==========================+==============================+================+==============+===========================+
| Debian 12 (arm)          | PASS                         | PASS           | SKIPPED      | PASS                      |
+--------------------------+------------------------------+----------------+--------------+---------------------------+
| Debian 11 (Buster) (ARM) | SKIPPED                      | PASS           | SKIPPED      | SKIPPED                   |
+--------------------------+------------------------------+----------------+--------------+---------------------------+
| CentOS Stream 9 (ARM)    | SKIPPED                      | PASS           | SKIPPED      | SKIPPED                   |
+--------------------------+------------------------------+----------------+--------------+---------------------------+
| Fedora 37 (ARM)          | SKIPPED                      | PASS           | SKIPPED      | SKIPPED                   |
+--------------------------+------------------------------+----------------+--------------+---------------------------+
| Ubuntu 20.04 (ARM)       | SKIPPED                      | PASS           | SKIPPED      | SKIPPED                   |
+--------------------------+------------------------------+----------------+--------------+---------------------------+
| Fedora 38 (ARM Clang)    | SKIPPED                      | PASS           | SKIPPED      | SKIPPED                   |
+--------------------------+------------------------------+----------------+--------------+---------------------------+
| Fedora 38 (ARM)          | SKIPPED                      | PASS           | SKIPPED      | SKIPPED                   |
+--------------------------+------------------------------+----------------+--------------+---------------------------+
| Ubuntu 20.04 ARM SVE     | SKIPPED                      | SKIPPED        | PASS         | SKIPPED                   |
+--------------------------+------------------------------+----------------+--------------+---------------------------+


Debian 12 (arm)
	Kernel: Container Host Kernel
	Compiler: gcc 11

Debian 11 (Buster) (ARM)
	Kernel: Container Host Kernel
	Compiler: gcc 10.2.1

CentOS Stream 9 (ARM)
	Kernel: Container Host Kernel
	Compiler: gcc 11.3.1

Fedora 37 (ARM)
	Kernel: Depends on container host
	Compiler: gcc 12.3.1

Ubuntu 20.04 (ARM)
	Kernel: Container Host Kernel
	Compiler: gcc 9.4.0

Fedora 38 (ARM Clang)
	Kernel: Depends on container host
	Compiler: clang 16.0.3

Fedora 38 (ARM)
	Kernel: Depends on container host
	Compiler: gcc 13.1.1

Ubuntu 20.04 ARM SVE
	Kernel: 5.4.0-80-generic
	Compiler: gcc 10.3.0 (Ubuntu 10.3.0-1ubuntu1~20.04)

To view detailed results, visit:
https://lab.dpdk.org/results/dashboard/patchsets/29431/

UNH-IOL DPDK Community Lab

To manage your email subscriptions, visit: 
https://lab.dpdk.org/results/dashboard/preferences/subscriptions/