From mboxrd@z Thu Jan  1 00:00:00 1970
Return-Path: <test-report-bounces@dpdk.org>
Received: from mails.dpdk.org (mails.dpdk.org [217.70.189.124])
	by inbox.dpdk.org (Postfix) with ESMTP id 4D40843C5E
	for <public@inbox.dpdk.org>; Wed,  6 Mar 2024 15:53:25 +0100 (CET)
Received: from mails.dpdk.org (localhost [127.0.0.1])
	by mails.dpdk.org (Postfix) with ESMTP id 489BE42DE4;
	Wed,  6 Mar 2024 15:53:25 +0100 (CET)
Received: from mail-yw1-f225.google.com (mail-yw1-f225.google.com
 [209.85.128.225])
 by mails.dpdk.org (Postfix) with ESMTP id 48B2C40A6D
 for <test-report@dpdk.org>; Wed,  6 Mar 2024 15:53:23 +0100 (CET)
Received: by mail-yw1-f225.google.com with SMTP id
 00721157ae682-609d3cca399so14066867b3.2
 for <test-report@dpdk.org>; Wed, 06 Mar 2024 06:53:23 -0800 (PST)
DKIM-Signature: v=1; a=rsa-sha256; c=relaxed/relaxed;
 d=iol.unh.edu; s=unh-iol; t=1709736802; x=1710341602; darn=dpdk.org;
 h=references:in-reply-to:cc:to:from:subject:message-id:date:from:to
 :cc:subject:date:message-id:reply-to;
 bh=CCbQ83BcLBCHdjJc19JlfPxQsc31toxIGRepv9mpiIs=;
 b=XX0G8HsFrdbuytxazRV08lpylbmY9xDZXKQf6h3LRgiBA+933/wypqT8UbayMrqXmY
 rGmkJO2IuW91oisUcYF7f0QSimu/3Zs7yGFpn13lu6tBoqrBSNcDIAVpS1Fbesb9Z5M0
 k13cYwFnJece4kxyLDT6NZQ6tawCrz086439s=
X-Google-DKIM-Signature: v=1; a=rsa-sha256; c=relaxed/relaxed;
 d=1e100.net; s=20230601; t=1709736802; x=1710341602;
 h=references:in-reply-to:cc:to:from:subject:message-id:date
 :x-gm-message-state:from:to:cc:subject:date:message-id:reply-to;
 bh=CCbQ83BcLBCHdjJc19JlfPxQsc31toxIGRepv9mpiIs=;
 b=fnkSQnMdK932YpthofuNN/gTPjz1a/Db4KqsyNzEfreeG0guwtqtegGG5XNeko6Imf
 LsYa1ZyJxP9H3umt5+6/DYAfrahiqo4ztxxLG8+7b+r/VH2+NyIneSBIbpVCe7CaKzfB
 DQghHbSUApJ0KAK10WCB5cWMStvsciCzhZgQwMJB8RJzQk7fbVnJwMmedvFc6SOtjRSO
 /a23FogtcMPERYNJdJYiI2/c9pRb8CR3GPblKZ5th8cuSqy3uGmd+XyToCwn99T9PKkD
 2fZT9pOh7FTxZRhF7iftkBztua31WDPniRMhWa2+6SUj2XWihD9uN/ESqVliMVk0EbdI
 cDlQ==
X-Gm-Message-State: AOJu0YwUe+naPbiTsuW9wm8/4CdWgPFtAZ4e7ULl0+FekvAjA2dPEWwL
 HNDKzc0AlxOAZz4oDdjDxfWKcpcA/uI7Q86aOp6TQe1JdOk0hSmP+HUrLKvtnlKRgd04EDXGfVz
 ugdlwk+Nqm12hADF6THOm0xIz1hPH+UwxfG/Kzypj
X-Google-Smtp-Source: AGHT+IGeTx3ewqF6Gz2HdctWaI+IolbMToUts11DN3hzPXvm+xTL/Rf0R8o/p43VSRfwKwse12jAEFd2bQY3
X-Received: by 2002:a0d:eb88:0:b0:609:67ed:6d4f with SMTP id
 u130-20020a0deb88000000b0060967ed6d4fmr15063681ywe.30.1709736802750; 
 Wed, 06 Mar 2024 06:53:22 -0800 (PST)
Received: from postal.iol.unh.edu (postal.iol.unh.edu. [132.177.123.84])
 by smtp-relay.gmail.com with ESMTPS id
 q4-20020a819904000000b006096df73b98sm815353ywg.29.2024.03.06.06.53.22
 (version=TLS1_2 cipher=ECDHE-ECDSA-AES128-GCM-SHA256 bits=128/128);
 Wed, 06 Mar 2024 06:53:22 -0800 (PST)
X-Relaying-Domain: iol.unh.edu
Date: Wed, 06 Mar 2024 06:53:22 -0800 (PST)
Message-ID: <65e88362.810a0220.e01bc.3ec2SMTPIN_ADDED_MISSING@mx.google.com>
Received: from [172.21.0.6] (unknown [172.18.0.240])
 by postal.iol.unh.edu (Postfix) with ESMTP id 5A01A6052712;
 Wed,  6 Mar 2024 09:53:22 -0500 (EST)
Subject: |SUCCESS| pw138009 [PATCH] [v3] lib/hash: add defer queue reclaim AP
From: dpdklab@iol.unh.edu
To: Test Report <test-report@dpdk.org>
Cc: dpdk-test-reports@iol.unh.edu
In-Reply-To: <20240306085948.185299-1-aomeryamac@gmail.com>
References: <20240306085948.185299-1-aomeryamac@gmail.com>
Content-Type: text/plain
X-BeenThere: test-report@dpdk.org
X-Mailman-Version: 2.1.29
Precedence: list
List-Id: automatic DPDK test reports <test-report.dpdk.org>
List-Unsubscribe: <https://mails.dpdk.org/options/test-report>,
 <mailto:test-report-request@dpdk.org?subject=unsubscribe>
List-Archive: <http://mails.dpdk.org/archives/test-report/>
List-Post: <mailto:test-report@dpdk.org>
List-Help: <mailto:test-report-request@dpdk.org?subject=help>
List-Subscribe: <https://mails.dpdk.org/listinfo/test-report>,
 <mailto:test-report-request@dpdk.org?subject=subscribe>
Errors-To: test-report-bounces@dpdk.org

Test-Label: iol-compile-arm64-testing
Test-Status: SUCCESS
http://dpdk.org/patch/138009

_Testing PASS_

Submitter: Abdullah Omer Yamac <aomeryamac@gmail.com>
Date: Wednesday, March 06 2024 08:59:48 
DPDK git baseline: Repo:dpdk
  Branch: master
  CommitID:7fcf4e8a03c4b0d2c6cec11ddd18c7bf88ba0384

138009 --> testing pass

Test environment and result as below:

+----------------------------------------+--------------------+
|              Environment               | dpdk_meson_compile |
+========================================+====================+
| Ubuntu 20.04 ARM SVE                   | PASS               |
+----------------------------------------+--------------------+
| Fedora 37 (ARM)                        | PASS               |
+----------------------------------------+--------------------+
| CentOS Stream 9 (ARM)                  | PASS               |
+----------------------------------------+--------------------+
| Ubuntu 20.04 aarch32 GCC Cross Compile | PASS               |
+----------------------------------------+--------------------+
| Ubuntu 20.04 ARM Clang Cross Compile   | PASS               |
+----------------------------------------+--------------------+
| Ubuntu 20.04 ARM GCC Cross Compile     | PASS               |
+----------------------------------------+--------------------+
| Fedora 38 (ARM)                        | PASS               |
+----------------------------------------+--------------------+
| Ubuntu 20.04 (ARM)                     | PASS               |
+----------------------------------------+--------------------+


Ubuntu 20.04 ARM SVE
	Kernel: 5.4.0-80-generic
	Compiler: gcc 10.3.0 (Ubuntu 10.3.0-1ubuntu1~20.04)

Fedora 37 (ARM)
	Kernel: Depends on container host
	Compiler: gcc 12.3.1

CentOS Stream 9 (ARM)
	Kernel: Container Host Kernel
	Compiler: gcc 11.3.1

Ubuntu 20.04 aarch32 GCC Cross Compile
	Kernel: 5.4.0-72-generic
	Compiler: gcc 9.3.0

Ubuntu 20.04 ARM Clang Cross Compile
	Kernel: 5.4.0-72-generic
	Compiler: clang version 10.0.0-4ubuntu1

Ubuntu 20.04 ARM GCC Cross Compile
	Kernel: 5.4.0-72-generic
	Compiler: aarch64-linux-gnu-gcc (Ubuntu 9.3.0-17ubuntu1~20.04) 9.3.0

Fedora 38 (ARM)
	Kernel: Depends on container host
	Compiler: gcc 13.1.1

Ubuntu 20.04 (ARM)
	Kernel: Container Host Kernel
	Compiler: gcc 9.4.0

To view detailed results, visit:
https://lab.dpdk.org/results/dashboard/patchsets/29431/

UNH-IOL DPDK Community Lab

To manage your email subscriptions, visit: 
https://lab.dpdk.org/results/dashboard/preferences/subscriptions/