From mboxrd@z Thu Jan  1 00:00:00 1970
Return-Path: <test-report-bounces@dpdk.org>
Received: from mails.dpdk.org (mails.dpdk.org [217.70.189.124])
	by inbox.dpdk.org (Postfix) with ESMTP id 5ABBD43C5F
	for <public@inbox.dpdk.org>; Wed,  6 Mar 2024 16:39:28 +0100 (CET)
Received: from mails.dpdk.org (localhost [127.0.0.1])
	by mails.dpdk.org (Postfix) with ESMTP id 52B1840A6D;
	Wed,  6 Mar 2024 16:39:28 +0100 (CET)
Received: from mail-il1-f225.google.com (mail-il1-f225.google.com
 [209.85.166.225])
 by mails.dpdk.org (Postfix) with ESMTP id 5282E40276
 for <test-report@dpdk.org>; Wed,  6 Mar 2024 16:39:27 +0100 (CET)
Received: by mail-il1-f225.google.com with SMTP id
 e9e14a558f8ab-365c9d37995so25124355ab.0
 for <test-report@dpdk.org>; Wed, 06 Mar 2024 07:39:27 -0800 (PST)
DKIM-Signature: v=1; a=rsa-sha256; c=relaxed/relaxed;
 d=iol.unh.edu; s=unh-iol; t=1709739566; x=1710344366; darn=dpdk.org;
 h=references:in-reply-to:cc:to:from:subject:message-id:date:from:to
 :cc:subject:date:message-id:reply-to;
 bh=k1+TqtJYvIz9QZ5/87h6ljS4noK6+AbP5dXCWNhHwY8=;
 b=HRloHA0ocbw1auUcvyGIdaTJ6pwLp1z1mwrGh5mN4Ki3aSidhWd5XD/u45gzQKZprR
 Wo/GF/gEVmgaXmZAFr8h0vVr6V75fD0xOqNuILFDpl0p50vAbUNJ1k0ufms90Un0ajaA
 WxaT0IEmmEmyYc/n7eGZoqPbym9mT8+Zk0n+s=
X-Google-DKIM-Signature: v=1; a=rsa-sha256; c=relaxed/relaxed;
 d=1e100.net; s=20230601; t=1709739566; x=1710344366;
 h=references:in-reply-to:cc:to:from:subject:message-id:date
 :x-gm-message-state:from:to:cc:subject:date:message-id:reply-to;
 bh=k1+TqtJYvIz9QZ5/87h6ljS4noK6+AbP5dXCWNhHwY8=;
 b=pwrKkodpWvRMK80jJtKUzggQqo1Wv5yKPPXfNWFWsJ9ChLON3W93nfRoyApdczNM8j
 g755wPMOEIM5ynjYeJxLAC5u+CE347uwDDtSID6yQl3RlmvBcBjoEuKg3TNkrXtjQbQy
 u93lTxWvMWTxyEaDEp3ok+VdmdGQUaTxq95zG9ePeV3BthY+jdWZmSMaVfoO+1o83QNw
 BW0g0DuinMY0ra0kZAbeqQ4sgGq6L6ry/Q/qBSvzVdTBXgQ5J+QrObBSQ9ZBjicNzGIB
 G2aPWzg6vYsPopVWBi7G2PiQp2rqVsFuEg5Fg1Bt+aiuP+1ltJTW98osl4/DNzFNvwas
 V5vA==
X-Gm-Message-State: AOJu0YxI398NQd/NhA2xuET+5FsTU5tN/YH4i8N9Uvq5jjebhOhVilso
 xHXHWC4asfoE+HTYrljoMc40v9UVB+6vvkvZAX7f+s8FJ+ObMncynEsDRQgmoVKxuetE1GoY7gc
 aALvpB9hECP5OTGPP4QN8/P2FI9zRpK6DHJlU61t6pcASU3m2UYvW9sa2
X-Google-Smtp-Source: AGHT+IGLCDuM0/IJl5JVQKBkn2vTRRutapZLT+5CcwvWTOFx/o1WHhO914bGTA02OeuD1XGPwkYxc27eBYjx
X-Received: by 2002:a05:6e02:2164:b0:365:1a59:be83 with SMTP id
 s4-20020a056e02216400b003651a59be83mr23810003ilv.25.1709739566759; 
 Wed, 06 Mar 2024 07:39:26 -0800 (PST)
Received: from postal.iol.unh.edu (postal.iol.unh.edu.
 [2606:4100:3880:1234::84]) by smtp-relay.gmail.com with ESMTPS id
 a16-20020a056638165000b00474f1c10794sm256613jat.76.2024.03.06.07.39.26
 (version=TLS1_2 cipher=ECDHE-ECDSA-AES128-GCM-SHA256 bits=128/128);
 Wed, 06 Mar 2024 07:39:26 -0800 (PST)
X-Relaying-Domain: iol.unh.edu
Date: Wed, 06 Mar 2024 07:39:26 -0800 (PST)
Message-ID: <65e88e2e.050a0220.8c01c.da31SMTPIN_ADDED_MISSING@mx.google.com>
Received: from [172.17.0.6] (unknown [172.18.0.217])
 by postal.iol.unh.edu (Postfix) with ESMTP id 492A2605250F;
 Wed,  6 Mar 2024 10:39:26 -0500 (EST)
Subject: |SUCCESS| pw138014-138046 [PATCH] [v3,33/33] net/ena: upgrade driver
From: dpdklab@iol.unh.edu
To: Test Report <test-report@dpdk.org>
Cc: dpdk-test-reports@iol.unh.edu
In-Reply-To: <20240306122445.4350-34-shaibran@amazon.com>
References: <20240306122445.4350-34-shaibran@amazon.com>
Content-Type: text/plain
X-BeenThere: test-report@dpdk.org
X-Mailman-Version: 2.1.29
Precedence: list
List-Id: automatic DPDK test reports <test-report.dpdk.org>
List-Unsubscribe: <https://mails.dpdk.org/options/test-report>,
 <mailto:test-report-request@dpdk.org?subject=unsubscribe>
List-Archive: <http://mails.dpdk.org/archives/test-report/>
List-Post: <mailto:test-report@dpdk.org>
List-Help: <mailto:test-report-request@dpdk.org?subject=help>
List-Subscribe: <https://mails.dpdk.org/listinfo/test-report>,
 <mailto:test-report-request@dpdk.org?subject=subscribe>
Errors-To: test-report-bounces@dpdk.org

Test-Label: iol-compile-arm64-testing
Test-Status: SUCCESS
http://dpdk.org/patch/138046

_Testing PASS_

Submitter: Brandes, Shai <shaibran@amazon.com>
Date: Wednesday, March 06 2024 12:24:45 
DPDK git baseline: Repo:dpdk
  Branch: master
  CommitID:bd4ce75c651612bd9dc395315d10b1a39ba78248

138014-138046 --> testing pass

Test environment and result as below:

+----------------------------------------+--------------------+
|              Environment               | dpdk_meson_compile |
+========================================+====================+
| Ubuntu 20.04 ARM GCC Cross Compile     | PASS               |
+----------------------------------------+--------------------+
| Ubuntu 20.04 ARM Clang Cross Compile   | PASS               |
+----------------------------------------+--------------------+
| Ubuntu 20.04 aarch32 GCC Cross Compile | PASS               |
+----------------------------------------+--------------------+
| Ubuntu 20.04 ARM SVE                   | PASS               |
+----------------------------------------+--------------------+
| Debian 12 (arm)                        | PASS               |
+----------------------------------------+--------------------+
| Fedora 38 (ARM)                        | PASS               |
+----------------------------------------+--------------------+
| Fedora 37 (ARM)                        | PASS               |
+----------------------------------------+--------------------+
| CentOS Stream 9 (ARM)                  | PASS               |
+----------------------------------------+--------------------+


Ubuntu 20.04 ARM GCC Cross Compile
	Kernel: 5.4.0-72-generic
	Compiler: aarch64-linux-gnu-gcc (Ubuntu 9.3.0-17ubuntu1~20.04) 9.3.0

Ubuntu 20.04 ARM Clang Cross Compile
	Kernel: 5.4.0-72-generic
	Compiler: clang version 10.0.0-4ubuntu1

Ubuntu 20.04 aarch32 GCC Cross Compile
	Kernel: 5.4.0-72-generic
	Compiler: gcc 9.3.0

Ubuntu 20.04 ARM SVE
	Kernel: 5.4.0-80-generic
	Compiler: gcc 10.3.0 (Ubuntu 10.3.0-1ubuntu1~20.04)

Debian 12 (arm)
	Kernel: Container Host Kernel
	Compiler: gcc 11

Fedora 38 (ARM)
	Kernel: Depends on container host
	Compiler: gcc 13.1.1

Fedora 37 (ARM)
	Kernel: Depends on container host
	Compiler: gcc 12.3.1

CentOS Stream 9 (ARM)
	Kernel: Container Host Kernel
	Compiler: gcc 11.3.1

To view detailed results, visit:
https://lab.dpdk.org/results/dashboard/patchsets/29436/

UNH-IOL DPDK Community Lab

To manage your email subscriptions, visit: 
https://lab.dpdk.org/results/dashboard/preferences/subscriptions/