From mboxrd@z Thu Jan  1 00:00:00 1970
Return-Path: <test-report-bounces@dpdk.org>
Received: from mails.dpdk.org (mails.dpdk.org [217.70.189.124])
	by inbox.dpdk.org (Postfix) with ESMTP id 45C2243C5F
	for <public@inbox.dpdk.org>; Wed,  6 Mar 2024 17:27:31 +0100 (CET)
Received: from mails.dpdk.org (localhost [127.0.0.1])
	by mails.dpdk.org (Postfix) with ESMTP id 420E540276;
	Wed,  6 Mar 2024 17:27:31 +0100 (CET)
Received: from mail-io1-f100.google.com (mail-io1-f100.google.com
 [209.85.166.100])
 by mails.dpdk.org (Postfix) with ESMTP id 619114026C
 for <test-report@dpdk.org>; Wed,  6 Mar 2024 17:27:29 +0100 (CET)
Received: by mail-io1-f100.google.com with SMTP id
 ca18e2360f4ac-7c8357ec478so189337339f.2
 for <test-report@dpdk.org>; Wed, 06 Mar 2024 08:27:29 -0800 (PST)
DKIM-Signature: v=1; a=rsa-sha256; c=relaxed/relaxed;
 d=iol.unh.edu; s=unh-iol; t=1709742448; x=1710347248; darn=dpdk.org;
 h=references:in-reply-to:cc:to:from:subject:message-id:date:from:to
 :cc:subject:date:message-id:reply-to;
 bh=Od1JjTMJCK6nc3AiKslYtX8pXvILVdxlJ6BIL9KSyQw=;
 b=VqRLioOhp7GPDZwB0EREED+rN0xInyOZZvCMI5vfXdVfLwU0t2uLgbee83GEyuTT6o
 VrC2yWYb5WNQxq22hjQEvRP9tttdnoYPuOPtlJeDqWn34eQO1OHvlqMkp3HuKU0Si3cV
 TCuzhUYu9nhMcMfRI+8M73NJPPvVKY1A/C1VY=
X-Google-DKIM-Signature: v=1; a=rsa-sha256; c=relaxed/relaxed;
 d=1e100.net; s=20230601; t=1709742448; x=1710347248;
 h=references:in-reply-to:cc:to:from:subject:message-id:date
 :x-gm-message-state:from:to:cc:subject:date:message-id:reply-to;
 bh=Od1JjTMJCK6nc3AiKslYtX8pXvILVdxlJ6BIL9KSyQw=;
 b=Eced3mNdYumDhARCfFjbBYLdDYdVp6q1iLoKgxP6bzi7iEYTlPjnOkrSR6M3JMAU6P
 hD4PVsVKo0mdQa1cHXJwu1yOz5m/Cxqy/KOpMhObxhm72QiGlBNTbIr3kOlVdobv3JBl
 LT4lyU3bVC5JrRAFsD/HWgYOI2DNZ0TiPaldu05x18CcCs0l2KewPdAfeosJsTSMIsV4
 rBCcnzkJKrwX3aUEt/yLEIRzzMNLptmCuDuA4rO51BCR1DjtlkX46NCA/yYgJHLeKZvw
 lNVcfUa0sjoodKaxrei4edTkZgwCaZl1RTIZ002gZ+AlNhENze+jAzDx4RCqGmwQXhEv
 wg/A==
X-Gm-Message-State: AOJu0YzjZ7MCyF4xkS6mpNpL7p0d41waQHo5Bm15xDB0LQNaUIZ1yR25
 aie8ump/lkx+50oI2bgwxmOhMflsznRZsrK6KUiGCBVJ6tW9ay8Fz8ta7xyutywZk8tmYlT5ZtE
 LVUKw5TxDzzekviYnJb90n437oqtBy7GYT5r5pMyM
X-Google-Smtp-Source: AGHT+IHyF/wQ6dcAHMOytYWP0MxWz92n5/s+ps67CVY7lFftgFoGLhKSCek0sYj/4vIFzRjZji+JsEgIFxk9
X-Received: by 2002:a05:6e02:1c87:b0:364:f536:b89e with SMTP id
 w7-20020a056e021c8700b00364f536b89emr20759151ill.5.1709742448780; 
 Wed, 06 Mar 2024 08:27:28 -0800 (PST)
Received: from postal.iol.unh.edu (postal.iol.unh.edu. [132.177.123.84])
 by smtp-relay.gmail.com with ESMTPS id
 q13-20020a056a00088d00b006e65096ee28sm65797pfj.20.2024.03.06.08.27.28
 (version=TLS1_2 cipher=ECDHE-ECDSA-AES128-GCM-SHA256 bits=128/128);
 Wed, 06 Mar 2024 08:27:28 -0800 (PST)
X-Relaying-Domain: iol.unh.edu
Date: Wed, 06 Mar 2024 08:27:28 -0800 (PST)
Message-ID: <65e89970.050a0220.89159.31f1SMTPIN_ADDED_MISSING@mx.google.com>
Received: from [172.21.0.7] (unknown [172.18.0.240])
 by postal.iol.unh.edu (Postfix) with ESMTP id E7CB1605250F;
 Wed,  6 Mar 2024 11:27:27 -0500 (EST)
Subject: |SUCCESS| pw138014-138046 [PATCH] [v3,33/33] net/ena: upgrade driver
From: dpdklab@iol.unh.edu
To: Test Report <test-report@dpdk.org>
Cc: dpdk-test-reports@iol.unh.edu
In-Reply-To: <20240306122445.4350-34-shaibran@amazon.com>
References: <20240306122445.4350-34-shaibran@amazon.com>
Content-Type: text/plain
X-BeenThere: test-report@dpdk.org
X-Mailman-Version: 2.1.29
Precedence: list
List-Id: automatic DPDK test reports <test-report.dpdk.org>
List-Unsubscribe: <https://mails.dpdk.org/options/test-report>,
 <mailto:test-report-request@dpdk.org?subject=unsubscribe>
List-Archive: <http://mails.dpdk.org/archives/test-report/>
List-Post: <mailto:test-report@dpdk.org>
List-Help: <mailto:test-report-request@dpdk.org?subject=help>
List-Subscribe: <https://mails.dpdk.org/listinfo/test-report>,
 <mailto:test-report-request@dpdk.org?subject=subscribe>
Errors-To: test-report-bounces@dpdk.org

Test-Label: iol-unit-arm64-testing
Test-Status: SUCCESS
http://dpdk.org/patch/138046

_Testing PASS_

Submitter: Brandes, Shai <shaibran@amazon.com>
Date: Wednesday, March 06 2024 12:24:45 
DPDK git baseline: Repo:dpdk
  Branch: master
  CommitID:bd4ce75c651612bd9dc395315d10b1a39ba78248

138014-138046 --> testing pass

Test environment and result as below:

+-----------------------+--------------+---------------------------+------------------------------+----------------+
|      Environment      | lpm_autotest | cryptodev_sw_zuc_autotest | cryptodev_sw_snow3g_autotest | dpdk_unit_test |
+=======================+==============+===========================+==============================+================+
| Ubuntu 20.04 ARM SVE  | PASS         | SKIPPED                   | SKIPPED                      | SKIPPED        |
+-----------------------+--------------+---------------------------+------------------------------+----------------+
| Debian 12 (arm)       | SKIPPED      | PASS                      | PASS                         | PASS           |
+-----------------------+--------------+---------------------------+------------------------------+----------------+
| Fedora 37 (ARM)       | SKIPPED      | SKIPPED                   | SKIPPED                      | PASS           |
+-----------------------+--------------+---------------------------+------------------------------+----------------+
| CentOS Stream 9 (ARM) | SKIPPED      | SKIPPED                   | SKIPPED                      | PASS           |
+-----------------------+--------------+---------------------------+------------------------------+----------------+


Ubuntu 20.04 ARM SVE
	Kernel: 5.4.0-80-generic
	Compiler: gcc 10.3.0 (Ubuntu 10.3.0-1ubuntu1~20.04)

Debian 12 (arm)
	Kernel: Container Host Kernel
	Compiler: gcc 11

Fedora 37 (ARM)
	Kernel: Depends on container host
	Compiler: gcc 12.3.1

CentOS Stream 9 (ARM)
	Kernel: Container Host Kernel
	Compiler: gcc 11.3.1

To view detailed results, visit:
https://lab.dpdk.org/results/dashboard/patchsets/29436/

UNH-IOL DPDK Community Lab

To manage your email subscriptions, visit: 
https://lab.dpdk.org/results/dashboard/preferences/subscriptions/