From mboxrd@z Thu Jan  1 00:00:00 1970
Return-Path: <test-report-bounces@dpdk.org>
Received: from mails.dpdk.org (mails.dpdk.org [217.70.189.124])
	by inbox.dpdk.org (Postfix) with ESMTP id DF33A43C5F
	for <public@inbox.dpdk.org>; Wed,  6 Mar 2024 17:32:15 +0100 (CET)
Received: from mails.dpdk.org (localhost [127.0.0.1])
	by mails.dpdk.org (Postfix) with ESMTP id DAE0340276;
	Wed,  6 Mar 2024 17:32:15 +0100 (CET)
Received: from mail-pf1-f225.google.com (mail-pf1-f225.google.com
 [209.85.210.225])
 by mails.dpdk.org (Postfix) with ESMTP id B42334026C
 for <test-report@dpdk.org>; Wed,  6 Mar 2024 17:32:13 +0100 (CET)
Received: by mail-pf1-f225.google.com with SMTP id
 d2e1a72fcca58-6e09143c7bdso4975370b3a.3
 for <test-report@dpdk.org>; Wed, 06 Mar 2024 08:32:13 -0800 (PST)
DKIM-Signature: v=1; a=rsa-sha256; c=relaxed/relaxed;
 d=iol.unh.edu; s=unh-iol; t=1709742733; x=1710347533; darn=dpdk.org;
 h=references:in-reply-to:cc:to:from:subject:message-id:date:from:to
 :cc:subject:date:message-id:reply-to;
 bh=2S2RcEQzp/t/BFQBp+uZA1SnGDWKNAQ+GwdmIJ0LNUQ=;
 b=hy4V0+oa5UurB7BSJe43e+s4tpZWcuqm6uuT9wvnMcIzDY5QWmiS0ymL1KnVt/9X2y
 49C2ys4Pmwe5NpxdwQb5PEmUJ5tN2FlLPeGky/Ym+gM03CZr+IwJZJvJ5TVmrwNYgZ/y
 bBSa9GveklDXAwhHBa5IXeO8TOtz/2e5j2HGU=
X-Google-DKIM-Signature: v=1; a=rsa-sha256; c=relaxed/relaxed;
 d=1e100.net; s=20230601; t=1709742733; x=1710347533;
 h=references:in-reply-to:cc:to:from:subject:message-id:date
 :x-gm-message-state:from:to:cc:subject:date:message-id:reply-to;
 bh=2S2RcEQzp/t/BFQBp+uZA1SnGDWKNAQ+GwdmIJ0LNUQ=;
 b=DIgWGCA8OV+xEIvHyx6STq/T4uA07CUM0bnrdbQIWpwdM4PdsBrHdRK2LBmzjNgaj7
 IVrTWjRnNW+6ctq6wI2mpHV+VBSbk8SJ6jsqT6yMt2afLhf/KgYiRHKc4DOXNW/1ymRs
 HoqBd8hdHgdIaCsLwj5EvyfPnxOYec515FqM9QiW08kCor1dmNk+hhUE9LcGqL7b8F9b
 yPVWzJYeiOKg7CGlozrTdtDUj8F/TMvlZcXePwPeZp2i2MOJbtWeMu4mXKQW58hZU2Ao
 U8sCgZ6jKKOS1D+sfxjl7rIM+1n4ujSUwewU6iZOrJAXWmQ43tzT62NQeCItsp1tcBij
 ALaw==
X-Gm-Message-State: AOJu0YxeVs3OTR4sN7VJJhzFmcXn2waBRCzBQKzSHa8K+o0Ht5oAHbBX
 j96bJ6GOHS0Q7p320zxGUjA08WpJ8NC4fXX/L3HgvwhkWivOMI9NSEDC6PcN+T99Zk6v6pmoiBL
 zjw5np9HgdFbn/65+qicYKjqRouOSbROCC2XskiMr
X-Google-Smtp-Source: AGHT+IEWk8QQ5sAtvuliNmN/Tm0tK0mKjaIF/Jez2iF4O1gMEzbCVHEv/WbHVwJxJRaxK1HxyvwYxGU4M4ok
X-Received: by 2002:a05:6a20:7485:b0:1a1:6ceb:92fc with SMTP id
 p5-20020a056a20748500b001a16ceb92fcmr510534pzd.6.1709742732891; 
 Wed, 06 Mar 2024 08:32:12 -0800 (PST)
Received: from postal.iol.unh.edu (postal.iol.unh.edu. [132.177.123.84])
 by smtp-relay.gmail.com with ESMTPS id
 ji7-20020a170903324700b001d9607f2951sm318883plb.19.2024.03.06.08.32.12
 (version=TLS1_2 cipher=ECDHE-ECDSA-AES128-GCM-SHA256 bits=128/128);
 Wed, 06 Mar 2024 08:32:12 -0800 (PST)
X-Relaying-Domain: iol.unh.edu
Date: Wed, 06 Mar 2024 08:32:12 -0800 (PST)
Message-ID: <65e89a8c.170a0220.a6254.3265SMTPIN_ADDED_MISSING@mx.google.com>
Received: from [172.17.0.8] (unknown [172.18.0.217])
 by postal.iol.unh.edu (Postfix) with ESMTP id 114F7605250F;
 Wed,  6 Mar 2024 11:32:12 -0500 (EST)
Subject: |SUCCESS| pw138014-138046 [PATCH] [v3,33/33] net/ena: upgrade driver
From: dpdklab@iol.unh.edu
To: Test Report <test-report@dpdk.org>
Cc: dpdk-test-reports@iol.unh.edu
In-Reply-To: <20240306122445.4350-34-shaibran@amazon.com>
References: <20240306122445.4350-34-shaibran@amazon.com>
Content-Type: text/plain
X-BeenThere: test-report@dpdk.org
X-Mailman-Version: 2.1.29
Precedence: list
List-Id: automatic DPDK test reports <test-report.dpdk.org>
List-Unsubscribe: <https://mails.dpdk.org/options/test-report>,
 <mailto:test-report-request@dpdk.org?subject=unsubscribe>
List-Archive: <http://mails.dpdk.org/archives/test-report/>
List-Post: <mailto:test-report@dpdk.org>
List-Help: <mailto:test-report-request@dpdk.org?subject=help>
List-Subscribe: <https://mails.dpdk.org/listinfo/test-report>,
 <mailto:test-report-request@dpdk.org?subject=subscribe>
Errors-To: test-report-bounces@dpdk.org

Test-Label: iol-unit-arm64-testing
Test-Status: SUCCESS
http://dpdk.org/patch/138046

_Testing PASS_

Submitter: Brandes, Shai <shaibran@amazon.com>
Date: Wednesday, March 06 2024 12:24:45 
DPDK git baseline: Repo:dpdk
  Branch: master
  CommitID:bd4ce75c651612bd9dc395315d10b1a39ba78248

138014-138046 --> testing pass

Test environment and result as below:

+--------------------------+--------------+---------------------------+------------------------------+----------------+
|       Environment        | lpm_autotest | cryptodev_sw_zuc_autotest | cryptodev_sw_snow3g_autotest | dpdk_unit_test |
+==========================+==============+===========================+==============================+================+
| Ubuntu 20.04 ARM SVE     | PASS         | SKIPPED                   | SKIPPED                      | SKIPPED        |
+--------------------------+--------------+---------------------------+------------------------------+----------------+
| Debian 12 (arm)          | SKIPPED      | PASS                      | PASS                         | PASS           |
+--------------------------+--------------+---------------------------+------------------------------+----------------+
| Fedora 37 (ARM)          | SKIPPED      | SKIPPED                   | SKIPPED                      | PASS           |
+--------------------------+--------------+---------------------------+------------------------------+----------------+
| CentOS Stream 9 (ARM)    | SKIPPED      | SKIPPED                   | SKIPPED                      | PASS           |
+--------------------------+--------------+---------------------------+------------------------------+----------------+
| Debian 11 (Buster) (ARM) | SKIPPED      | SKIPPED                   | SKIPPED                      | PASS           |
+--------------------------+--------------+---------------------------+------------------------------+----------------+


Ubuntu 20.04 ARM SVE
	Kernel: 5.4.0-80-generic
	Compiler: gcc 10.3.0 (Ubuntu 10.3.0-1ubuntu1~20.04)

Debian 12 (arm)
	Kernel: Container Host Kernel
	Compiler: gcc 11

Fedora 37 (ARM)
	Kernel: Depends on container host
	Compiler: gcc 12.3.1

CentOS Stream 9 (ARM)
	Kernel: Container Host Kernel
	Compiler: gcc 11.3.1

Debian 11 (Buster) (ARM)
	Kernel: Container Host Kernel
	Compiler: gcc 10.2.1

To view detailed results, visit:
https://lab.dpdk.org/results/dashboard/patchsets/29436/

UNH-IOL DPDK Community Lab

To manage your email subscriptions, visit: 
https://lab.dpdk.org/results/dashboard/preferences/subscriptions/