From mboxrd@z Thu Jan  1 00:00:00 1970
Return-Path: <test-report-bounces@dpdk.org>
Received: from mails.dpdk.org (mails.dpdk.org [217.70.189.124])
	by inbox.dpdk.org (Postfix) with ESMTP id 19F6743C5A
	for <public@inbox.dpdk.org>; Wed,  6 Mar 2024 19:28:30 +0100 (CET)
Received: from mails.dpdk.org (localhost [127.0.0.1])
	by mails.dpdk.org (Postfix) with ESMTP id 15E0C402E6;
	Wed,  6 Mar 2024 19:28:30 +0100 (CET)
Received: from mail-il1-f226.google.com (mail-il1-f226.google.com
 [209.85.166.226])
 by mails.dpdk.org (Postfix) with ESMTP id A0857402C0
 for <test-report@dpdk.org>; Wed,  6 Mar 2024 19:28:29 +0100 (CET)
Received: by mail-il1-f226.google.com with SMTP id
 e9e14a558f8ab-36540b9885cso3125695ab.1
 for <test-report@dpdk.org>; Wed, 06 Mar 2024 10:28:29 -0800 (PST)
DKIM-Signature: v=1; a=rsa-sha256; c=relaxed/relaxed;
 d=iol.unh.edu; s=unh-iol; t=1709749709; x=1710354509; darn=dpdk.org;
 h=references:in-reply-to:cc:to:from:subject:message-id:date:from:to
 :cc:subject:date:message-id:reply-to;
 bh=oNHwThrU1YaVa8PQIFCDJInTjrmnTCBT8MOipAHfmAA=;
 b=WduS0nbTkwfECA9d1CthsJPoZdf2shqCftepI4aCe9AHU6IxUtWzpA+Rbc+MRpmA6t
 56tVJXfKSgZvOULiHlXYD424bA8qv5oGLXkSJkTEol3JspH6GjT3XSSbiwRpF6jxSvgf
 dBYYcOvErmJshfKvvuy9Zpv9FTTtF9No89qnM=
X-Google-DKIM-Signature: v=1; a=rsa-sha256; c=relaxed/relaxed;
 d=1e100.net; s=20230601; t=1709749709; x=1710354509;
 h=references:in-reply-to:cc:to:from:subject:message-id:date
 :x-gm-message-state:from:to:cc:subject:date:message-id:reply-to;
 bh=oNHwThrU1YaVa8PQIFCDJInTjrmnTCBT8MOipAHfmAA=;
 b=t9dFJXMLsYyBcVaJofvDHVJGPAn2Siz/wLKu691gmnUKaNiMLyzos9cQe/R2h3aJD5
 dftqPpt2VZhQ6MPTnYS0pUof8dzEBaN10z9fEfLUPynXBmVRm3lfQ/lwNxUH7nNMIkip
 r6wjDNloIbNhM8inkEYkr4t/aoe62r6hilNPJbFmcMvcl3yDcGFXE3VUQbkNVe8uNicX
 XvhI7/SmJ2pC91AUn/QCc2djjnjlRWoFbIdoCGqa/qqc2LyRHsasXdcdyquN+lA1MYFc
 0vfsDOZgNoGhCpHpFRnPOIKwDS1+EwUyL/kfsFCq9w165Y2PJv/nIbr+gco8jEs/02NL
 5sOw==
X-Gm-Message-State: AOJu0Yx7EWe4Xe8pp1PmZ1UDjz0ZHOYU0ShZKextCMjyIUE2NWx2Vzef
 EBf7Su+k1bC0rJu+vOo7E9QnshdWg8D/jCtFgtGO6LoYXneMfP4KbAGjet2+MbmZiW1Ew8TVkqY
 0y8BvCj73uB5n6TQBWKWuFx3cWMDA9DTGlLxdk+k5YiXHMH8ycvctVKY1
X-Google-Smtp-Source: AGHT+IETt3o7Hauugx6oYONBBcKo5FrNlJ3O0StmUPwv+ol79WVxm/UHC3YZtNpctbay66RTto1eM/pfhbGh
X-Received: by 2002:a05:6e02:1b02:b0:365:3086:74de with SMTP id
 i2-20020a056e021b0200b00365308674demr5800765ilv.0.1709749709072; 
 Wed, 06 Mar 2024 10:28:29 -0800 (PST)
Received: from postal.iol.unh.edu (postal.iol.unh.edu.
 [2606:4100:3880:1234::84]) by smtp-relay.gmail.com with ESMTPS id
 a36-20020a029427000000b0047465419be3sm752939jai.79.2024.03.06.10.28.28
 (version=TLS1_2 cipher=ECDHE-ECDSA-AES128-GCM-SHA256 bits=128/128);
 Wed, 06 Mar 2024 10:28:29 -0800 (PST)
X-Relaying-Domain: iol.unh.edu
Date: Wed, 06 Mar 2024 10:28:29 -0800 (PST)
Message-ID: <65e8b5cd.020a0220.4e7ba.e9a5SMTPIN_ADDED_MISSING@mx.google.com>
Received: from [172.21.0.7] (unknown [172.18.0.240])
 by postal.iol.unh.edu (Postfix) with ESMTP id 9966C6043300;
 Wed,  6 Mar 2024 13:28:28 -0500 (EST)
Subject: |SUCCESS| pw138051-138053 [PATCH] [v7,3/3] config/arm: allow WFE to 
From: dpdklab@iol.unh.edu
To: Test Report <test-report@dpdk.org>
Cc: dpdk-test-reports@iol.unh.edu
In-Reply-To: <20240306154957.750-3-pbhagavatula@marvell.com>
References: <20240306154957.750-3-pbhagavatula@marvell.com>
Content-Type: text/plain
X-BeenThere: test-report@dpdk.org
X-Mailman-Version: 2.1.29
Precedence: list
List-Id: automatic DPDK test reports <test-report.dpdk.org>
List-Unsubscribe: <https://mails.dpdk.org/options/test-report>,
 <mailto:test-report-request@dpdk.org?subject=unsubscribe>
List-Archive: <http://mails.dpdk.org/archives/test-report/>
List-Post: <mailto:test-report@dpdk.org>
List-Help: <mailto:test-report-request@dpdk.org?subject=help>
List-Subscribe: <https://mails.dpdk.org/listinfo/test-report>,
 <mailto:test-report-request@dpdk.org?subject=subscribe>
Errors-To: test-report-bounces@dpdk.org

Test-Label: iol-compile-amd64-testing
Test-Status: SUCCESS
http://dpdk.org/patch/138053

_Testing PASS_

Submitter: Pavan Nikhilesh Bhagavatula <pbhagavatula@marvell.com>
Date: Wednesday, March 06 2024 15:49:57 
DPDK git baseline: Repo:dpdk
  Branch: master
  CommitID:362b11d129cbd0c262baab748631622c0570c34e

138051-138053 --> testing pass

Test environment and result as below:

+---------------------+--------------------+----------------------+
|     Environment     | dpdk_meson_compile | dpdk_mingw64_compile |
+=====================+====================+======================+
| FreeBSD 13.2        | PASS               | SKIPPED              |
+---------------------+--------------------+----------------------+
| Windows Server 2022 | PASS               | SKIPPED              |
+---------------------+--------------------+----------------------+
| Windows Server 2019 | PASS               | PASS                 |
+---------------------+--------------------+----------------------+
| CentOS Stream 8     | PASS               | SKIPPED              |
+---------------------+--------------------+----------------------+
| CentOS Stream 9     | PASS               | SKIPPED              |
+---------------------+--------------------+----------------------+
| Debian Bullseye     | PASS               | SKIPPED              |
+---------------------+--------------------+----------------------+
| Fedora 38           | PASS               | SKIPPED              |
+---------------------+--------------------+----------------------+
| openSUSE Leap 15    | PASS               | SKIPPED              |
+---------------------+--------------------+----------------------+
| RHEL8               | PASS               | SKIPPED              |
+---------------------+--------------------+----------------------+
| Debian 12 (arm)     | PASS               | SKIPPED              |
+---------------------+--------------------+----------------------+
| Alpine              | PASS               | SKIPPED              |
+---------------------+--------------------+----------------------+
| Ubuntu 22.04        | PASS               | SKIPPED              |
+---------------------+--------------------+----------------------+
| Fedora 37           | PASS               | SKIPPED              |
+---------------------+--------------------+----------------------+
| Ubuntu 20.04        | PASS               | SKIPPED              |
+---------------------+--------------------+----------------------+


FreeBSD 13.2
	Kernel: 13.2
	Compiler: clang 11.3.0

Windows Server 2022
	Kernel: OS Build 20348.2031
	Compiler: MSVC VS-Preview

Windows Server 2019
	Kernel: 10.0
	Compiler: clang 14.0 and gcc 8.1.0 (MinGW)

CentOS Stream 8
	Kernel: 4.18.0-240.10.1.el8_3.x86_64
	Compiler: gcc 8.4.1 20200928

CentOS Stream 9
	Kernel: 4.18.0-240.10.1.el8_3.x86_64
	Compiler: gcc 11.3.1 20220421

Debian Bullseye
	Kernel: 5.4.0-122-generic
	Compiler: gcc 10.2.1-6

Fedora 38
	Kernel: Depends on container host
	Compiler: gcc 13.1.1

openSUSE Leap 15
	Kernel: 4.18.0-240.10.1.el8_3.x86_64
	Compiler: gcc 7.5.0

RHEL8
	Kernel: 4.18.0-240.10.1.el8_3.x86_64
	Compiler: gcc 8.3.1 20191121 (Red Hat 8.3.1-5)

Debian 12 (arm)
	Kernel: Container Host Kernel
	Compiler: gcc 11

Alpine
	Kernel: 5.4.0-73-generic
	Compiler: gcc (Alpine 10.3.1_git20210424) 10.3.1 20210424

Ubuntu 22.04
	Kernel: 4.18.0-240.10.1.el8_3.x86_64
	Compiler: gcc 11.3.0

Fedora 37
	Kernel: Depends on container host system
	Compiler: gcc 12.3.1

Ubuntu 20.04
	Kernel: 5.4.0-153-generic
	Compiler: gcc 9.4.0-1ubuntu1~20.04.1

To view detailed results, visit:
https://lab.dpdk.org/results/dashboard/patchsets/29441/

UNH-IOL DPDK Community Lab

To manage your email subscriptions, visit: 
https://lab.dpdk.org/results/dashboard/preferences/subscriptions/