From mboxrd@z Thu Jan  1 00:00:00 1970
Return-Path: <test-report-bounces@dpdk.org>
Received: from mails.dpdk.org (mails.dpdk.org [217.70.189.124])
	by inbox.dpdk.org (Postfix) with ESMTP id 9ABFD43C5A
	for <public@inbox.dpdk.org>; Wed,  6 Mar 2024 20:10:41 +0100 (CET)
Received: from mails.dpdk.org (localhost [127.0.0.1])
	by mails.dpdk.org (Postfix) with ESMTP id 95E9A427E9;
	Wed,  6 Mar 2024 20:10:41 +0100 (CET)
Received: from mail-yw1-f227.google.com (mail-yw1-f227.google.com
 [209.85.128.227])
 by mails.dpdk.org (Postfix) with ESMTP id 5C1F7402EA
 for <test-report@dpdk.org>; Wed,  6 Mar 2024 20:10:40 +0100 (CET)
Received: by mail-yw1-f227.google.com with SMTP id
 00721157ae682-609eb87a847so416867b3.0
 for <test-report@dpdk.org>; Wed, 06 Mar 2024 11:10:40 -0800 (PST)
DKIM-Signature: v=1; a=rsa-sha256; c=relaxed/relaxed;
 d=iol.unh.edu; s=unh-iol; t=1709752239; x=1710357039; darn=dpdk.org;
 h=references:in-reply-to:cc:to:from:subject:message-id:date:from:to
 :cc:subject:date:message-id:reply-to;
 bh=tDXWYxTF7QNUiK+m5JL1yqtycxcyEMBuExcSrh2yIQI=;
 b=Xu/8Few5Ym4gRTMcKQQ7FRl/rGIpqDOiiFKZcKuYfEnR7KkAZVotaIRg0T4b7VQv0T
 km3rRRf+UEbvUpO+mmeMC3nGeunCiLtkht9nDkHOSYceLcXLrWh9pSUAgKAIgjJPkJmv
 NgxKWqHWKvfsyRLwQbpJGggGEbRaZMb6j+iUc=
X-Google-DKIM-Signature: v=1; a=rsa-sha256; c=relaxed/relaxed;
 d=1e100.net; s=20230601; t=1709752239; x=1710357039;
 h=references:in-reply-to:cc:to:from:subject:message-id:date
 :x-gm-message-state:from:to:cc:subject:date:message-id:reply-to;
 bh=tDXWYxTF7QNUiK+m5JL1yqtycxcyEMBuExcSrh2yIQI=;
 b=ZFqu1h3QtewV0rch8Hqu5jESAUQ7ZGPTAzj1EmAjO80B3kcrnLrFHSR+UMpGeloYI7
 jqE/B//tAvlg4VKTM5BQZdEjTX3B4yekILjyzZ8cxM7+BHabPNd8jqujScs85to3cHr/
 JLYY35vohFT37Tn6t0wIBlCqc2n0sZLec2wpsIyBjDz61JsF1YOmBylc2038eakjvrRC
 ZoORWmKR8rLnpuJPWpVLJEuSDWC1FlqAIPlaoZ47CjGtFtVCkkdLgmT97T80qhzyy/AQ
 CMb+cSNG/XdLJVjVTk1CXn+yl/QGRCjRh4IMaJYmjewCV2t3szpLsNNtCkZaylqAqa20
 ri0w==
X-Gm-Message-State: AOJu0YyFpwmS42Sc85yZXPkVw1/q+dvWdMj4eztM4N2HkAnZ8h59vixy
 XSEYVkaXmFr0ascpvL1zzWS7V8pxOEY+QJskhrY1RMC3FcH4gTJXNe4gHNr/UkyjAA0R7cBdYE0
 qe2R3RYl2Z6X7hQNjgx9vxFegyHFZPZXwJs0n/FMk
X-Google-Smtp-Source: AGHT+IEaD/ZX9vGDh5lxdDJMJqU8MKsTZSwy1lfwA+NBQ9h375z9XCysspOHWxacfos24I0lPlrKaIsyq5Qm
X-Received: by 2002:a81:9907:0:b0:609:43e4:40f8 with SMTP id
 q7-20020a819907000000b0060943e440f8mr4583393ywg.18.1709752239780; 
 Wed, 06 Mar 2024 11:10:39 -0800 (PST)
Received: from postal.iol.unh.edu (postal.iol.unh.edu. [132.177.123.84])
 by smtp-relay.gmail.com with ESMTPS id
 k62-20020a816f41000000b0060876f362d2sm861547ywc.65.2024.03.06.11.10.39
 (version=TLS1_2 cipher=ECDHE-ECDSA-AES128-GCM-SHA256 bits=128/128);
 Wed, 06 Mar 2024 11:10:39 -0800 (PST)
X-Relaying-Domain: iol.unh.edu
Date: Wed, 06 Mar 2024 11:10:39 -0800 (PST)
Message-ID: <65e8bfaf.810a0220.719d8.650cSMTPIN_ADDED_MISSING@mx.google.com>
Received: from [172.21.0.8] (unknown [172.18.0.240])
 by postal.iol.unh.edu (Postfix) with ESMTP id 6DDDC6043300;
 Wed,  6 Mar 2024 14:10:39 -0500 (EST)
Subject: |SUCCESS| pw138051-138053 [PATCH] [v7,3/3] config/arm: allow WFE to 
From: dpdklab@iol.unh.edu
To: Test Report <test-report@dpdk.org>
Cc: dpdk-test-reports@iol.unh.edu
In-Reply-To: <20240306154957.750-3-pbhagavatula@marvell.com>
References: <20240306154957.750-3-pbhagavatula@marvell.com>
Content-Type: text/plain
X-BeenThere: test-report@dpdk.org
X-Mailman-Version: 2.1.29
Precedence: list
List-Id: automatic DPDK test reports <test-report.dpdk.org>
List-Unsubscribe: <https://mails.dpdk.org/options/test-report>,
 <mailto:test-report-request@dpdk.org?subject=unsubscribe>
List-Archive: <http://mails.dpdk.org/archives/test-report/>
List-Post: <mailto:test-report@dpdk.org>
List-Help: <mailto:test-report-request@dpdk.org?subject=help>
List-Subscribe: <https://mails.dpdk.org/listinfo/test-report>,
 <mailto:test-report-request@dpdk.org?subject=subscribe>
Errors-To: test-report-bounces@dpdk.org

Test-Label: iol-compile-arm64-testing
Test-Status: SUCCESS
http://dpdk.org/patch/138053

_Testing PASS_

Submitter: Pavan Nikhilesh Bhagavatula <pbhagavatula@marvell.com>
Date: Wednesday, March 06 2024 15:49:57 
DPDK git baseline: Repo:dpdk
  Branch: master
  CommitID:362b11d129cbd0c262baab748631622c0570c34e

138051-138053 --> testing pass

Test environment and result as below:

+----------------------------------------+--------------------+
|              Environment               | dpdk_meson_compile |
+========================================+====================+
| Ubuntu 20.04 ARM SVE                   | PASS               |
+----------------------------------------+--------------------+
| Ubuntu 20.04 aarch32 GCC Cross Compile | PASS               |
+----------------------------------------+--------------------+
| Ubuntu 20.04 ARM GCC Cross Compile     | PASS               |
+----------------------------------------+--------------------+
| Ubuntu 20.04 ARM Clang Cross Compile   | PASS               |
+----------------------------------------+--------------------+
| Debian 12 (arm)                        | PASS               |
+----------------------------------------+--------------------+
| Fedora 38 (ARM Clang)                  | PASS               |
+----------------------------------------+--------------------+
| Debian 11 (Buster) (ARM)               | PASS               |
+----------------------------------------+--------------------+
| CentOS Stream 9 (ARM)                  | PASS               |
+----------------------------------------+--------------------+


Ubuntu 20.04 ARM SVE
	Kernel: 5.4.0-80-generic
	Compiler: gcc 10.3.0 (Ubuntu 10.3.0-1ubuntu1~20.04)

Ubuntu 20.04 aarch32 GCC Cross Compile
	Kernel: 5.4.0-72-generic
	Compiler: gcc 9.3.0

Ubuntu 20.04 ARM GCC Cross Compile
	Kernel: 5.4.0-72-generic
	Compiler: aarch64-linux-gnu-gcc (Ubuntu 9.3.0-17ubuntu1~20.04) 9.3.0

Ubuntu 20.04 ARM Clang Cross Compile
	Kernel: 5.4.0-72-generic
	Compiler: clang version 10.0.0-4ubuntu1

Debian 12 (arm)
	Kernel: Container Host Kernel
	Compiler: gcc 11

Fedora 38 (ARM Clang)
	Kernel: Depends on container host
	Compiler: clang 16.0.3

Debian 11 (Buster) (ARM)
	Kernel: Container Host Kernel
	Compiler: gcc 10.2.1

CentOS Stream 9 (ARM)
	Kernel: Container Host Kernel
	Compiler: gcc 11.3.1

To view detailed results, visit:
https://lab.dpdk.org/results/dashboard/patchsets/29441/

UNH-IOL DPDK Community Lab

To manage your email subscriptions, visit: 
https://lab.dpdk.org/results/dashboard/preferences/subscriptions/