From mboxrd@z Thu Jan  1 00:00:00 1970
Return-Path: <test-report-bounces@dpdk.org>
Received: from mails.dpdk.org (mails.dpdk.org [217.70.189.124])
	by inbox.dpdk.org (Postfix) with ESMTP id 863E043C5A
	for <public@inbox.dpdk.org>; Wed,  6 Mar 2024 20:13:07 +0100 (CET)
Received: from mails.dpdk.org (localhost [127.0.0.1])
	by mails.dpdk.org (Postfix) with ESMTP id 7DF57402EA;
	Wed,  6 Mar 2024 20:13:07 +0100 (CET)
Received: from mail-qt1-f228.google.com (mail-qt1-f228.google.com
 [209.85.160.228])
 by mails.dpdk.org (Postfix) with ESMTP id 7E0B2402E6
 for <test-report@dpdk.org>; Wed,  6 Mar 2024 20:13:05 +0100 (CET)
Received: by mail-qt1-f228.google.com with SMTP id
 d75a77b69052e-42f061542f4so171931cf.1
 for <test-report@dpdk.org>; Wed, 06 Mar 2024 11:13:05 -0800 (PST)
DKIM-Signature: v=1; a=rsa-sha256; c=relaxed/relaxed;
 d=iol.unh.edu; s=unh-iol; t=1709752385; x=1710357185; darn=dpdk.org;
 h=references:in-reply-to:cc:to:from:subject:message-id:date:from:to
 :cc:subject:date:message-id:reply-to;
 bh=2sr1f1O6s26IIXYFh/zmUBGVfg+ePi8SvOH/BVNzJfg=;
 b=hmU/9Md1noy7nXJf8X2m03vH4OO1XcsR8/7z5u4KC3ah/IQ1UV33lW7Svdj9nY3PNT
 MP6D0HKQKHoBBHVBviUXcoBvv9BLQSierKTPlDPsPDfRstB6UsdgI5EM80TJBIRfAmEq
 AtREryvMpiyCwzqaYKKzc+IXNvJapCUYW2ROs=
X-Google-DKIM-Signature: v=1; a=rsa-sha256; c=relaxed/relaxed;
 d=1e100.net; s=20230601; t=1709752385; x=1710357185;
 h=references:in-reply-to:cc:to:from:subject:message-id:date
 :x-gm-message-state:from:to:cc:subject:date:message-id:reply-to;
 bh=2sr1f1O6s26IIXYFh/zmUBGVfg+ePi8SvOH/BVNzJfg=;
 b=dp4upss3hr/qrAZVeR5rbepj5mQ44dljahIMPMAxSdS2Oid9qb21qd7+zDh6KD54T6
 CA0Nz1MJMqFunXkaLV67E6SuqWvPHWJj5wmCyqALa5MMh7pPKbxnIvZt4S25f03ojob7
 r0UOAqocfG2hx1VQxNjSZNr6uer4Bj2rsM2UlIOYDBeGpwCk8qBQmrrRwHtNVScA8Oyz
 x+bnLvfiac1ys8/MN0gjCXXolRtQp069SelS860pcVeb8SvBmNKMfu1ZG30p4xk52SZk
 24kFDIzX3niNKR4SLfcD9vOz8phoRAdZ6XwPx9RIwOrw8T8qRgxbEZvKOiezlSq000IR
 95Vw==
X-Gm-Message-State: AOJu0YzuV2CF3gTt1XHrInHXCtuAQ+cKuAsC8sCAEdbGb0uxnTfJdLml
 gfVkIGau5gj+17VEXRfNUWwAlx0rCuzZFzmnCb9dcltPag34av1s+KQEhen8RouT/PMHacxoTDo
 tMBR3WEuaJZQtqKkfBU9pywhSPMfH6NbjtIsfoZQaqCODnv+pH+uFC7fP
X-Google-Smtp-Source: AGHT+IE/X9l8dcaL89FM8ykfDLmW8aLmumFABSMUZ3TONt8EhUjnCLFlsLvPLuN/M39mFiqbhtH5HjGBFsWe
X-Received: by 2002:a05:622a:1985:b0:42e:ec9f:c54c with SMTP id
 u5-20020a05622a198500b0042eec9fc54cmr7313711qtc.57.1709752384975; 
 Wed, 06 Mar 2024 11:13:04 -0800 (PST)
Received: from postal.iol.unh.edu (postal.iol.unh.edu.
 [2606:4100:3880:1234::84]) by smtp-relay.gmail.com with ESMTPS id
 bb34-20020a05622a1b2200b0042eeb06209dsm564135qtb.17.2024.03.06.11.13.04
 (version=TLS1_2 cipher=ECDHE-ECDSA-AES128-GCM-SHA256 bits=128/128);
 Wed, 06 Mar 2024 11:13:04 -0800 (PST)
X-Relaying-Domain: iol.unh.edu
Date: Wed, 06 Mar 2024 11:13:04 -0800 (PST)
Message-ID: <65e8c040.050a0220.5b9b9.f84bSMTPIN_ADDED_MISSING@mx.google.com>
Received: from [172.17.0.7] (unknown [172.18.0.217])
 by postal.iol.unh.edu (Postfix) with ESMTP id B65046043300;
 Wed,  6 Mar 2024 14:13:04 -0500 (EST)
Subject: |SUCCESS| pw138051-138053 [PATCH] [v7,3/3] config/arm: allow WFE to 
From: dpdklab@iol.unh.edu
To: Test Report <test-report@dpdk.org>
Cc: dpdk-test-reports@iol.unh.edu
In-Reply-To: <20240306154957.750-3-pbhagavatula@marvell.com>
References: <20240306154957.750-3-pbhagavatula@marvell.com>
Content-Type: text/plain
X-BeenThere: test-report@dpdk.org
X-Mailman-Version: 2.1.29
Precedence: list
List-Id: automatic DPDK test reports <test-report.dpdk.org>
List-Unsubscribe: <https://mails.dpdk.org/options/test-report>,
 <mailto:test-report-request@dpdk.org?subject=unsubscribe>
List-Archive: <http://mails.dpdk.org/archives/test-report/>
List-Post: <mailto:test-report@dpdk.org>
List-Help: <mailto:test-report-request@dpdk.org?subject=help>
List-Subscribe: <https://mails.dpdk.org/listinfo/test-report>,
 <mailto:test-report-request@dpdk.org?subject=subscribe>
Errors-To: test-report-bounces@dpdk.org

Test-Label: iol-compile-arm64-testing
Test-Status: SUCCESS
http://dpdk.org/patch/138053

_Testing PASS_

Submitter: Pavan Nikhilesh Bhagavatula <pbhagavatula@marvell.com>
Date: Wednesday, March 06 2024 15:49:57 
DPDK git baseline: Repo:dpdk
  Branch: master
  CommitID:362b11d129cbd0c262baab748631622c0570c34e

138051-138053 --> testing pass

Test environment and result as below:

+----------------------------------------+--------------------+
|              Environment               | dpdk_meson_compile |
+========================================+====================+
| Ubuntu 20.04 ARM SVE                   | PASS               |
+----------------------------------------+--------------------+
| Ubuntu 20.04 aarch32 GCC Cross Compile | PASS               |
+----------------------------------------+--------------------+
| Ubuntu 20.04 ARM GCC Cross Compile     | PASS               |
+----------------------------------------+--------------------+
| Ubuntu 20.04 ARM Clang Cross Compile   | PASS               |
+----------------------------------------+--------------------+
| Debian 12 (arm)                        | PASS               |
+----------------------------------------+--------------------+
| Fedora 38 (ARM Clang)                  | PASS               |
+----------------------------------------+--------------------+
| Debian 11 (Buster) (ARM)               | PASS               |
+----------------------------------------+--------------------+
| CentOS Stream 9 (ARM)                  | PASS               |
+----------------------------------------+--------------------+
| Fedora 37 (ARM)                        | PASS               |
+----------------------------------------+--------------------+
| Fedora 38 (ARM)                        | PASS               |
+----------------------------------------+--------------------+


Ubuntu 20.04 ARM SVE
	Kernel: 5.4.0-80-generic
	Compiler: gcc 10.3.0 (Ubuntu 10.3.0-1ubuntu1~20.04)

Ubuntu 20.04 aarch32 GCC Cross Compile
	Kernel: 5.4.0-72-generic
	Compiler: gcc 9.3.0

Ubuntu 20.04 ARM GCC Cross Compile
	Kernel: 5.4.0-72-generic
	Compiler: aarch64-linux-gnu-gcc (Ubuntu 9.3.0-17ubuntu1~20.04) 9.3.0

Ubuntu 20.04 ARM Clang Cross Compile
	Kernel: 5.4.0-72-generic
	Compiler: clang version 10.0.0-4ubuntu1

Debian 12 (arm)
	Kernel: Container Host Kernel
	Compiler: gcc 11

Fedora 38 (ARM Clang)
	Kernel: Depends on container host
	Compiler: clang 16.0.3

Debian 11 (Buster) (ARM)
	Kernel: Container Host Kernel
	Compiler: gcc 10.2.1

CentOS Stream 9 (ARM)
	Kernel: Container Host Kernel
	Compiler: gcc 11.3.1

Fedora 37 (ARM)
	Kernel: Depends on container host
	Compiler: gcc 12.3.1

Fedora 38 (ARM)
	Kernel: Depends on container host
	Compiler: gcc 13.1.1

To view detailed results, visit:
https://lab.dpdk.org/results/dashboard/patchsets/29441/

UNH-IOL DPDK Community Lab

To manage your email subscriptions, visit: 
https://lab.dpdk.org/results/dashboard/preferences/subscriptions/