From mboxrd@z Thu Jan  1 00:00:00 1970
Return-Path: <test-report-bounces@dpdk.org>
Received: from mails.dpdk.org (mails.dpdk.org [217.70.189.124])
	by inbox.dpdk.org (Postfix) with ESMTP id 11FCE43C5D
	for <public@inbox.dpdk.org>; Wed,  6 Mar 2024 22:20:03 +0100 (CET)
Received: from mails.dpdk.org (localhost [127.0.0.1])
	by mails.dpdk.org (Postfix) with ESMTP id 0DDF740276;
	Wed,  6 Mar 2024 22:20:03 +0100 (CET)
Received: from mail-yw1-f228.google.com (mail-yw1-f228.google.com
 [209.85.128.228])
 by mails.dpdk.org (Postfix) with ESMTP id CB579400EF
 for <test-report@dpdk.org>; Wed,  6 Mar 2024 22:20:01 +0100 (CET)
Received: by mail-yw1-f228.google.com with SMTP id
 00721157ae682-608959cfcbfso2277977b3.3
 for <test-report@dpdk.org>; Wed, 06 Mar 2024 13:20:01 -0800 (PST)
DKIM-Signature: v=1; a=rsa-sha256; c=relaxed/relaxed;
 d=iol.unh.edu; s=unh-iol; t=1709760001; x=1710364801; darn=dpdk.org;
 h=references:in-reply-to:cc:to:from:subject:message-id:date:from:to
 :cc:subject:date:message-id:reply-to;
 bh=HJtGlSw78Fy8/yRknECOCdVguNuTCJGNj9KPj/bIM+M=;
 b=A2Lnhl+9RpBvofB26v3cPbADEEPhgkDnkOGxdGgnC7wlnixKIY6ejgRMamCmzVdtWc
 42OegJdWxOrfizV+RyGWteqTWpdnK+x5lXNLjpzYWAXOuYkYt03nhw5UNoj4uxXXgdV0
 je2OoC+FU+uJ9f4UWamhKMNLKTgiW2nv6NdsM=
X-Google-DKIM-Signature: v=1; a=rsa-sha256; c=relaxed/relaxed;
 d=1e100.net; s=20230601; t=1709760001; x=1710364801;
 h=references:in-reply-to:cc:to:from:subject:message-id:date
 :x-gm-message-state:from:to:cc:subject:date:message-id:reply-to;
 bh=HJtGlSw78Fy8/yRknECOCdVguNuTCJGNj9KPj/bIM+M=;
 b=vhCvSQX6L1O1l35oS82FDUinE3xDtaksL/JvrExy084xAy1wKB9drF08diPmZD62qu
 RRnM3ptneALWeXkWOrHVAhGRqeoyYMoXaW2uR+kHDNCZiHTyTESkUJWiJMlBMZp6ueQk
 LnFKLr5rMluSQ/KWM5uHO0p6c5DW2riC/CUyalwyPufCmtybt1deWf9XMo00J3yISYvA
 zqfbQthuwmN76P+6HmEXJeNJAuqF7QE+h+SfMTE8HnA9aoJl4SR+PiSuTDmGnW3ZfdRV
 mCo3Qdx0CJql1Op/UseQlyhB/xmTDD2koGml6suT6VwpehcCaWOydcNRgZuvcWknvPGs
 VUnw==
X-Gm-Message-State: AOJu0YyGMCU0HEgyCnFQTcd5yZonQCkwqJ+EsXTd2K2fdXOcdOagyeVm
 9vYo5e/6MH9dKUxUjXKPVGf2dlemo38F2iDq12LwKhgsZA9HDVmikCl6MIjyORxBO32pHD3LToa
 QgLCwPyC/4jbTJYQ30kceSjE72AcD3CgZmO8ROuuD
X-Google-Smtp-Source: AGHT+IGA0hXfsQRCUeaON2qYNv1dZ51lykY1XteF3ATtnfFoAkvjQsSUH3MOuWxTWtUXfO/ui6ro/9mAz8JF
X-Received: by 2002:a0d:ea51:0:b0:609:c56d:ed37 with SMTP id
 t78-20020a0dea51000000b00609c56ded37mr7083638ywe.3.1709760001225; 
 Wed, 06 Mar 2024 13:20:01 -0800 (PST)
Received: from postal.iol.unh.edu (postal.iol.unh.edu. [132.177.123.84])
 by smtp-relay.gmail.com with ESMTPS id
 c7-20020a81b547000000b00608a8cf10e6sm876525ywk.48.2024.03.06.13.20.01
 (version=TLS1_2 cipher=ECDHE-ECDSA-AES128-GCM-SHA256 bits=128/128);
 Wed, 06 Mar 2024 13:20:01 -0800 (PST)
X-Relaying-Domain: iol.unh.edu
Date: Wed, 06 Mar 2024 13:20:01 -0800 (PST)
Message-ID: <65e8de01.810a0220.11213.8216SMTPIN_ADDED_MISSING@mx.google.com>
Received: from [172.21.0.6] (unknown [172.18.0.240])
 by postal.iol.unh.edu (Postfix) with ESMTP id DBC6C6052712;
 Wed,  6 Mar 2024 16:20:00 -0500 (EST)
Subject: |SUCCESS| pw138055-138060 [PATCH] [v5,6/6] table: replace zero lengt
From: dpdklab@iol.unh.edu
To: Test Report <test-report@dpdk.org>
Cc: dpdk-test-reports@iol.unh.edu
In-Reply-To: <1709756036-24068-7-git-send-email-roretzla@linux.microsoft.com>
References: <1709756036-24068-7-git-send-email-roretzla@linux.microsoft.com>
Content-Type: text/plain
X-BeenThere: test-report@dpdk.org
X-Mailman-Version: 2.1.29
Precedence: list
List-Id: automatic DPDK test reports <test-report.dpdk.org>
List-Unsubscribe: <https://mails.dpdk.org/options/test-report>,
 <mailto:test-report-request@dpdk.org?subject=unsubscribe>
List-Archive: <http://mails.dpdk.org/archives/test-report/>
List-Post: <mailto:test-report@dpdk.org>
List-Help: <mailto:test-report-request@dpdk.org?subject=help>
List-Subscribe: <https://mails.dpdk.org/listinfo/test-report>,
 <mailto:test-report-request@dpdk.org?subject=subscribe>
Errors-To: test-report-bounces@dpdk.org

Test-Label: iol-abi-testing
Test-Status: SUCCESS
http://dpdk.org/patch/138060

_Testing PASS_

Submitter: Tyler Retzlaff <roretzla@linux.microsoft.com>
Date: Wednesday, March 06 2024 20:13:56 
DPDK git baseline: Repo:dpdk
  Branch: master
  CommitID:dd329b2cc53dd61156b0227b0b858f9b17215574

138055-138060 --> testing pass

Test environment and result as below:

+------------------+----------+
|   Environment    | abi_test |
+==================+==========+
| openSUSE Leap 15 | PASS     |
+------------------+----------+
| Debian Bullseye  | PASS     |
+------------------+----------+
| CentOS Stream 8  | PASS     |
+------------------+----------+
| RHEL8            | PASS     |
+------------------+----------+
| Fedora 38        | PASS     |
+------------------+----------+
| Fedora 37        | PASS     |
+------------------+----------+
| CentOS Stream 9  | PASS     |
+------------------+----------+
| Debian 12 (arm)  | PASS     |
+------------------+----------+
| Ubuntu 22.04     | PASS     |
+------------------+----------+


openSUSE Leap 15
	Kernel: 4.18.0-240.10.1.el8_3.x86_64
	Compiler: gcc 7.5.0

Debian Bullseye
	Kernel: 5.4.0-122-generic
	Compiler: gcc 10.2.1-6

CentOS Stream 8
	Kernel: 4.18.0-240.10.1.el8_3.x86_64
	Compiler: gcc 8.4.1 20200928

RHEL8
	Kernel: 4.18.0-240.10.1.el8_3.x86_64
	Compiler: gcc 8.3.1 20191121 (Red Hat 8.3.1-5)

Fedora 38
	Kernel: Depends on container host
	Compiler: clang 16.0.3

Fedora 37
	Kernel: Depends on container host system
	Compiler: gcc 12.3.1

CentOS Stream 9
	Kernel: 4.18.0-240.10.1.el8_3.x86_64
	Compiler: gcc 11.3.1 20220421

Debian 12 (arm)
	Kernel: Container Host Kernel
	Compiler: gcc 11

Ubuntu 22.04
	Kernel: 4.18.0-240.10.1.el8_3.x86_64
	Compiler: gcc 11.3.0

To view detailed results, visit:
https://lab.dpdk.org/results/dashboard/patchsets/29443/

UNH-IOL DPDK Community Lab

To manage your email subscriptions, visit: 
https://lab.dpdk.org/results/dashboard/preferences/subscriptions/