From mboxrd@z Thu Jan  1 00:00:00 1970
Return-Path: <test-report-bounces@dpdk.org>
Received: from mails.dpdk.org (mails.dpdk.org [217.70.189.124])
	by inbox.dpdk.org (Postfix) with ESMTP id 967DB43C62
	for <public@inbox.dpdk.org>; Wed,  6 Mar 2024 22:29:14 +0100 (CET)
Received: from mails.dpdk.org (localhost [127.0.0.1])
	by mails.dpdk.org (Postfix) with ESMTP id 9196842E23;
	Wed,  6 Mar 2024 22:29:14 +0100 (CET)
Received: from mail-pg1-f227.google.com (mail-pg1-f227.google.com
 [209.85.215.227])
 by mails.dpdk.org (Postfix) with ESMTP id 277EE40276
 for <test-report@dpdk.org>; Wed,  6 Mar 2024 22:29:13 +0100 (CET)
Received: by mail-pg1-f227.google.com with SMTP id
 41be03b00d2f7-53fa455cd94so130057a12.2
 for <test-report@dpdk.org>; Wed, 06 Mar 2024 13:29:13 -0800 (PST)
DKIM-Signature: v=1; a=rsa-sha256; c=relaxed/relaxed;
 d=iol.unh.edu; s=unh-iol; t=1709760552; x=1710365352; darn=dpdk.org;
 h=references:in-reply-to:cc:to:from:subject:message-id:date:from:to
 :cc:subject:date:message-id:reply-to;
 bh=A5i8I6+xZINSg8WPVnhCxV0htSSpPg6kUVKzhb42O0w=;
 b=V5CSf3OhsloHH7gvu1aV8+xwvUsgA+H0zafdr3/+92EUflcKMYkKHWBSGCCc3vBok4
 JSV7AqAJCQ6UfNgtgFraKvbRnsq+gLIJQ/iKLH280RqFNJvKLxVXMtb8IKAL0dObhAnR
 /9hdO3Mf29Dj1CYlW/TaJU5mv5IcsiRo/MU7A=
X-Google-DKIM-Signature: v=1; a=rsa-sha256; c=relaxed/relaxed;
 d=1e100.net; s=20230601; t=1709760552; x=1710365352;
 h=references:in-reply-to:cc:to:from:subject:message-id:date
 :x-gm-message-state:from:to:cc:subject:date:message-id:reply-to;
 bh=A5i8I6+xZINSg8WPVnhCxV0htSSpPg6kUVKzhb42O0w=;
 b=jflBWn7RMiPSESggdKGmnMtaV6hIIzGUb4DxoqSE8yaTaELOYy6EdKww13h97cj/xF
 vgG0e79bGYfYpTHW8b4kgDxdDSQKu3AsPLfmqc2kGaOkOOnYw1JtuRgztVZutcFILef4
 w8rLl5J+bcmCwQ1k0DCxHprEFdoQl5CB+2MjEjWugTPKlNLyReUTDjAD47V0CfGFUkiQ
 f/AspWN2FUIuf++XuaBUhM7QiBAu5j0+tV+YYQZiJAoYJ+sk1TW38xUQ9Oi1XXNzsa/6
 uWfImTf+noBS5xb+74otx6K5CCyc5w1WaOg4BcbSPcjQgiKWGV8ZPsfoWEQ604cBMkO8
 5ufQ==
X-Gm-Message-State: AOJu0Yw+5ASLyUhudUlkd4iJk4AqtszvcwfKqYiq792de7ORQkXF2gWK
 dAdhC6QpzfV7PZW8edHuIBJLSGYUxnJOJN08COkYcPg0FCOvCdfD3uS4tLVr1nQ0/+eAluh5ONZ
 SlQlsH4r75Ux8uR2objGn+Gd4Ka8BXClB4VX7mv1O
X-Google-Smtp-Source: AGHT+IGCnoGifvm1v/QfNkJvpUt5OQfC/JUhLmrO4QZiV6Ik0addXmgfctokcPNR5XsaK6Pn4iGYfSjx3MbL
X-Received: by 2002:a05:6a20:a128:b0:1a1:6eec:8fb0 with SMTP id
 q40-20020a056a20a12800b001a16eec8fb0mr471205pzk.0.1709760552255; 
 Wed, 06 Mar 2024 13:29:12 -0800 (PST)
Received: from postal.iol.unh.edu (postal.iol.unh.edu. [132.177.123.84])
 by smtp-relay.gmail.com with ESMTPS id
 v6-20020a626106000000b006e3d8678ffesm1057874pfb.6.2024.03.06.13.29.12
 (version=TLS1_2 cipher=ECDHE-ECDSA-AES128-GCM-SHA256 bits=128/128);
 Wed, 06 Mar 2024 13:29:12 -0800 (PST)
X-Relaying-Domain: iol.unh.edu
Date: Wed, 06 Mar 2024 13:29:12 -0800 (PST)
Message-ID: <65e8e028.620a0220.d5c49.178bSMTPIN_ADDED_MISSING@mx.google.com>
Received: from [172.21.0.7] (unknown [172.18.0.240])
 by postal.iol.unh.edu (Postfix) with ESMTP id 844576052712;
 Wed,  6 Mar 2024 16:29:11 -0500 (EST)
Subject: |SUCCESS| pw138055-138060 [PATCH] [v5,6/6] table: replace zero lengt
From: dpdklab@iol.unh.edu
To: Test Report <test-report@dpdk.org>
Cc: dpdk-test-reports@iol.unh.edu
In-Reply-To: <1709756036-24068-7-git-send-email-roretzla@linux.microsoft.com>
References: <1709756036-24068-7-git-send-email-roretzla@linux.microsoft.com>
Content-Type: text/plain
X-BeenThere: test-report@dpdk.org
X-Mailman-Version: 2.1.29
Precedence: list
List-Id: automatic DPDK test reports <test-report.dpdk.org>
List-Unsubscribe: <https://mails.dpdk.org/options/test-report>,
 <mailto:test-report-request@dpdk.org?subject=unsubscribe>
List-Archive: <http://mails.dpdk.org/archives/test-report/>
List-Post: <mailto:test-report@dpdk.org>
List-Help: <mailto:test-report-request@dpdk.org?subject=help>
List-Subscribe: <https://mails.dpdk.org/listinfo/test-report>,
 <mailto:test-report-request@dpdk.org?subject=subscribe>
Errors-To: test-report-bounces@dpdk.org

Test-Label: iol-compile-amd64-testing
Test-Status: SUCCESS
http://dpdk.org/patch/138060

_Testing PASS_

Submitter: Tyler Retzlaff <roretzla@linux.microsoft.com>
Date: Wednesday, March 06 2024 20:13:56 
DPDK git baseline: Repo:dpdk
  Branch: master
  CommitID:dd329b2cc53dd61156b0227b0b858f9b17215574

138055-138060 --> testing pass

Test environment and result as below:

+---------------------+--------------------+----------------------+
|     Environment     | dpdk_meson_compile | dpdk_mingw64_compile |
+=====================+====================+======================+
| Windows Server 2022 | PASS               | SKIPPED              |
+---------------------+--------------------+----------------------+
| FreeBSD 13.2        | PASS               | SKIPPED              |
+---------------------+--------------------+----------------------+
| Windows Server 2019 | PASS               | PASS                 |
+---------------------+--------------------+----------------------+
| Debian Bullseye     | PASS               | SKIPPED              |
+---------------------+--------------------+----------------------+
| CentOS Stream 8     | PASS               | SKIPPED              |
+---------------------+--------------------+----------------------+
| CentOS Stream 9     | PASS               | SKIPPED              |
+---------------------+--------------------+----------------------+


Windows Server 2022
	Kernel: OS Build 20348.2031
	Compiler: MSVC VS-Preview

FreeBSD 13.2
	Kernel: 13.2
	Compiler: clang 11.3.0

Windows Server 2019
	Kernel: 10.0
	Compiler: clang 14.0 and gcc 8.1.0 (MinGW)

Debian Bullseye
	Kernel: 5.4.0-122-generic
	Compiler: gcc 10.2.1-6

CentOS Stream 8
	Kernel: 4.18.0-240.10.1.el8_3.x86_64
	Compiler: gcc 8.4.1 20200928

CentOS Stream 9
	Kernel: 4.18.0-240.10.1.el8_3.x86_64
	Compiler: gcc 11.3.1 20220421

To view detailed results, visit:
https://lab.dpdk.org/results/dashboard/patchsets/29443/

UNH-IOL DPDK Community Lab

To manage your email subscriptions, visit: 
https://lab.dpdk.org/results/dashboard/preferences/subscriptions/