From mboxrd@z Thu Jan  1 00:00:00 1970
Return-Path: <test-report-bounces@dpdk.org>
Received: from mails.dpdk.org (mails.dpdk.org [217.70.189.124])
	by inbox.dpdk.org (Postfix) with ESMTP id 0EE8E43B74
	for <public@inbox.dpdk.org>; Wed,  6 Mar 2024 22:42:26 +0100 (CET)
Received: from mails.dpdk.org (localhost [127.0.0.1])
	by mails.dpdk.org (Postfix) with ESMTP id EA72E42DBD;
	Wed,  6 Mar 2024 22:42:25 +0100 (CET)
Received: from mail-il1-f226.google.com (mail-il1-f226.google.com
 [209.85.166.226])
 by mails.dpdk.org (Postfix) with ESMTP id DCDFE400EF
 for <test-report@dpdk.org>; Wed,  6 Mar 2024 22:42:23 +0100 (CET)
Received: by mail-il1-f226.google.com with SMTP id
 e9e14a558f8ab-3652731b2b7so362145ab.2
 for <test-report@dpdk.org>; Wed, 06 Mar 2024 13:42:23 -0800 (PST)
DKIM-Signature: v=1; a=rsa-sha256; c=relaxed/relaxed;
 d=iol.unh.edu; s=unh-iol; t=1709761343; x=1710366143; darn=dpdk.org;
 h=references:in-reply-to:cc:to:from:subject:message-id:date:from:to
 :cc:subject:date:message-id:reply-to;
 bh=3fH8fvl8jqvJatxvKUUyjohrOprU7xwZ0jqdMtK2qcM=;
 b=hOTTLoChmFCECOBnEvYuOnjeOJKd8+5nc2YK7v6yS6UcxlOIO6vfHajvbP28cfGLz8
 +cb4YmMx415qTI/K3/ab5gaLkO/KKG0UrDglEwTW4MJmN//Dxdv+1F42/1e/nsyvG2g6
 4NeqQxDp/X4lgKQfqnlIc9FR2ldMMWq6iP0PA=
X-Google-DKIM-Signature: v=1; a=rsa-sha256; c=relaxed/relaxed;
 d=1e100.net; s=20230601; t=1709761343; x=1710366143;
 h=references:in-reply-to:cc:to:from:subject:message-id:date
 :x-gm-message-state:from:to:cc:subject:date:message-id:reply-to;
 bh=3fH8fvl8jqvJatxvKUUyjohrOprU7xwZ0jqdMtK2qcM=;
 b=drBZ21tw6F9MCCla7uBQY3KJ0InoIx6T7UJlYwl+1pF57pBKd3fZp3FA58flAH+JCr
 EIGAhuS9/vP4ANKiUca0eqKsKomi/UxMnjDaiLPnZrH8YyWQ9HsGXSC9u5m/Ybd9M/ou
 j7hrWlOs2R6JAG6WWM2kR7yv5xo6MYO2auNtKPDjKjdYAhwhwKc6JnwY0LZQa9vtqIOK
 XGn3medCfw3gkPmfsskVqii2K3BuJywmJv0K7h2KaHt+XtV49xTk9l7ncOsE4em+CR2P
 J1uYCTvXszy7HHf1/DqQUWW7Mspto0Za7xlRS8DPo7hyPdw9trObJKeGVE4tp/7ZgAFH
 E13w==
X-Gm-Message-State: AOJu0YxVTJwIm95lNrg7WkKvDCVkm6mA6oVKeNmZyBEvZmZJUkrPYO5o
 k16SzRj2ErHuRELrCKm1+eA6WRbhns8JSZw3t18j+Q/npDWcQtfwnA/EKQRMoElefJtP7vB74mS
 QvSSgHmqf0f9wyBQSU2akNU37JA/wf8iU6l6qM6WZ
X-Google-Smtp-Source: AGHT+IF1lCnu9l3OA2141+JIhEwROgojQKOVXBJTs1XXhkzB1sAPoKxXH00aI8Q09E9YlBtoUhIsyxDwEmF1
X-Received: by 2002:a05:6e02:1b08:b0:363:d8dc:2a31 with SMTP id
 i8-20020a056e021b0800b00363d8dc2a31mr17467607ilv.14.1709761343247; 
 Wed, 06 Mar 2024 13:42:23 -0800 (PST)
Received: from postal.iol.unh.edu (postal.iol.unh.edu. [132.177.123.84])
 by smtp-relay.gmail.com with ESMTPS id
 by10-20020a056e02260a00b00363a24654adsm791587ilb.12.2024.03.06.13.42.23
 (version=TLS1_2 cipher=ECDHE-ECDSA-AES128-GCM-SHA256 bits=128/128);
 Wed, 06 Mar 2024 13:42:23 -0800 (PST)
X-Relaying-Domain: iol.unh.edu
Date: Wed, 06 Mar 2024 13:42:23 -0800 (PST)
Message-ID: <65e8e33f.050a0220.d4dd2.19dfSMTPIN_ADDED_MISSING@mx.google.com>
Received: from [172.17.0.8] (unknown [172.18.0.217])
 by postal.iol.unh.edu (Postfix) with ESMTP id BA7226052712;
 Wed,  6 Mar 2024 16:42:22 -0500 (EST)
Subject: |SUCCESS| pw138055-138060 [PATCH] [v5,6/6] table: replace zero lengt
From: dpdklab@iol.unh.edu
To: Test Report <test-report@dpdk.org>
Cc: dpdk-test-reports@iol.unh.edu
In-Reply-To: <1709756036-24068-7-git-send-email-roretzla@linux.microsoft.com>
References: <1709756036-24068-7-git-send-email-roretzla@linux.microsoft.com>
Content-Type: text/plain
X-BeenThere: test-report@dpdk.org
X-Mailman-Version: 2.1.29
Precedence: list
List-Id: automatic DPDK test reports <test-report.dpdk.org>
List-Unsubscribe: <https://mails.dpdk.org/options/test-report>,
 <mailto:test-report-request@dpdk.org?subject=unsubscribe>
List-Archive: <http://mails.dpdk.org/archives/test-report/>
List-Post: <mailto:test-report@dpdk.org>
List-Help: <mailto:test-report-request@dpdk.org?subject=help>
List-Subscribe: <https://mails.dpdk.org/listinfo/test-report>,
 <mailto:test-report-request@dpdk.org?subject=subscribe>
Errors-To: test-report-bounces@dpdk.org

Test-Label: iol-compile-amd64-testing
Test-Status: SUCCESS
http://dpdk.org/patch/138060

_Testing PASS_

Submitter: Tyler Retzlaff <roretzla@linux.microsoft.com>
Date: Wednesday, March 06 2024 20:13:56 
DPDK git baseline: Repo:dpdk
  Branch: master
  CommitID:dd329b2cc53dd61156b0227b0b858f9b17215574

138055-138060 --> testing pass

Test environment and result as below:

+---------------------+--------------------+----------------------+
|     Environment     | dpdk_meson_compile | dpdk_mingw64_compile |
+=====================+====================+======================+
| Windows Server 2022 | PASS               | SKIPPED              |
+---------------------+--------------------+----------------------+
| FreeBSD 13.2        | PASS               | SKIPPED              |
+---------------------+--------------------+----------------------+
| Windows Server 2019 | PASS               | PASS                 |
+---------------------+--------------------+----------------------+
| Debian Bullseye     | PASS               | SKIPPED              |
+---------------------+--------------------+----------------------+
| CentOS Stream 8     | PASS               | SKIPPED              |
+---------------------+--------------------+----------------------+
| CentOS Stream 9     | PASS               | SKIPPED              |
+---------------------+--------------------+----------------------+
| Fedora 38           | PASS               | SKIPPED              |
+---------------------+--------------------+----------------------+
| Ubuntu 22.04        | PASS               | SKIPPED              |
+---------------------+--------------------+----------------------+
| openSUSE Leap 15    | PASS               | SKIPPED              |
+---------------------+--------------------+----------------------+
| RHEL8               | PASS               | SKIPPED              |
+---------------------+--------------------+----------------------+
| Alpine              | PASS               | SKIPPED              |
+---------------------+--------------------+----------------------+


Windows Server 2022
	Kernel: OS Build 20348.2031
	Compiler: MSVC VS-Preview

FreeBSD 13.2
	Kernel: 13.2
	Compiler: clang 11.3.0

Windows Server 2019
	Kernel: 10.0
	Compiler: clang 14.0 and gcc 8.1.0 (MinGW)

Debian Bullseye
	Kernel: 5.4.0-122-generic
	Compiler: gcc 10.2.1-6

CentOS Stream 8
	Kernel: 4.18.0-240.10.1.el8_3.x86_64
	Compiler: gcc 8.4.1 20200928

CentOS Stream 9
	Kernel: 4.18.0-240.10.1.el8_3.x86_64
	Compiler: gcc 11.3.1 20220421

Fedora 38
	Kernel: Depends on container host
	Compiler: gcc 13.1.1

Ubuntu 22.04
	Kernel: 4.18.0-240.10.1.el8_3.x86_64
	Compiler: gcc 11.3.0

openSUSE Leap 15
	Kernel: 4.18.0-240.10.1.el8_3.x86_64
	Compiler: gcc 7.5.0

RHEL8
	Kernel: 4.18.0-240.10.1.el8_3.x86_64
	Compiler: gcc 8.3.1 20191121 (Red Hat 8.3.1-5)

Alpine
	Kernel: 5.4.0-73-generic
	Compiler: gcc (Alpine 10.3.1_git20210424) 10.3.1 20210424

To view detailed results, visit:
https://lab.dpdk.org/results/dashboard/patchsets/29443/

UNH-IOL DPDK Community Lab

To manage your email subscriptions, visit: 
https://lab.dpdk.org/results/dashboard/preferences/subscriptions/