From mboxrd@z Thu Jan  1 00:00:00 1970
Return-Path: <test-report-bounces@dpdk.org>
Received: from mails.dpdk.org (mails.dpdk.org [217.70.189.124])
	by inbox.dpdk.org (Postfix) with ESMTP id 927A143C62
	for <public@inbox.dpdk.org>; Wed,  6 Mar 2024 22:46:10 +0100 (CET)
Received: from mails.dpdk.org (localhost [127.0.0.1])
	by mails.dpdk.org (Postfix) with ESMTP id 8E53A42EBF;
	Wed,  6 Mar 2024 22:46:10 +0100 (CET)
Received: from mail-yw1-f227.google.com (mail-yw1-f227.google.com
 [209.85.128.227])
 by mails.dpdk.org (Postfix) with ESMTP id 43BDB400EF
 for <test-report@dpdk.org>; Wed,  6 Mar 2024 22:46:09 +0100 (CET)
Received: by mail-yw1-f227.google.com with SMTP id
 00721157ae682-608342633b8so2375167b3.1
 for <test-report@dpdk.org>; Wed, 06 Mar 2024 13:46:09 -0800 (PST)
DKIM-Signature: v=1; a=rsa-sha256; c=relaxed/relaxed;
 d=iol.unh.edu; s=unh-iol; t=1709761568; x=1710366368; darn=dpdk.org;
 h=references:in-reply-to:cc:to:from:subject:message-id:date:from:to
 :cc:subject:date:message-id:reply-to;
 bh=WyLLfU8esE+tFnbeBumrAJBb5y96HADPm5fB0t+lunE=;
 b=XxQ/wskghfDCu/FIu3H/xx9QMikt7ZCridbwXf0DNG8fqA61x5F7b9L+deJR6zNifo
 X/9HguBmpeWhxhipri/WG/2kj1+7VtnpPn2YF1OOIwI/B9e+zlgdqm9bEsQtCmqIHFHw
 B+79Bt49Pe1R0rbN3eVBJzwTlwsb2BpNDnuBE=
X-Google-DKIM-Signature: v=1; a=rsa-sha256; c=relaxed/relaxed;
 d=1e100.net; s=20230601; t=1709761568; x=1710366368;
 h=references:in-reply-to:cc:to:from:subject:message-id:date
 :x-gm-message-state:from:to:cc:subject:date:message-id:reply-to;
 bh=WyLLfU8esE+tFnbeBumrAJBb5y96HADPm5fB0t+lunE=;
 b=TOnnsvDFFA9I8BOGuZ5yU7mFhCTmXbzQZCvZzR+NsMuL/KPYIJZeqDxFEdSTu/jNfv
 D2u3Q82DXQUASR99vW3AhZrvHLevMe0ltb/TJmvaBASpUjOWJgZ0W8GP1/vqcu6pdz+R
 +Jx2HCMmWtS8bdVEN45KBGZq12jUYRdDwEHh2PZO/r5WS13e1nUNB/UuNAcxZPT7WmyB
 n4ZIvpi9lgB4iHO8gfg72cnHIfMszBcFzuK3m5x5oUCwABwQtxHbk1pMnpaknMPxU9Zs
 M7kvwbGQQLPEbETSq+SimpXSPJqcOR8QuENUO6Tnui+cz0PVkSk7LdoZa8/3Pk81YtKw
 r7Dg==
X-Gm-Message-State: AOJu0Ywge2WkQcCaoOdY8hfZrw7ddBloaBT9H9veflHRmC79goWobAmG
 FFWOi+TESWdOOqDCPztmXNFyuGnHmq52AkkHLBYc9T2gyQ4zknzE0wV/mreWrE6lPvPqbZxqCFn
 blz13y7GIQc3z8De9oCqlxkhMZ5ZnPXl2N34l+oUb
X-Google-Smtp-Source: AGHT+IEnpIoRdjIhWzE/WQhpfZQguO4zhOX6Ls6GqhxuKEM7PYWClUSWZV9QHhL5XmibiQwieDtNlGc2S+1j
X-Received: by 2002:a0d:ca4c:0:b0:609:e699:f862 with SMTP id
 m73-20020a0dca4c000000b00609e699f862mr1528089ywd.23.1709761568733; 
 Wed, 06 Mar 2024 13:46:08 -0800 (PST)
Received: from postal.iol.unh.edu (postal.iol.unh.edu. [132.177.123.84])
 by smtp-relay.gmail.com with ESMTPS id
 ex14-20020a05622a518e00b0042c636c2b76sm729588qtb.14.2024.03.06.13.46.08
 (version=TLS1_2 cipher=ECDHE-ECDSA-AES128-GCM-SHA256 bits=128/128);
 Wed, 06 Mar 2024 13:46:08 -0800 (PST)
X-Relaying-Domain: iol.unh.edu
Date: Wed, 06 Mar 2024 13:46:08 -0800 (PST)
Message-ID: <65e8e420.050a0220.271a3.a8a4SMTPIN_ADDED_MISSING@mx.google.com>
Received: from [172.17.0.6] (unknown [172.18.0.217])
 by postal.iol.unh.edu (Postfix) with ESMTP id 398426052712;
 Wed,  6 Mar 2024 16:46:08 -0500 (EST)
Subject: |SUCCESS| pw138055-138060 [PATCH] [v5,6/6] table: replace zero lengt
From: dpdklab@iol.unh.edu
To: Test Report <test-report@dpdk.org>
Cc: dpdk-test-reports@iol.unh.edu
In-Reply-To: <1709756036-24068-7-git-send-email-roretzla@linux.microsoft.com>
References: <1709756036-24068-7-git-send-email-roretzla@linux.microsoft.com>
Content-Type: text/plain
X-BeenThere: test-report@dpdk.org
X-Mailman-Version: 2.1.29
Precedence: list
List-Id: automatic DPDK test reports <test-report.dpdk.org>
List-Unsubscribe: <https://mails.dpdk.org/options/test-report>,
 <mailto:test-report-request@dpdk.org?subject=unsubscribe>
List-Archive: <http://mails.dpdk.org/archives/test-report/>
List-Post: <mailto:test-report@dpdk.org>
List-Help: <mailto:test-report-request@dpdk.org?subject=help>
List-Subscribe: <https://mails.dpdk.org/listinfo/test-report>,
 <mailto:test-report-request@dpdk.org?subject=subscribe>
Errors-To: test-report-bounces@dpdk.org

Test-Label: iol-compile-amd64-testing
Test-Status: SUCCESS
http://dpdk.org/patch/138060

_Testing PASS_

Submitter: Tyler Retzlaff <roretzla@linux.microsoft.com>
Date: Wednesday, March 06 2024 20:13:56 
DPDK git baseline: Repo:dpdk
  Branch: master
  CommitID:dd329b2cc53dd61156b0227b0b858f9b17215574

138055-138060 --> testing pass

Test environment and result as below:

+---------------------+--------------------+----------------------+
|     Environment     | dpdk_meson_compile | dpdk_mingw64_compile |
+=====================+====================+======================+
| Windows Server 2022 | PASS               | SKIPPED              |
+---------------------+--------------------+----------------------+
| FreeBSD 13.2        | PASS               | SKIPPED              |
+---------------------+--------------------+----------------------+
| Windows Server 2019 | PASS               | PASS                 |
+---------------------+--------------------+----------------------+
| Debian Bullseye     | PASS               | SKIPPED              |
+---------------------+--------------------+----------------------+
| CentOS Stream 8     | PASS               | SKIPPED              |
+---------------------+--------------------+----------------------+
| CentOS Stream 9     | PASS               | SKIPPED              |
+---------------------+--------------------+----------------------+
| Fedora 38           | PASS               | SKIPPED              |
+---------------------+--------------------+----------------------+
| Ubuntu 22.04        | PASS               | SKIPPED              |
+---------------------+--------------------+----------------------+
| openSUSE Leap 15    | PASS               | SKIPPED              |
+---------------------+--------------------+----------------------+
| RHEL8               | PASS               | SKIPPED              |
+---------------------+--------------------+----------------------+
| Alpine              | PASS               | SKIPPED              |
+---------------------+--------------------+----------------------+
| Ubuntu 20.04        | PASS               | SKIPPED              |
+---------------------+--------------------+----------------------+
| Debian 12 (arm)     | PASS               | SKIPPED              |
+---------------------+--------------------+----------------------+


Windows Server 2022
	Kernel: OS Build 20348.2031
	Compiler: MSVC VS-Preview

FreeBSD 13.2
	Kernel: 13.2
	Compiler: clang 11.3.0

Windows Server 2019
	Kernel: 10.0
	Compiler: clang 14.0 and gcc 8.1.0 (MinGW)

Debian Bullseye
	Kernel: 5.4.0-122-generic
	Compiler: gcc 10.2.1-6

CentOS Stream 8
	Kernel: 4.18.0-240.10.1.el8_3.x86_64
	Compiler: gcc 8.4.1 20200928

CentOS Stream 9
	Kernel: 4.18.0-240.10.1.el8_3.x86_64
	Compiler: gcc 11.3.1 20220421

Fedora 38
	Kernel: Depends on container host
	Compiler: gcc 13.1.1

Ubuntu 22.04
	Kernel: 4.18.0-240.10.1.el8_3.x86_64
	Compiler: gcc 11.3.0

openSUSE Leap 15
	Kernel: 4.18.0-240.10.1.el8_3.x86_64
	Compiler: gcc 7.5.0

RHEL8
	Kernel: 4.18.0-240.10.1.el8_3.x86_64
	Compiler: gcc 8.3.1 20191121 (Red Hat 8.3.1-5)

Alpine
	Kernel: 5.4.0-73-generic
	Compiler: gcc (Alpine 10.3.1_git20210424) 10.3.1 20210424

Ubuntu 20.04
	Kernel: 5.4.0-153-generic
	Compiler: gcc 9.4.0-1ubuntu1~20.04.1

Debian 12 (arm)
	Kernel: Container Host Kernel
	Compiler: gcc 11

To view detailed results, visit:
https://lab.dpdk.org/results/dashboard/patchsets/29443/

UNH-IOL DPDK Community Lab

To manage your email subscriptions, visit: 
https://lab.dpdk.org/results/dashboard/preferences/subscriptions/