From mboxrd@z Thu Jan  1 00:00:00 1970
Return-Path: <test-report-bounces@dpdk.org>
Received: from mails.dpdk.org (mails.dpdk.org [217.70.189.124])
	by inbox.dpdk.org (Postfix) with ESMTP id CD15943C62
	for <public@inbox.dpdk.org>; Wed,  6 Mar 2024 22:49:05 +0100 (CET)
Received: from mails.dpdk.org (localhost [127.0.0.1])
	by mails.dpdk.org (Postfix) with ESMTP id C2EB342DBD;
	Wed,  6 Mar 2024 22:49:05 +0100 (CET)
Received: from mail-yw1-f226.google.com (mail-yw1-f226.google.com
 [209.85.128.226])
 by mails.dpdk.org (Postfix) with ESMTP id 2136B400EF
 for <test-report@dpdk.org>; Wed,  6 Mar 2024 22:49:02 +0100 (CET)
Received: by mail-yw1-f226.google.com with SMTP id
 00721157ae682-609eb3e5a56so2260477b3.1
 for <test-report@dpdk.org>; Wed, 06 Mar 2024 13:49:02 -0800 (PST)
DKIM-Signature: v=1; a=rsa-sha256; c=relaxed/relaxed;
 d=iol.unh.edu; s=unh-iol; t=1709761741; x=1710366541; darn=dpdk.org;
 h=references:in-reply-to:cc:to:from:subject:message-id:date:from:to
 :cc:subject:date:message-id:reply-to;
 bh=GLe1U9mbRfTL5zTowWzY/9xBOYom9hamJGY4ExBaLOQ=;
 b=X432dx6IWkSbjFQCYeQpwaiNKCF5w+6rSwiiHfq7g7lVszMBDcTVPO4p0Z/coPYOuR
 pf0KBdz58lTbP1NMZFHtqPtkuZ4R2ZTPtn85fop2Dl1OhqFFFNweiK0h60wBTlLqOTMk
 fFburbdCSKJwWpiFdwuzRBqdzaQTGQsMRJTMg=
X-Google-DKIM-Signature: v=1; a=rsa-sha256; c=relaxed/relaxed;
 d=1e100.net; s=20230601; t=1709761741; x=1710366541;
 h=references:in-reply-to:cc:to:from:subject:message-id:date
 :x-gm-message-state:from:to:cc:subject:date:message-id:reply-to;
 bh=GLe1U9mbRfTL5zTowWzY/9xBOYom9hamJGY4ExBaLOQ=;
 b=wzMdILBzx2b5XrB8wCi7W+z111TjgOWpGcmKCSCDxJaBOO5C5odWJBW+qeUYMEEl23
 gpa62Txhx7n870T+xo+g4OV+WFhRHc8nz+uCYvnJj2+LZqCBoXacO/bJvyZtYbb9XBof
 kjWMjRaoodsljJ52xalIuGPcdoLVy2H/vjLRaRtw+/XrzJCk6PLWpBeHU1VvN+NfzbXw
 RPZmDYSVs5H2SgcDN7q5ptHq/dA9A/IJ+b1pqRxO1VIC6e5aZD4SRw4xQvb27V/EuvGc
 aU4C/8TSSMk+jDEZ3EyL9/iLb4ifvyIXrOXMmny0SF51bWyksi5eLJU5X9d3aQCwtKmc
 hosg==
X-Gm-Message-State: AOJu0YxxgxqxDPwc2gjq3p5tkNwNf/bZD7Z8KqXioeub1mSo51jEDo7K
 vOA2yNgybs3yJktkaYN39/Q7pY1X/vILSkOFMuIr4Z05fYGQZRu5VFZp2z6R+Kon2/0lrunkZUJ
 kbNbud4PlvLHW7/F8T/Pcd5kfaRd16jZ9/nMbXZhs
X-Google-Smtp-Source: AGHT+IFLsD3YvLHgZriwBFGUDgC1jOkeTyiGt/6VswX8poDTuGJehJfLmMJWGUFs9/X662ZQ5Wn8azjHCO/Q
X-Received: by 2002:a05:690c:fc3:b0:5ff:a9bc:b7f with SMTP id
 dg3-20020a05690c0fc300b005ffa9bc0b7fmr19204406ywb.21.1709761741545; 
 Wed, 06 Mar 2024 13:49:01 -0800 (PST)
Received: from postal.iol.unh.edu (postal.iol.unh.edu. [132.177.123.84])
 by smtp-relay.gmail.com with ESMTPS id
 db13-20020a05690c0dcd00b0060929b7a242sm450120ywb.78.2024.03.06.13.49.01
 (version=TLS1_2 cipher=ECDHE-ECDSA-AES128-GCM-SHA256 bits=128/128);
 Wed, 06 Mar 2024 13:49:01 -0800 (PST)
X-Relaying-Domain: iol.unh.edu
Date: Wed, 06 Mar 2024 13:49:01 -0800 (PST)
Message-ID: <65e8e4cd.050a0220.88d63.9b48SMTPIN_ADDED_MISSING@mx.google.com>
Received: from [172.17.0.6] (unknown [172.18.0.217])
 by postal.iol.unh.edu (Postfix) with ESMTP id 34DA96052712;
 Wed,  6 Mar 2024 16:49:01 -0500 (EST)
Subject: |SUCCESS| pw138055-138060 [PATCH] [v5,6/6] table: replace zero lengt
From: dpdklab@iol.unh.edu
To: Test Report <test-report@dpdk.org>
Cc: dpdk-test-reports@iol.unh.edu
In-Reply-To: <1709756036-24068-7-git-send-email-roretzla@linux.microsoft.com>
References: <1709756036-24068-7-git-send-email-roretzla@linux.microsoft.com>
Content-Type: text/plain
X-BeenThere: test-report@dpdk.org
X-Mailman-Version: 2.1.29
Precedence: list
List-Id: automatic DPDK test reports <test-report.dpdk.org>
List-Unsubscribe: <https://mails.dpdk.org/options/test-report>,
 <mailto:test-report-request@dpdk.org?subject=unsubscribe>
List-Archive: <http://mails.dpdk.org/archives/test-report/>
List-Post: <mailto:test-report@dpdk.org>
List-Help: <mailto:test-report-request@dpdk.org?subject=help>
List-Subscribe: <https://mails.dpdk.org/listinfo/test-report>,
 <mailto:test-report-request@dpdk.org?subject=subscribe>
Errors-To: test-report-bounces@dpdk.org

Test-Label: iol-compile-arm64-testing
Test-Status: SUCCESS
http://dpdk.org/patch/138060

_Testing PASS_

Submitter: Tyler Retzlaff <roretzla@linux.microsoft.com>
Date: Wednesday, March 06 2024 20:13:56 
DPDK git baseline: Repo:dpdk
  Branch: master
  CommitID:dd329b2cc53dd61156b0227b0b858f9b17215574

138055-138060 --> testing pass

Test environment and result as below:

+----------------------------------------+--------------------+
|              Environment               | dpdk_meson_compile |
+========================================+====================+
| Ubuntu 20.04 ARM SVE                   | PASS               |
+----------------------------------------+--------------------+
| Ubuntu 20.04 (ARM)                     | PASS               |
+----------------------------------------+--------------------+
| Fedora 38 (ARM)                        | PASS               |
+----------------------------------------+--------------------+
| Debian 12 (arm)                        | PASS               |
+----------------------------------------+--------------------+
| CentOS Stream 9 (ARM)                  | PASS               |
+----------------------------------------+--------------------+
| Ubuntu 20.04 aarch32 GCC Cross Compile | PASS               |
+----------------------------------------+--------------------+
| Debian 11 (Buster) (ARM)               | PASS               |
+----------------------------------------+--------------------+


Ubuntu 20.04 ARM SVE
	Kernel: 5.4.0-80-generic
	Compiler: gcc 10.3.0 (Ubuntu 10.3.0-1ubuntu1~20.04)

Ubuntu 20.04 (ARM)
	Kernel: Container Host Kernel
	Compiler: gcc 9.4.0

Fedora 38 (ARM)
	Kernel: Depends on container host
	Compiler: gcc 13.1.1

Debian 12 (arm)
	Kernel: Container Host Kernel
	Compiler: gcc 11

CentOS Stream 9 (ARM)
	Kernel: Container Host Kernel
	Compiler: gcc 11.3.1

Ubuntu 20.04 aarch32 GCC Cross Compile
	Kernel: 5.4.0-72-generic
	Compiler: gcc 9.3.0

Debian 11 (Buster) (ARM)
	Kernel: Container Host Kernel
	Compiler: gcc 10.2.1

To view detailed results, visit:
https://lab.dpdk.org/results/dashboard/patchsets/29443/

UNH-IOL DPDK Community Lab

To manage your email subscriptions, visit: 
https://lab.dpdk.org/results/dashboard/preferences/subscriptions/