From mboxrd@z Thu Jan  1 00:00:00 1970
Return-Path: <test-report-bounces@dpdk.org>
Received: from mails.dpdk.org (mails.dpdk.org [217.70.189.124])
	by inbox.dpdk.org (Postfix) with ESMTP id BD51243C62
	for <public@inbox.dpdk.org>; Wed,  6 Mar 2024 23:22:45 +0100 (CET)
Received: from mails.dpdk.org (localhost [127.0.0.1])
	by mails.dpdk.org (Postfix) with ESMTP id B6203402C0;
	Wed,  6 Mar 2024 23:22:45 +0100 (CET)
Received: from mail-pg1-f226.google.com (mail-pg1-f226.google.com
 [209.85.215.226])
 by mails.dpdk.org (Postfix) with ESMTP id 710DF400EF
 for <test-report@dpdk.org>; Wed,  6 Mar 2024 23:22:44 +0100 (CET)
Received: by mail-pg1-f226.google.com with SMTP id
 41be03b00d2f7-5e42b4bbfa4so140304a12.1
 for <test-report@dpdk.org>; Wed, 06 Mar 2024 14:22:44 -0800 (PST)
DKIM-Signature: v=1; a=rsa-sha256; c=relaxed/relaxed;
 d=iol.unh.edu; s=unh-iol; t=1709763763; x=1710368563; darn=dpdk.org;
 h=references:in-reply-to:cc:to:from:subject:message-id:date:from:to
 :cc:subject:date:message-id:reply-to;
 bh=r3uLn2TqmBe1xD3LJwtL7ABchLXaxb8exyv/6BnogMI=;
 b=Gz3Si77cNR0CFtkcjiDQtdicUqScF0SAJDb0Q8FdrM85ROUs4icpR6qMwqIHnzhPd0
 bp9T+6vqMfBmrxPAJzQ6H5tV+NW1OBGg+IvSXkRzi917fFtQz4UC/3TDw+ssKiqrY+G8
 bTGuQcyT9NHZvRD5Hp6WWyonEhS6GCxpRgDis=
X-Google-DKIM-Signature: v=1; a=rsa-sha256; c=relaxed/relaxed;
 d=1e100.net; s=20230601; t=1709763763; x=1710368563;
 h=references:in-reply-to:cc:to:from:subject:message-id:date
 :x-gm-message-state:from:to:cc:subject:date:message-id:reply-to;
 bh=r3uLn2TqmBe1xD3LJwtL7ABchLXaxb8exyv/6BnogMI=;
 b=k0muDqxgjuq2l8P2f6BTjddsAA9I1o1PNbEyc7PxrEmQ8AAVxuIrmD5wYu0FOs45hL
 YSRP6A4ZSO2wcFs9eFSIpuKRxh/zzy6ZrzVK6ezDbu8vtbCZFjUzVq5M3YGdydT31cYk
 Q/mVqZTfrjXUJgBQMAaZxlNWmia8TQReCRxqSbFn7t5iGI2Z6CZPzBZIwSm02DFVlpLm
 OHcEgKdjLjKPZnyMnpON/boaVdq6VZH5LU1xSvcAM9ovrCkEbi4r7gBu/CcplQwqtcDT
 zK7xdEHjMvGyKYSTLSleOM2v2bOmwzuaBQMm7drF3XOZpU07NvW5YiiBrG3dB7EtsDBZ
 k8xg==
X-Gm-Message-State: AOJu0YxCECsEMO+a68txPzgenmSwqbkPP9/T/BXeGuqX1I9vW5/KZJu9
 Eq4rQhsFh6SlRuvDBTBJQQMOaTUe9ySNu89zpado4lxFbSYIREtEwnfwEhslmMkzc6zdBdYpUri
 tIk9iGm75WG4yakm1JRoX4cGXW3pzR/iLY5Em049cQhlFxaSvinYpmE3x
X-Google-Smtp-Source: AGHT+IEzgW1XEU8qpYqlQGhR/rYxz5OwfrdOBUn6qk/Ehj2+soTXKW6w3ruXy+pJQnFYHDlH/WHoMOkCAaCQ
X-Received: by 2002:a05:6a20:b04:b0:1a1:47c6:a495 with SMTP id
 x4-20020a056a200b0400b001a147c6a495mr4735686pzf.43.1709763763369; 
 Wed, 06 Mar 2024 14:22:43 -0800 (PST)
Received: from postal.iol.unh.edu (postal.iol.unh.edu.
 [2606:4100:3880:1234::84]) by smtp-relay.gmail.com with ESMTPS id
 ka12-20020a056a00938c00b006e655ab3e09sm43381pfb.25.2024.03.06.14.22.43
 (version=TLS1_2 cipher=ECDHE-ECDSA-AES128-GCM-SHA256 bits=128/128);
 Wed, 06 Mar 2024 14:22:43 -0800 (PST)
X-Relaying-Domain: iol.unh.edu
Date: Wed, 06 Mar 2024 14:22:43 -0800 (PST)
Message-ID: <65e8ecb3.050a0220.e7f24.2264SMTPIN_ADDED_MISSING@mx.google.com>
Received: from [172.17.0.8] (unknown [172.18.0.217])
 by postal.iol.unh.edu (Postfix) with ESMTP id 73E006052712;
 Wed,  6 Mar 2024 17:22:42 -0500 (EST)
Subject: |SUCCESS| pw138055-138060 [PATCH] [v5,6/6] table: replace zero lengt
From: dpdklab@iol.unh.edu
To: Test Report <test-report@dpdk.org>
Cc: dpdk-test-reports@iol.unh.edu
In-Reply-To: <1709756036-24068-7-git-send-email-roretzla@linux.microsoft.com>
References: <1709756036-24068-7-git-send-email-roretzla@linux.microsoft.com>
Content-Type: text/plain
X-BeenThere: test-report@dpdk.org
X-Mailman-Version: 2.1.29
Precedence: list
List-Id: automatic DPDK test reports <test-report.dpdk.org>
List-Unsubscribe: <https://mails.dpdk.org/options/test-report>,
 <mailto:test-report-request@dpdk.org?subject=unsubscribe>
List-Archive: <http://mails.dpdk.org/archives/test-report/>
List-Post: <mailto:test-report@dpdk.org>
List-Help: <mailto:test-report-request@dpdk.org?subject=help>
List-Subscribe: <https://mails.dpdk.org/listinfo/test-report>,
 <mailto:test-report-request@dpdk.org?subject=subscribe>
Errors-To: test-report-bounces@dpdk.org

Test-Label: iol-unit-arm64-testing
Test-Status: SUCCESS
http://dpdk.org/patch/138060

_Testing PASS_

Submitter: Tyler Retzlaff <roretzla@linux.microsoft.com>
Date: Wednesday, March 06 2024 20:13:56 
DPDK git baseline: Repo:dpdk
  Branch: master
  CommitID:dd329b2cc53dd61156b0227b0b858f9b17215574

138055-138060 --> testing pass

Test environment and result as below:

+--------------------------+--------------+----------------+
|       Environment        | lpm_autotest | dpdk_unit_test |
+==========================+==============+================+
| Ubuntu 20.04 ARM SVE     | PASS         | SKIPPED        |
+--------------------------+--------------+----------------+
| Debian 11 (Buster) (ARM) | SKIPPED      | PASS           |
+--------------------------+--------------+----------------+
| CentOS Stream 9 (ARM)    | SKIPPED      | PASS           |
+--------------------------+--------------+----------------+
| Fedora 38 (ARM)          | SKIPPED      | PASS           |
+--------------------------+--------------+----------------+
| Fedora 37 (ARM)          | SKIPPED      | PASS           |
+--------------------------+--------------+----------------+


Ubuntu 20.04 ARM SVE
	Kernel: 5.4.0-80-generic
	Compiler: gcc 10.3.0 (Ubuntu 10.3.0-1ubuntu1~20.04)

Debian 11 (Buster) (ARM)
	Kernel: Container Host Kernel
	Compiler: gcc 10.2.1

CentOS Stream 9 (ARM)
	Kernel: Container Host Kernel
	Compiler: gcc 11.3.1

Fedora 38 (ARM)
	Kernel: Depends on container host
	Compiler: gcc 13.1.1

Fedora 37 (ARM)
	Kernel: Depends on container host
	Compiler: gcc 12.3.1

To view detailed results, visit:
https://lab.dpdk.org/results/dashboard/patchsets/29443/

UNH-IOL DPDK Community Lab

To manage your email subscriptions, visit: 
https://lab.dpdk.org/results/dashboard/preferences/subscriptions/